BEGIN:VCALENDAR
VERSION:2.0
PRODID:-//Guia Friburgo - ECPv6.15.11//NONSGML v1.0//EN
CALSCALE:GREGORIAN
METHOD:PUBLISH
X-ORIGINAL-URL:https://guiafriburgo.com.br
X-WR-CALDESC:Eventos para Guia Friburgo
REFRESH-INTERVAL;VALUE=DURATION:PT1H
X-Robots-Tag:noindex
X-PUBLISHED-TTL:PT1H
BEGIN:VTIMEZONE
TZID:America/Sao_Paulo
BEGIN:STANDARD
TZOFFSETFROM:-0300
TZOFFSETTO:-0300
TZNAME:-03
DTSTART:20240101T000000
END:STANDARD
END:VTIMEZONE
BEGIN:VEVENT
DTSTART;TZID=America/Sao_Paulo:20251010T204000
DTEND;TZID=America/Sao_Paulo:20251010T230000
DTSTAMP:20260421T141911
CREATED:20250929T083114Z
LAST-MODIFIED:20251005T175456Z
UID:10000005-1760128800-1760137200@guiafriburgo.com.br
SUMMARY:Demon Slayer: Kimetsu no Yaiba Castelo Infinito (DUB)
DESCRIPTION:20h40 – 18 anos
URL:https://guiafriburgo.com.br/evento/demon-slayer-kimetsu-no-yaiba-castelo-infinito-dub/
CATEGORIES:Cinema
ATTACH;FMTTYPE=image/webp:https://guiafriburgo.com.br/wp-content/uploads/2025/09/demon.webp
ORGANIZER;CN="Cine Show %E2%80%93 Cadima Shopping":MAILTO:contato@cineshow.com.br
END:VEVENT
END:VCALENDAR