BEGIN:VCALENDAR
VERSION:2.0
PRODID:-//Guia Friburgo - ECPv6.15.11//NONSGML v1.0//EN
CALSCALE:GREGORIAN
METHOD:PUBLISH
X-ORIGINAL-URL:https://guiafriburgo.com.br
X-WR-CALDESC:Eventos para Guia Friburgo
REFRESH-INTERVAL;VALUE=DURATION:PT1H
X-Robots-Tag:noindex
X-PUBLISHED-TTL:PT1H
BEGIN:VTIMEZONE
TZID:America/Sao_Paulo
BEGIN:STANDARD
TZOFFSETFROM:-0300
TZOFFSETTO:-0300
TZNAME:-03
DTSTART:20240101T000000
END:STANDARD
END:VTIMEZONE
BEGIN:VEVENT
DTSTART;TZID=America/Sao_Paulo:20250918T080000
DTEND;TZID=America/Sao_Paulo:20251015T170000
DTSTAMP:20260421T152550
CREATED:20250921T231139Z
LAST-MODIFIED:20251005T175643Z
UID:10000001-1758182400-1760547600@guiafriburgo.com.br
SUMMARY:Luzes da Memória
DESCRIPTION:Até está sexta-feira\, 19\, estará em cartaz na Usina Cultural Energisa (Praça Getúlio Vargas\, 55)\, a exposição “Lux – Luzes da Memória”\, a mais recente mostra do Projeto Resistência Artística. A visitação é gratuita\, com classificação livre\, de terça a sábado\, das 13h às 20h.
URL:https://guiafriburgo.com.br/evento/luzes-da-memoria/
LOCATION:Usina Cultural\, Praça Getúlio Vargas\, 55\, nova friburgo\, Brazil
CATEGORIES:Exposiçao
END:VEVENT
END:VCALENDAR