BEGIN:VCALENDAR
VERSION:2.0
PRODID:-//Guia Friburgo - ECPv6.15.11//NONSGML v1.0//EN
CALSCALE:GREGORIAN
METHOD:PUBLISH
X-ORIGINAL-URL:https://guiafriburgo.com.br
X-WR-CALDESC:Eventos para Guia Friburgo
REFRESH-INTERVAL;VALUE=DURATION:PT1H
X-Robots-Tag:noindex
X-PUBLISHED-TTL:PT1H
BEGIN:VTIMEZONE
TZID:America/Sao_Paulo
BEGIN:STANDARD
TZOFFSETFROM:-0300
TZOFFSETTO:-0300
TZNAME:-03
DTSTART:20250101T000000
END:STANDARD
END:VTIMEZONE
BEGIN:VEVENT
DTSTART;TZID=America/Sao_Paulo:20260506T080000
DTEND;TZID=America/Sao_Paulo:20260527T170000
DTSTAMP:20260421T154707
CREATED:20251005T183109Z
LAST-MODIFIED:20251005T183109Z
UID:10000222-1778054400-1779901200@guiafriburgo.com.br
SUMMARY:10ª Feira Literária
DESCRIPTION:
URL:https://guiafriburgo.com.br/evento/10a-feira-literaria/2026-05-06/
LOCATION:Praça Getúlio Vargas\, Praça Getúlio Vargas\, Nova Friburgo\, Rio de Janeiro\, 28625-030\,\, Brazil
CATEGORIES:Diversos
ATTACH;FMTTYPE=image/jpeg:https://guiafriburgo.com.br/wp-content/uploads/2025/10/events-bg.jpg
END:VEVENT
BEGIN:VEVENT
DTSTART;TZID=America/Sao_Paulo:20260507T080000
DTEND;TZID=America/Sao_Paulo:20260528T170000
DTSTAMP:20260421T154707
CREATED:20251005T183109Z
LAST-MODIFIED:20251005T183109Z
UID:10000223-1778140800-1779987600@guiafriburgo.com.br
SUMMARY:10ª Feira Literária
DESCRIPTION:
URL:https://guiafriburgo.com.br/evento/10a-feira-literaria/2026-05-07/
LOCATION:Praça Getúlio Vargas\, Praça Getúlio Vargas\, Nova Friburgo\, Rio de Janeiro\, 28625-030\,\, Brazil
CATEGORIES:Diversos
ATTACH;FMTTYPE=image/jpeg:https://guiafriburgo.com.br/wp-content/uploads/2025/10/events-bg.jpg
END:VEVENT
BEGIN:VEVENT
DTSTART;TZID=America/Sao_Paulo:20260508T080000
DTEND;TZID=America/Sao_Paulo:20260529T170000
DTSTAMP:20260421T154707
CREATED:20251005T183109Z
LAST-MODIFIED:20251005T183109Z
UID:10000224-1778227200-1780074000@guiafriburgo.com.br
SUMMARY:10ª Feira Literária
DESCRIPTION:
URL:https://guiafriburgo.com.br/evento/10a-feira-literaria/2026-05-08/
LOCATION:Praça Getúlio Vargas\, Praça Getúlio Vargas\, Nova Friburgo\, Rio de Janeiro\, 28625-030\,\, Brazil
CATEGORIES:Diversos
ATTACH;FMTTYPE=image/jpeg:https://guiafriburgo.com.br/wp-content/uploads/2025/10/events-bg.jpg
END:VEVENT
BEGIN:VEVENT
DTSTART;TZID=America/Sao_Paulo:20260509T080000
DTEND;TZID=America/Sao_Paulo:20260530T170000
DTSTAMP:20260421T154707
CREATED:20251005T183109Z
LAST-MODIFIED:20251005T183109Z
UID:10000225-1778313600-1780160400@guiafriburgo.com.br
SUMMARY:10ª Feira Literária
DESCRIPTION:
URL:https://guiafriburgo.com.br/evento/10a-feira-literaria/2026-05-09/
LOCATION:Praça Getúlio Vargas\, Praça Getúlio Vargas\, Nova Friburgo\, Rio de Janeiro\, 28625-030\,\, Brazil
CATEGORIES:Diversos
ATTACH;FMTTYPE=image/jpeg:https://guiafriburgo.com.br/wp-content/uploads/2025/10/events-bg.jpg
END:VEVENT
BEGIN:VEVENT
DTSTART;TZID=America/Sao_Paulo:20260510T080000
DTEND;TZID=America/Sao_Paulo:20260531T170000
DTSTAMP:20260421T154707
CREATED:20251005T183109Z
LAST-MODIFIED:20251005T183109Z
UID:10000226-1778400000-1780246800@guiafriburgo.com.br
SUMMARY:10ª Feira Literária
DESCRIPTION:
URL:https://guiafriburgo.com.br/evento/10a-feira-literaria/2026-05-10/
LOCATION:Praça Getúlio Vargas\, Praça Getúlio Vargas\, Nova Friburgo\, Rio de Janeiro\, 28625-030\,\, Brazil
CATEGORIES:Diversos
ATTACH;FMTTYPE=image/jpeg:https://guiafriburgo.com.br/wp-content/uploads/2025/10/events-bg.jpg
END:VEVENT
BEGIN:VEVENT
DTSTART;TZID=America/Sao_Paulo:20260511T080000
DTEND;TZID=America/Sao_Paulo:20260601T170000
DTSTAMP:20260421T154707
CREATED:20251005T183109Z
LAST-MODIFIED:20251005T183109Z
UID:10000227-1778486400-1780333200@guiafriburgo.com.br
SUMMARY:10ª Feira Literária
DESCRIPTION:
URL:https://guiafriburgo.com.br/evento/10a-feira-literaria/2026-05-11/
LOCATION:Praça Getúlio Vargas\, Praça Getúlio Vargas\, Nova Friburgo\, Rio de Janeiro\, 28625-030\,\, Brazil
CATEGORIES:Diversos
ATTACH;FMTTYPE=image/jpeg:https://guiafriburgo.com.br/wp-content/uploads/2025/10/events-bg.jpg
END:VEVENT
BEGIN:VEVENT
DTSTART;TZID=America/Sao_Paulo:20260512T080000
DTEND;TZID=America/Sao_Paulo:20260602T170000
DTSTAMP:20260421T154707
CREATED:20251005T183109Z
LAST-MODIFIED:20251005T183109Z
UID:10000228-1778572800-1780419600@guiafriburgo.com.br
SUMMARY:10ª Feira Literária
DESCRIPTION:
URL:https://guiafriburgo.com.br/evento/10a-feira-literaria/2026-05-12/
LOCATION:Praça Getúlio Vargas\, Praça Getúlio Vargas\, Nova Friburgo\, Rio de Janeiro\, 28625-030\,\, Brazil
CATEGORIES:Diversos
ATTACH;FMTTYPE=image/jpeg:https://guiafriburgo.com.br/wp-content/uploads/2025/10/events-bg.jpg
END:VEVENT
BEGIN:VEVENT
DTSTART;TZID=America/Sao_Paulo:20260513T080000
DTEND;TZID=America/Sao_Paulo:20260603T170000
DTSTAMP:20260421T154707
CREATED:20251005T183109Z
LAST-MODIFIED:20251005T183109Z
UID:10000229-1778659200-1780506000@guiafriburgo.com.br
SUMMARY:10ª Feira Literária
DESCRIPTION:
URL:https://guiafriburgo.com.br/evento/10a-feira-literaria/2026-05-13/
LOCATION:Praça Getúlio Vargas\, Praça Getúlio Vargas\, Nova Friburgo\, Rio de Janeiro\, 28625-030\,\, Brazil
CATEGORIES:Diversos
ATTACH;FMTTYPE=image/jpeg:https://guiafriburgo.com.br/wp-content/uploads/2025/10/events-bg.jpg
END:VEVENT
BEGIN:VEVENT
DTSTART;TZID=America/Sao_Paulo:20260514T080000
DTEND;TZID=America/Sao_Paulo:20260604T170000
DTSTAMP:20260421T154707
CREATED:20251005T183109Z
LAST-MODIFIED:20251005T183109Z
UID:10000230-1778745600-1780592400@guiafriburgo.com.br
SUMMARY:10ª Feira Literária
DESCRIPTION:
URL:https://guiafriburgo.com.br/evento/10a-feira-literaria/2026-05-14/
LOCATION:Praça Getúlio Vargas\, Praça Getúlio Vargas\, Nova Friburgo\, Rio de Janeiro\, 28625-030\,\, Brazil
CATEGORIES:Diversos
ATTACH;FMTTYPE=image/jpeg:https://guiafriburgo.com.br/wp-content/uploads/2025/10/events-bg.jpg
END:VEVENT
BEGIN:VEVENT
DTSTART;TZID=America/Sao_Paulo:20260515T080000
DTEND;TZID=America/Sao_Paulo:20260605T170000
DTSTAMP:20260421T154707
CREATED:20251005T183109Z
LAST-MODIFIED:20251005T183109Z
UID:10000231-1778832000-1780678800@guiafriburgo.com.br
SUMMARY:10ª Feira Literária
DESCRIPTION:
URL:https://guiafriburgo.com.br/evento/10a-feira-literaria/2026-05-15/
LOCATION:Praça Getúlio Vargas\, Praça Getúlio Vargas\, Nova Friburgo\, Rio de Janeiro\, 28625-030\,\, Brazil
CATEGORIES:Diversos
ATTACH;FMTTYPE=image/jpeg:https://guiafriburgo.com.br/wp-content/uploads/2025/10/events-bg.jpg
END:VEVENT
BEGIN:VEVENT
DTSTART;TZID=America/Sao_Paulo:20260516T080000
DTEND;TZID=America/Sao_Paulo:20260606T170000
DTSTAMP:20260421T154707
CREATED:20251005T183109Z
LAST-MODIFIED:20251005T183109Z
UID:10000232-1778918400-1780765200@guiafriburgo.com.br
SUMMARY:10ª Feira Literária
DESCRIPTION:
URL:https://guiafriburgo.com.br/evento/10a-feira-literaria/2026-05-16/
LOCATION:Praça Getúlio Vargas\, Praça Getúlio Vargas\, Nova Friburgo\, Rio de Janeiro\, 28625-030\,\, Brazil
CATEGORIES:Diversos
ATTACH;FMTTYPE=image/jpeg:https://guiafriburgo.com.br/wp-content/uploads/2025/10/events-bg.jpg
END:VEVENT
BEGIN:VEVENT
DTSTART;TZID=America/Sao_Paulo:20260517T080000
DTEND;TZID=America/Sao_Paulo:20260607T170000
DTSTAMP:20260421T154707
CREATED:20251005T183109Z
LAST-MODIFIED:20251005T183109Z
UID:10000233-1779004800-1780851600@guiafriburgo.com.br
SUMMARY:10ª Feira Literária
DESCRIPTION:
URL:https://guiafriburgo.com.br/evento/10a-feira-literaria/2026-05-17/
LOCATION:Praça Getúlio Vargas\, Praça Getúlio Vargas\, Nova Friburgo\, Rio de Janeiro\, 28625-030\,\, Brazil
CATEGORIES:Diversos
ATTACH;FMTTYPE=image/jpeg:https://guiafriburgo.com.br/wp-content/uploads/2025/10/events-bg.jpg
END:VEVENT
BEGIN:VEVENT
DTSTART;TZID=America/Sao_Paulo:20260518T080000
DTEND;TZID=America/Sao_Paulo:20260608T170000
DTSTAMP:20260421T154707
CREATED:20251005T183109Z
LAST-MODIFIED:20251005T183109Z
UID:10000234-1779091200-1780938000@guiafriburgo.com.br
SUMMARY:10ª Feira Literária
DESCRIPTION:
URL:https://guiafriburgo.com.br/evento/10a-feira-literaria/2026-05-18/
LOCATION:Praça Getúlio Vargas\, Praça Getúlio Vargas\, Nova Friburgo\, Rio de Janeiro\, 28625-030\,\, Brazil
CATEGORIES:Diversos
ATTACH;FMTTYPE=image/jpeg:https://guiafriburgo.com.br/wp-content/uploads/2025/10/events-bg.jpg
END:VEVENT
BEGIN:VEVENT
DTSTART;TZID=America/Sao_Paulo:20260519T080000
DTEND;TZID=America/Sao_Paulo:20260609T170000
DTSTAMP:20260421T154707
CREATED:20251005T183109Z
LAST-MODIFIED:20251005T183109Z
UID:10000235-1779177600-1781024400@guiafriburgo.com.br
SUMMARY:10ª Feira Literária
DESCRIPTION:
URL:https://guiafriburgo.com.br/evento/10a-feira-literaria/2026-05-19/
LOCATION:Praça Getúlio Vargas\, Praça Getúlio Vargas\, Nova Friburgo\, Rio de Janeiro\, 28625-030\,\, Brazil
CATEGORIES:Diversos
ATTACH;FMTTYPE=image/jpeg:https://guiafriburgo.com.br/wp-content/uploads/2025/10/events-bg.jpg
END:VEVENT
BEGIN:VEVENT
DTSTART;TZID=America/Sao_Paulo:20260520T080000
DTEND;TZID=America/Sao_Paulo:20260610T170000
DTSTAMP:20260421T154707
CREATED:20251005T183109Z
LAST-MODIFIED:20251005T183109Z
UID:10000236-1779264000-1781110800@guiafriburgo.com.br
SUMMARY:10ª Feira Literária
DESCRIPTION:
URL:https://guiafriburgo.com.br/evento/10a-feira-literaria/2026-05-20/
LOCATION:Praça Getúlio Vargas\, Praça Getúlio Vargas\, Nova Friburgo\, Rio de Janeiro\, 28625-030\,\, Brazil
CATEGORIES:Diversos
ATTACH;FMTTYPE=image/jpeg:https://guiafriburgo.com.br/wp-content/uploads/2025/10/events-bg.jpg
END:VEVENT
BEGIN:VEVENT
DTSTART;TZID=America/Sao_Paulo:20260521T080000
DTEND;TZID=America/Sao_Paulo:20260611T170000
DTSTAMP:20260421T154707
CREATED:20251005T183109Z
LAST-MODIFIED:20251005T183109Z
UID:10000237-1779350400-1781197200@guiafriburgo.com.br
SUMMARY:10ª Feira Literária
DESCRIPTION:
URL:https://guiafriburgo.com.br/evento/10a-feira-literaria/2026-05-21/
LOCATION:Praça Getúlio Vargas\, Praça Getúlio Vargas\, Nova Friburgo\, Rio de Janeiro\, 28625-030\,\, Brazil
CATEGORIES:Diversos
ATTACH;FMTTYPE=image/jpeg:https://guiafriburgo.com.br/wp-content/uploads/2025/10/events-bg.jpg
END:VEVENT
BEGIN:VEVENT
DTSTART;TZID=America/Sao_Paulo:20260522T080000
DTEND;TZID=America/Sao_Paulo:20260612T170000
DTSTAMP:20260421T154707
CREATED:20251005T183109Z
LAST-MODIFIED:20251005T183109Z
UID:10000238-1779436800-1781283600@guiafriburgo.com.br
SUMMARY:10ª Feira Literária
DESCRIPTION:
URL:https://guiafriburgo.com.br/evento/10a-feira-literaria/2026-05-22/
LOCATION:Praça Getúlio Vargas\, Praça Getúlio Vargas\, Nova Friburgo\, Rio de Janeiro\, 28625-030\,\, Brazil
CATEGORIES:Diversos
ATTACH;FMTTYPE=image/jpeg:https://guiafriburgo.com.br/wp-content/uploads/2025/10/events-bg.jpg
END:VEVENT
BEGIN:VEVENT
DTSTART;TZID=America/Sao_Paulo:20260523T080000
DTEND;TZID=America/Sao_Paulo:20260613T170000
DTSTAMP:20260421T154707
CREATED:20251005T183109Z
LAST-MODIFIED:20251005T183109Z
UID:10000239-1779523200-1781370000@guiafriburgo.com.br
SUMMARY:10ª Feira Literária
DESCRIPTION:
URL:https://guiafriburgo.com.br/evento/10a-feira-literaria/2026-05-23/
LOCATION:Praça Getúlio Vargas\, Praça Getúlio Vargas\, Nova Friburgo\, Rio de Janeiro\, 28625-030\,\, Brazil
CATEGORIES:Diversos
ATTACH;FMTTYPE=image/jpeg:https://guiafriburgo.com.br/wp-content/uploads/2025/10/events-bg.jpg
END:VEVENT
BEGIN:VEVENT
DTSTART;TZID=America/Sao_Paulo:20260524T080000
DTEND;TZID=America/Sao_Paulo:20260614T170000
DTSTAMP:20260421T154707
CREATED:20251005T183109Z
LAST-MODIFIED:20251005T183109Z
UID:10000240-1779609600-1781456400@guiafriburgo.com.br
SUMMARY:10ª Feira Literária
DESCRIPTION:
URL:https://guiafriburgo.com.br/evento/10a-feira-literaria/2026-05-24/
LOCATION:Praça Getúlio Vargas\, Praça Getúlio Vargas\, Nova Friburgo\, Rio de Janeiro\, 28625-030\,\, Brazil
CATEGORIES:Diversos
ATTACH;FMTTYPE=image/jpeg:https://guiafriburgo.com.br/wp-content/uploads/2025/10/events-bg.jpg
END:VEVENT
BEGIN:VEVENT
DTSTART;TZID=America/Sao_Paulo:20260525T080000
DTEND;TZID=America/Sao_Paulo:20260615T170000
DTSTAMP:20260421T154707
CREATED:20251005T183109Z
LAST-MODIFIED:20251005T183109Z
UID:10000241-1779696000-1781542800@guiafriburgo.com.br
SUMMARY:10ª Feira Literária
DESCRIPTION:
URL:https://guiafriburgo.com.br/evento/10a-feira-literaria/2026-05-25/
LOCATION:Praça Getúlio Vargas\, Praça Getúlio Vargas\, Nova Friburgo\, Rio de Janeiro\, 28625-030\,\, Brazil
CATEGORIES:Diversos
ATTACH;FMTTYPE=image/jpeg:https://guiafriburgo.com.br/wp-content/uploads/2025/10/events-bg.jpg
END:VEVENT
BEGIN:VEVENT
DTSTART;TZID=America/Sao_Paulo:20260526T080000
DTEND;TZID=America/Sao_Paulo:20260616T170000
DTSTAMP:20260421T154707
CREATED:20251005T183109Z
LAST-MODIFIED:20251005T183109Z
UID:10000242-1779782400-1781629200@guiafriburgo.com.br
SUMMARY:10ª Feira Literária
DESCRIPTION:
URL:https://guiafriburgo.com.br/evento/10a-feira-literaria/2026-05-26/
LOCATION:Praça Getúlio Vargas\, Praça Getúlio Vargas\, Nova Friburgo\, Rio de Janeiro\, 28625-030\,\, Brazil
CATEGORIES:Diversos
ATTACH;FMTTYPE=image/jpeg:https://guiafriburgo.com.br/wp-content/uploads/2025/10/events-bg.jpg
END:VEVENT
BEGIN:VEVENT
DTSTART;TZID=America/Sao_Paulo:20260527T080000
DTEND;TZID=America/Sao_Paulo:20260617T170000
DTSTAMP:20260421T154707
CREATED:20251005T183109Z
LAST-MODIFIED:20251005T183109Z
UID:10000243-1779868800-1781715600@guiafriburgo.com.br
SUMMARY:10ª Feira Literária
DESCRIPTION:
URL:https://guiafriburgo.com.br/evento/10a-feira-literaria/2026-05-27/
LOCATION:Praça Getúlio Vargas\, Praça Getúlio Vargas\, Nova Friburgo\, Rio de Janeiro\, 28625-030\,\, Brazil
CATEGORIES:Diversos
ATTACH;FMTTYPE=image/jpeg:https://guiafriburgo.com.br/wp-content/uploads/2025/10/events-bg.jpg
END:VEVENT
BEGIN:VEVENT
DTSTART;TZID=America/Sao_Paulo:20260528T080000
DTEND;TZID=America/Sao_Paulo:20260618T170000
DTSTAMP:20260421T154707
CREATED:20251005T183109Z
LAST-MODIFIED:20251005T183109Z
UID:10000244-1779955200-1781802000@guiafriburgo.com.br
SUMMARY:10ª Feira Literária
DESCRIPTION:
URL:https://guiafriburgo.com.br/evento/10a-feira-literaria/2026-05-28/
LOCATION:Praça Getúlio Vargas\, Praça Getúlio Vargas\, Nova Friburgo\, Rio de Janeiro\, 28625-030\,\, Brazil
CATEGORIES:Diversos
ATTACH;FMTTYPE=image/jpeg:https://guiafriburgo.com.br/wp-content/uploads/2025/10/events-bg.jpg
END:VEVENT
BEGIN:VEVENT
DTSTART;TZID=America/Sao_Paulo:20260529T080000
DTEND;TZID=America/Sao_Paulo:20260619T170000
DTSTAMP:20260421T154707
CREATED:20251005T183109Z
LAST-MODIFIED:20251005T183109Z
UID:10000245-1780041600-1781888400@guiafriburgo.com.br
SUMMARY:10ª Feira Literária
DESCRIPTION:
URL:https://guiafriburgo.com.br/evento/10a-feira-literaria/2026-05-29/
LOCATION:Praça Getúlio Vargas\, Praça Getúlio Vargas\, Nova Friburgo\, Rio de Janeiro\, 28625-030\,\, Brazil
CATEGORIES:Diversos
ATTACH;FMTTYPE=image/jpeg:https://guiafriburgo.com.br/wp-content/uploads/2025/10/events-bg.jpg
END:VEVENT
BEGIN:VEVENT
DTSTART;TZID=America/Sao_Paulo:20260530T080000
DTEND;TZID=America/Sao_Paulo:20260620T170000
DTSTAMP:20260421T154707
CREATED:20251005T183109Z
LAST-MODIFIED:20251005T183109Z
UID:10000246-1780128000-1781974800@guiafriburgo.com.br
SUMMARY:10ª Feira Literária
DESCRIPTION:
URL:https://guiafriburgo.com.br/evento/10a-feira-literaria/2026-05-30/
LOCATION:Praça Getúlio Vargas\, Praça Getúlio Vargas\, Nova Friburgo\, Rio de Janeiro\, 28625-030\,\, Brazil
CATEGORIES:Diversos
ATTACH;FMTTYPE=image/jpeg:https://guiafriburgo.com.br/wp-content/uploads/2025/10/events-bg.jpg
END:VEVENT
BEGIN:VEVENT
DTSTART;TZID=America/Sao_Paulo:20260531T080000
DTEND;TZID=America/Sao_Paulo:20260621T170000
DTSTAMP:20260421T154707
CREATED:20251005T183109Z
LAST-MODIFIED:20251005T183109Z
UID:10000247-1780214400-1782061200@guiafriburgo.com.br
SUMMARY:10ª Feira Literária
DESCRIPTION:
URL:https://guiafriburgo.com.br/evento/10a-feira-literaria/2026-05-31/
LOCATION:Praça Getúlio Vargas\, Praça Getúlio Vargas\, Nova Friburgo\, Rio de Janeiro\, 28625-030\,\, Brazil
CATEGORIES:Diversos
ATTACH;FMTTYPE=image/jpeg:https://guiafriburgo.com.br/wp-content/uploads/2025/10/events-bg.jpg
END:VEVENT
BEGIN:VEVENT
DTSTART;TZID=America/Sao_Paulo:20260601T080000
DTEND;TZID=America/Sao_Paulo:20260622T170000
DTSTAMP:20260421T154707
CREATED:20251005T183109Z
LAST-MODIFIED:20251005T183109Z
UID:10000248-1780300800-1782147600@guiafriburgo.com.br
SUMMARY:10ª Feira Literária
DESCRIPTION:
URL:https://guiafriburgo.com.br/evento/10a-feira-literaria/2026-06-01/
LOCATION:Praça Getúlio Vargas\, Praça Getúlio Vargas\, Nova Friburgo\, Rio de Janeiro\, 28625-030\,\, Brazil
CATEGORIES:Diversos
ATTACH;FMTTYPE=image/jpeg:https://guiafriburgo.com.br/wp-content/uploads/2025/10/events-bg.jpg
END:VEVENT
BEGIN:VEVENT
DTSTART;TZID=America/Sao_Paulo:20260602T080000
DTEND;TZID=America/Sao_Paulo:20260623T170000
DTSTAMP:20260421T154707
CREATED:20251005T183109Z
LAST-MODIFIED:20251005T183109Z
UID:10000249-1780387200-1782234000@guiafriburgo.com.br
SUMMARY:10ª Feira Literária
DESCRIPTION:
URL:https://guiafriburgo.com.br/evento/10a-feira-literaria/2026-06-02/
LOCATION:Praça Getúlio Vargas\, Praça Getúlio Vargas\, Nova Friburgo\, Rio de Janeiro\, 28625-030\,\, Brazil
CATEGORIES:Diversos
ATTACH;FMTTYPE=image/jpeg:https://guiafriburgo.com.br/wp-content/uploads/2025/10/events-bg.jpg
END:VEVENT
BEGIN:VEVENT
DTSTART;TZID=America/Sao_Paulo:20260603T080000
DTEND;TZID=America/Sao_Paulo:20260624T170000
DTSTAMP:20260421T154707
CREATED:20251005T183109Z
LAST-MODIFIED:20251005T183109Z
UID:10000250-1780473600-1782320400@guiafriburgo.com.br
SUMMARY:10ª Feira Literária
DESCRIPTION:
URL:https://guiafriburgo.com.br/evento/10a-feira-literaria/2026-06-03/
LOCATION:Praça Getúlio Vargas\, Praça Getúlio Vargas\, Nova Friburgo\, Rio de Janeiro\, 28625-030\,\, Brazil
CATEGORIES:Diversos
ATTACH;FMTTYPE=image/jpeg:https://guiafriburgo.com.br/wp-content/uploads/2025/10/events-bg.jpg
END:VEVENT
BEGIN:VEVENT
DTSTART;TZID=America/Sao_Paulo:20260604T080000
DTEND;TZID=America/Sao_Paulo:20260625T170000
DTSTAMP:20260421T154707
CREATED:20251005T183109Z
LAST-MODIFIED:20251005T183109Z
UID:10000251-1780560000-1782406800@guiafriburgo.com.br
SUMMARY:10ª Feira Literária
DESCRIPTION:
URL:https://guiafriburgo.com.br/evento/10a-feira-literaria/2026-06-04/
LOCATION:Praça Getúlio Vargas\, Praça Getúlio Vargas\, Nova Friburgo\, Rio de Janeiro\, 28625-030\,\, Brazil
CATEGORIES:Diversos
ATTACH;FMTTYPE=image/jpeg:https://guiafriburgo.com.br/wp-content/uploads/2025/10/events-bg.jpg
END:VEVENT
END:VCALENDAR