BEGIN:VCALENDAR
VERSION:2.0
PRODID:-//Guia Friburgo - ECPv6.15.11//NONSGML v1.0//EN
CALSCALE:GREGORIAN
METHOD:PUBLISH
X-ORIGINAL-URL:https://guiafriburgo.com.br
X-WR-CALDESC:Eventos para Guia Friburgo
REFRESH-INTERVAL;VALUE=DURATION:PT1H
X-Robots-Tag:noindex
X-PUBLISHED-TTL:PT1H
BEGIN:VTIMEZONE
TZID:America/Sao_Paulo
BEGIN:STANDARD
TZOFFSETFROM:-0300
TZOFFSETTO:-0300
TZNAME:-03
DTSTART:20250101T000000
END:STANDARD
END:VTIMEZONE
BEGIN:VEVENT
DTSTART;TZID=America/Sao_Paulo:20260223T080000
DTEND;TZID=America/Sao_Paulo:20260316T170000
DTSTAMP:20260421T174224
CREATED:20251005T183109Z
LAST-MODIFIED:20251005T183109Z
UID:10000150-1771833600-1773680400@guiafriburgo.com.br
SUMMARY:10ª Feira Literária
DESCRIPTION:
URL:https://guiafriburgo.com.br/evento/10a-feira-literaria/2026-02-23/
LOCATION:Praça Getúlio Vargas\, Praça Getúlio Vargas\, Nova Friburgo\, Rio de Janeiro\, 28625-030\,\, Brazil
CATEGORIES:Diversos
ATTACH;FMTTYPE=image/jpeg:https://guiafriburgo.com.br/wp-content/uploads/2025/10/events-bg.jpg
END:VEVENT
BEGIN:VEVENT
DTSTART;TZID=America/Sao_Paulo:20260222T080000
DTEND;TZID=America/Sao_Paulo:20260315T170000
DTSTAMP:20260421T174224
CREATED:20251005T183109Z
LAST-MODIFIED:20251005T183109Z
UID:10000149-1771747200-1773594000@guiafriburgo.com.br
SUMMARY:10ª Feira Literária
DESCRIPTION:
URL:https://guiafriburgo.com.br/evento/10a-feira-literaria/2026-02-22/
LOCATION:Praça Getúlio Vargas\, Praça Getúlio Vargas\, Nova Friburgo\, Rio de Janeiro\, 28625-030\,\, Brazil
CATEGORIES:Diversos
ATTACH;FMTTYPE=image/jpeg:https://guiafriburgo.com.br/wp-content/uploads/2025/10/events-bg.jpg
END:VEVENT
BEGIN:VEVENT
DTSTART;TZID=America/Sao_Paulo:20260221T080000
DTEND;TZID=America/Sao_Paulo:20260314T170000
DTSTAMP:20260421T174224
CREATED:20251005T183109Z
LAST-MODIFIED:20251005T183109Z
UID:10000148-1771660800-1773507600@guiafriburgo.com.br
SUMMARY:10ª Feira Literária
DESCRIPTION:
URL:https://guiafriburgo.com.br/evento/10a-feira-literaria/2026-02-21/
LOCATION:Praça Getúlio Vargas\, Praça Getúlio Vargas\, Nova Friburgo\, Rio de Janeiro\, 28625-030\,\, Brazil
CATEGORIES:Diversos
ATTACH;FMTTYPE=image/jpeg:https://guiafriburgo.com.br/wp-content/uploads/2025/10/events-bg.jpg
END:VEVENT
BEGIN:VEVENT
DTSTART;TZID=America/Sao_Paulo:20260220T080000
DTEND;TZID=America/Sao_Paulo:20260313T170000
DTSTAMP:20260421T174224
CREATED:20251005T183109Z
LAST-MODIFIED:20251005T183109Z
UID:10000147-1771574400-1773421200@guiafriburgo.com.br
SUMMARY:10ª Feira Literária
DESCRIPTION:
URL:https://guiafriburgo.com.br/evento/10a-feira-literaria/2026-02-20/
LOCATION:Praça Getúlio Vargas\, Praça Getúlio Vargas\, Nova Friburgo\, Rio de Janeiro\, 28625-030\,\, Brazil
CATEGORIES:Diversos
ATTACH;FMTTYPE=image/jpeg:https://guiafriburgo.com.br/wp-content/uploads/2025/10/events-bg.jpg
END:VEVENT
BEGIN:VEVENT
DTSTART;TZID=America/Sao_Paulo:20260219T080000
DTEND;TZID=America/Sao_Paulo:20260312T170000
DTSTAMP:20260421T174224
CREATED:20251005T183109Z
LAST-MODIFIED:20251005T183109Z
UID:10000146-1771488000-1773334800@guiafriburgo.com.br
SUMMARY:10ª Feira Literária
DESCRIPTION:
URL:https://guiafriburgo.com.br/evento/10a-feira-literaria/2026-02-19/
LOCATION:Praça Getúlio Vargas\, Praça Getúlio Vargas\, Nova Friburgo\, Rio de Janeiro\, 28625-030\,\, Brazil
CATEGORIES:Diversos
ATTACH;FMTTYPE=image/jpeg:https://guiafriburgo.com.br/wp-content/uploads/2025/10/events-bg.jpg
END:VEVENT
BEGIN:VEVENT
DTSTART;TZID=America/Sao_Paulo:20260218T080000
DTEND;TZID=America/Sao_Paulo:20260311T170000
DTSTAMP:20260421T174224
CREATED:20251005T183109Z
LAST-MODIFIED:20251005T183109Z
UID:10000145-1771401600-1773248400@guiafriburgo.com.br
SUMMARY:10ª Feira Literária
DESCRIPTION:
URL:https://guiafriburgo.com.br/evento/10a-feira-literaria/2026-02-18/
LOCATION:Praça Getúlio Vargas\, Praça Getúlio Vargas\, Nova Friburgo\, Rio de Janeiro\, 28625-030\,\, Brazil
CATEGORIES:Diversos
ATTACH;FMTTYPE=image/jpeg:https://guiafriburgo.com.br/wp-content/uploads/2025/10/events-bg.jpg
END:VEVENT
BEGIN:VEVENT
DTSTART;TZID=America/Sao_Paulo:20260217T080000
DTEND;TZID=America/Sao_Paulo:20260310T170000
DTSTAMP:20260421T174224
CREATED:20251005T183109Z
LAST-MODIFIED:20251005T183109Z
UID:10000144-1771315200-1773162000@guiafriburgo.com.br
SUMMARY:10ª Feira Literária
DESCRIPTION:
URL:https://guiafriburgo.com.br/evento/10a-feira-literaria/2026-02-17/
LOCATION:Praça Getúlio Vargas\, Praça Getúlio Vargas\, Nova Friburgo\, Rio de Janeiro\, 28625-030\,\, Brazil
CATEGORIES:Diversos
ATTACH;FMTTYPE=image/jpeg:https://guiafriburgo.com.br/wp-content/uploads/2025/10/events-bg.jpg
END:VEVENT
BEGIN:VEVENT
DTSTART;TZID=America/Sao_Paulo:20260216T080000
DTEND;TZID=America/Sao_Paulo:20260309T170000
DTSTAMP:20260421T174224
CREATED:20251005T183109Z
LAST-MODIFIED:20251005T183109Z
UID:10000143-1771228800-1773075600@guiafriburgo.com.br
SUMMARY:10ª Feira Literária
DESCRIPTION:
URL:https://guiafriburgo.com.br/evento/10a-feira-literaria/2026-02-16/
LOCATION:Praça Getúlio Vargas\, Praça Getúlio Vargas\, Nova Friburgo\, Rio de Janeiro\, 28625-030\,\, Brazil
CATEGORIES:Diversos
ATTACH;FMTTYPE=image/jpeg:https://guiafriburgo.com.br/wp-content/uploads/2025/10/events-bg.jpg
END:VEVENT
BEGIN:VEVENT
DTSTART;TZID=America/Sao_Paulo:20260215T080000
DTEND;TZID=America/Sao_Paulo:20260308T170000
DTSTAMP:20260421T174224
CREATED:20251005T183109Z
LAST-MODIFIED:20251005T183109Z
UID:10000142-1771142400-1772989200@guiafriburgo.com.br
SUMMARY:10ª Feira Literária
DESCRIPTION:
URL:https://guiafriburgo.com.br/evento/10a-feira-literaria/2026-02-15/
LOCATION:Praça Getúlio Vargas\, Praça Getúlio Vargas\, Nova Friburgo\, Rio de Janeiro\, 28625-030\,\, Brazil
CATEGORIES:Diversos
ATTACH;FMTTYPE=image/jpeg:https://guiafriburgo.com.br/wp-content/uploads/2025/10/events-bg.jpg
END:VEVENT
BEGIN:VEVENT
DTSTART;TZID=America/Sao_Paulo:20260214T080000
DTEND;TZID=America/Sao_Paulo:20260307T170000
DTSTAMP:20260421T174224
CREATED:20251005T183109Z
LAST-MODIFIED:20251005T183109Z
UID:10000141-1771056000-1772902800@guiafriburgo.com.br
SUMMARY:10ª Feira Literária
DESCRIPTION:
URL:https://guiafriburgo.com.br/evento/10a-feira-literaria/2026-02-14/
LOCATION:Praça Getúlio Vargas\, Praça Getúlio Vargas\, Nova Friburgo\, Rio de Janeiro\, 28625-030\,\, Brazil
CATEGORIES:Diversos
ATTACH;FMTTYPE=image/jpeg:https://guiafriburgo.com.br/wp-content/uploads/2025/10/events-bg.jpg
END:VEVENT
BEGIN:VEVENT
DTSTART;TZID=America/Sao_Paulo:20260213T080000
DTEND;TZID=America/Sao_Paulo:20260306T170000
DTSTAMP:20260421T174224
CREATED:20251005T183109Z
LAST-MODIFIED:20251005T183109Z
UID:10000140-1770969600-1772816400@guiafriburgo.com.br
SUMMARY:10ª Feira Literária
DESCRIPTION:
URL:https://guiafriburgo.com.br/evento/10a-feira-literaria/2026-02-13/
LOCATION:Praça Getúlio Vargas\, Praça Getúlio Vargas\, Nova Friburgo\, Rio de Janeiro\, 28625-030\,\, Brazil
CATEGORIES:Diversos
ATTACH;FMTTYPE=image/jpeg:https://guiafriburgo.com.br/wp-content/uploads/2025/10/events-bg.jpg
END:VEVENT
BEGIN:VEVENT
DTSTART;TZID=America/Sao_Paulo:20260212T080000
DTEND;TZID=America/Sao_Paulo:20260305T170000
DTSTAMP:20260421T174224
CREATED:20251005T183109Z
LAST-MODIFIED:20251005T183109Z
UID:10000139-1770883200-1772730000@guiafriburgo.com.br
SUMMARY:10ª Feira Literária
DESCRIPTION:
URL:https://guiafriburgo.com.br/evento/10a-feira-literaria/2026-02-12/
LOCATION:Praça Getúlio Vargas\, Praça Getúlio Vargas\, Nova Friburgo\, Rio de Janeiro\, 28625-030\,\, Brazil
CATEGORIES:Diversos
ATTACH;FMTTYPE=image/jpeg:https://guiafriburgo.com.br/wp-content/uploads/2025/10/events-bg.jpg
END:VEVENT
BEGIN:VEVENT
DTSTART;TZID=America/Sao_Paulo:20260211T080000
DTEND;TZID=America/Sao_Paulo:20260304T170000
DTSTAMP:20260421T174224
CREATED:20251005T183109Z
LAST-MODIFIED:20251005T183109Z
UID:10000138-1770796800-1772643600@guiafriburgo.com.br
SUMMARY:10ª Feira Literária
DESCRIPTION:
URL:https://guiafriburgo.com.br/evento/10a-feira-literaria/2026-02-11/
LOCATION:Praça Getúlio Vargas\, Praça Getúlio Vargas\, Nova Friburgo\, Rio de Janeiro\, 28625-030\,\, Brazil
CATEGORIES:Diversos
ATTACH;FMTTYPE=image/jpeg:https://guiafriburgo.com.br/wp-content/uploads/2025/10/events-bg.jpg
END:VEVENT
BEGIN:VEVENT
DTSTART;TZID=America/Sao_Paulo:20260210T080000
DTEND;TZID=America/Sao_Paulo:20260303T170000
DTSTAMP:20260421T174224
CREATED:20251005T183109Z
LAST-MODIFIED:20251005T183109Z
UID:10000137-1770710400-1772557200@guiafriburgo.com.br
SUMMARY:10ª Feira Literária
DESCRIPTION:
URL:https://guiafriburgo.com.br/evento/10a-feira-literaria/2026-02-10/
LOCATION:Praça Getúlio Vargas\, Praça Getúlio Vargas\, Nova Friburgo\, Rio de Janeiro\, 28625-030\,\, Brazil
CATEGORIES:Diversos
ATTACH;FMTTYPE=image/jpeg:https://guiafriburgo.com.br/wp-content/uploads/2025/10/events-bg.jpg
END:VEVENT
BEGIN:VEVENT
DTSTART;TZID=America/Sao_Paulo:20260209T080000
DTEND;TZID=America/Sao_Paulo:20260302T170000
DTSTAMP:20260421T174224
CREATED:20251005T183109Z
LAST-MODIFIED:20251005T183109Z
UID:10000136-1770624000-1772470800@guiafriburgo.com.br
SUMMARY:10ª Feira Literária
DESCRIPTION:
URL:https://guiafriburgo.com.br/evento/10a-feira-literaria/2026-02-09/
LOCATION:Praça Getúlio Vargas\, Praça Getúlio Vargas\, Nova Friburgo\, Rio de Janeiro\, 28625-030\,\, Brazil
CATEGORIES:Diversos
ATTACH;FMTTYPE=image/jpeg:https://guiafriburgo.com.br/wp-content/uploads/2025/10/events-bg.jpg
END:VEVENT
BEGIN:VEVENT
DTSTART;TZID=America/Sao_Paulo:20260208T080000
DTEND;TZID=America/Sao_Paulo:20260301T170000
DTSTAMP:20260421T174224
CREATED:20251005T183109Z
LAST-MODIFIED:20251005T183109Z
UID:10000135-1770537600-1772384400@guiafriburgo.com.br
SUMMARY:10ª Feira Literária
DESCRIPTION:
URL:https://guiafriburgo.com.br/evento/10a-feira-literaria/2026-02-08/
LOCATION:Praça Getúlio Vargas\, Praça Getúlio Vargas\, Nova Friburgo\, Rio de Janeiro\, 28625-030\,\, Brazil
CATEGORIES:Diversos
ATTACH;FMTTYPE=image/jpeg:https://guiafriburgo.com.br/wp-content/uploads/2025/10/events-bg.jpg
END:VEVENT
BEGIN:VEVENT
DTSTART;TZID=America/Sao_Paulo:20260207T080000
DTEND;TZID=America/Sao_Paulo:20260228T170000
DTSTAMP:20260421T174224
CREATED:20251005T183109Z
LAST-MODIFIED:20251005T183109Z
UID:10000134-1770451200-1772298000@guiafriburgo.com.br
SUMMARY:10ª Feira Literária
DESCRIPTION:
URL:https://guiafriburgo.com.br/evento/10a-feira-literaria/2026-02-07/
LOCATION:Praça Getúlio Vargas\, Praça Getúlio Vargas\, Nova Friburgo\, Rio de Janeiro\, 28625-030\,\, Brazil
CATEGORIES:Diversos
ATTACH;FMTTYPE=image/jpeg:https://guiafriburgo.com.br/wp-content/uploads/2025/10/events-bg.jpg
END:VEVENT
BEGIN:VEVENT
DTSTART;TZID=America/Sao_Paulo:20260206T080000
DTEND;TZID=America/Sao_Paulo:20260227T170000
DTSTAMP:20260421T174224
CREATED:20251005T183109Z
LAST-MODIFIED:20251005T183109Z
UID:10000133-1770364800-1772211600@guiafriburgo.com.br
SUMMARY:10ª Feira Literária
DESCRIPTION:
URL:https://guiafriburgo.com.br/evento/10a-feira-literaria/2026-02-06/
LOCATION:Praça Getúlio Vargas\, Praça Getúlio Vargas\, Nova Friburgo\, Rio de Janeiro\, 28625-030\,\, Brazil
CATEGORIES:Diversos
ATTACH;FMTTYPE=image/jpeg:https://guiafriburgo.com.br/wp-content/uploads/2025/10/events-bg.jpg
END:VEVENT
BEGIN:VEVENT
DTSTART;TZID=America/Sao_Paulo:20260205T080000
DTEND;TZID=America/Sao_Paulo:20260226T170000
DTSTAMP:20260421T174224
CREATED:20251005T183109Z
LAST-MODIFIED:20251005T183109Z
UID:10000132-1770278400-1772125200@guiafriburgo.com.br
SUMMARY:10ª Feira Literária
DESCRIPTION:
URL:https://guiafriburgo.com.br/evento/10a-feira-literaria/2026-02-05/
LOCATION:Praça Getúlio Vargas\, Praça Getúlio Vargas\, Nova Friburgo\, Rio de Janeiro\, 28625-030\,\, Brazil
CATEGORIES:Diversos
ATTACH;FMTTYPE=image/jpeg:https://guiafriburgo.com.br/wp-content/uploads/2025/10/events-bg.jpg
END:VEVENT
BEGIN:VEVENT
DTSTART;TZID=America/Sao_Paulo:20260204T080000
DTEND;TZID=America/Sao_Paulo:20260225T170000
DTSTAMP:20260421T174224
CREATED:20251005T183109Z
LAST-MODIFIED:20251005T183109Z
UID:10000131-1770192000-1772038800@guiafriburgo.com.br
SUMMARY:10ª Feira Literária
DESCRIPTION:
URL:https://guiafriburgo.com.br/evento/10a-feira-literaria/2026-02-04/
LOCATION:Praça Getúlio Vargas\, Praça Getúlio Vargas\, Nova Friburgo\, Rio de Janeiro\, 28625-030\,\, Brazil
CATEGORIES:Diversos
ATTACH;FMTTYPE=image/jpeg:https://guiafriburgo.com.br/wp-content/uploads/2025/10/events-bg.jpg
END:VEVENT
BEGIN:VEVENT
DTSTART;TZID=America/Sao_Paulo:20260203T080000
DTEND;TZID=America/Sao_Paulo:20260224T170000
DTSTAMP:20260421T174224
CREATED:20251005T183109Z
LAST-MODIFIED:20251005T183109Z
UID:10000130-1770105600-1771952400@guiafriburgo.com.br
SUMMARY:10ª Feira Literária
DESCRIPTION:
URL:https://guiafriburgo.com.br/evento/10a-feira-literaria/2026-02-03/
LOCATION:Praça Getúlio Vargas\, Praça Getúlio Vargas\, Nova Friburgo\, Rio de Janeiro\, 28625-030\,\, Brazil
CATEGORIES:Diversos
ATTACH;FMTTYPE=image/jpeg:https://guiafriburgo.com.br/wp-content/uploads/2025/10/events-bg.jpg
END:VEVENT
BEGIN:VEVENT
DTSTART;TZID=America/Sao_Paulo:20260202T080000
DTEND;TZID=America/Sao_Paulo:20260223T170000
DTSTAMP:20260421T174224
CREATED:20251005T183109Z
LAST-MODIFIED:20251005T183109Z
UID:10000129-1770019200-1771866000@guiafriburgo.com.br
SUMMARY:10ª Feira Literária
DESCRIPTION:
URL:https://guiafriburgo.com.br/evento/10a-feira-literaria/2026-02-02/
LOCATION:Praça Getúlio Vargas\, Praça Getúlio Vargas\, Nova Friburgo\, Rio de Janeiro\, 28625-030\,\, Brazil
CATEGORIES:Diversos
ATTACH;FMTTYPE=image/jpeg:https://guiafriburgo.com.br/wp-content/uploads/2025/10/events-bg.jpg
END:VEVENT
BEGIN:VEVENT
DTSTART;TZID=America/Sao_Paulo:20260201T080000
DTEND;TZID=America/Sao_Paulo:20260222T170000
DTSTAMP:20260421T174224
CREATED:20251005T183109Z
LAST-MODIFIED:20251005T183109Z
UID:10000128-1769932800-1771779600@guiafriburgo.com.br
SUMMARY:10ª Feira Literária
DESCRIPTION:
URL:https://guiafriburgo.com.br/evento/10a-feira-literaria/2026-02-01/
LOCATION:Praça Getúlio Vargas\, Praça Getúlio Vargas\, Nova Friburgo\, Rio de Janeiro\, 28625-030\,\, Brazil
CATEGORIES:Diversos
ATTACH;FMTTYPE=image/jpeg:https://guiafriburgo.com.br/wp-content/uploads/2025/10/events-bg.jpg
END:VEVENT
BEGIN:VEVENT
DTSTART;TZID=America/Sao_Paulo:20260131T080000
DTEND;TZID=America/Sao_Paulo:20260221T170000
DTSTAMP:20260421T174224
CREATED:20251005T183109Z
LAST-MODIFIED:20251005T183109Z
UID:10000127-1769846400-1771693200@guiafriburgo.com.br
SUMMARY:10ª Feira Literária
DESCRIPTION:
URL:https://guiafriburgo.com.br/evento/10a-feira-literaria/2026-01-31/
LOCATION:Praça Getúlio Vargas\, Praça Getúlio Vargas\, Nova Friburgo\, Rio de Janeiro\, 28625-030\,\, Brazil
CATEGORIES:Diversos
ATTACH;FMTTYPE=image/jpeg:https://guiafriburgo.com.br/wp-content/uploads/2025/10/events-bg.jpg
END:VEVENT
BEGIN:VEVENT
DTSTART;TZID=America/Sao_Paulo:20260130T080000
DTEND;TZID=America/Sao_Paulo:20260220T170000
DTSTAMP:20260421T174224
CREATED:20251005T183109Z
LAST-MODIFIED:20251005T183109Z
UID:10000126-1769760000-1771606800@guiafriburgo.com.br
SUMMARY:10ª Feira Literária
DESCRIPTION:
URL:https://guiafriburgo.com.br/evento/10a-feira-literaria/2026-01-30/
LOCATION:Praça Getúlio Vargas\, Praça Getúlio Vargas\, Nova Friburgo\, Rio de Janeiro\, 28625-030\,\, Brazil
CATEGORIES:Diversos
ATTACH;FMTTYPE=image/jpeg:https://guiafriburgo.com.br/wp-content/uploads/2025/10/events-bg.jpg
END:VEVENT
BEGIN:VEVENT
DTSTART;TZID=America/Sao_Paulo:20260129T080000
DTEND;TZID=America/Sao_Paulo:20260219T170000
DTSTAMP:20260421T174224
CREATED:20251005T183109Z
LAST-MODIFIED:20251005T183109Z
UID:10000125-1769673600-1771520400@guiafriburgo.com.br
SUMMARY:10ª Feira Literária
DESCRIPTION:
URL:https://guiafriburgo.com.br/evento/10a-feira-literaria/2026-01-29/
LOCATION:Praça Getúlio Vargas\, Praça Getúlio Vargas\, Nova Friburgo\, Rio de Janeiro\, 28625-030\,\, Brazil
CATEGORIES:Diversos
ATTACH;FMTTYPE=image/jpeg:https://guiafriburgo.com.br/wp-content/uploads/2025/10/events-bg.jpg
END:VEVENT
BEGIN:VEVENT
DTSTART;TZID=America/Sao_Paulo:20260128T080000
DTEND;TZID=America/Sao_Paulo:20260218T170000
DTSTAMP:20260421T174224
CREATED:20251005T183109Z
LAST-MODIFIED:20251005T183109Z
UID:10000124-1769587200-1771434000@guiafriburgo.com.br
SUMMARY:10ª Feira Literária
DESCRIPTION:
URL:https://guiafriburgo.com.br/evento/10a-feira-literaria/2026-01-28/
LOCATION:Praça Getúlio Vargas\, Praça Getúlio Vargas\, Nova Friburgo\, Rio de Janeiro\, 28625-030\,\, Brazil
CATEGORIES:Diversos
ATTACH;FMTTYPE=image/jpeg:https://guiafriburgo.com.br/wp-content/uploads/2025/10/events-bg.jpg
END:VEVENT
BEGIN:VEVENT
DTSTART;TZID=America/Sao_Paulo:20260127T080000
DTEND;TZID=America/Sao_Paulo:20260217T170000
DTSTAMP:20260421T174224
CREATED:20251005T183109Z
LAST-MODIFIED:20251005T183109Z
UID:10000123-1769500800-1771347600@guiafriburgo.com.br
SUMMARY:10ª Feira Literária
DESCRIPTION:
URL:https://guiafriburgo.com.br/evento/10a-feira-literaria/2026-01-27/
LOCATION:Praça Getúlio Vargas\, Praça Getúlio Vargas\, Nova Friburgo\, Rio de Janeiro\, 28625-030\,\, Brazil
CATEGORIES:Diversos
ATTACH;FMTTYPE=image/jpeg:https://guiafriburgo.com.br/wp-content/uploads/2025/10/events-bg.jpg
END:VEVENT
BEGIN:VEVENT
DTSTART;TZID=America/Sao_Paulo:20260126T080000
DTEND;TZID=America/Sao_Paulo:20260216T170000
DTSTAMP:20260421T174224
CREATED:20251005T183109Z
LAST-MODIFIED:20251005T183109Z
UID:10000122-1769414400-1771261200@guiafriburgo.com.br
SUMMARY:10ª Feira Literária
DESCRIPTION:
URL:https://guiafriburgo.com.br/evento/10a-feira-literaria/2026-01-26/
LOCATION:Praça Getúlio Vargas\, Praça Getúlio Vargas\, Nova Friburgo\, Rio de Janeiro\, 28625-030\,\, Brazil
CATEGORIES:Diversos
ATTACH;FMTTYPE=image/jpeg:https://guiafriburgo.com.br/wp-content/uploads/2025/10/events-bg.jpg
END:VEVENT
BEGIN:VEVENT
DTSTART;TZID=America/Sao_Paulo:20260125T080000
DTEND;TZID=America/Sao_Paulo:20260215T170000
DTSTAMP:20260421T174224
CREATED:20251005T183109Z
LAST-MODIFIED:20251005T183109Z
UID:10000121-1769328000-1771174800@guiafriburgo.com.br
SUMMARY:10ª Feira Literária
DESCRIPTION:
URL:https://guiafriburgo.com.br/evento/10a-feira-literaria/2026-01-25/
LOCATION:Praça Getúlio Vargas\, Praça Getúlio Vargas\, Nova Friburgo\, Rio de Janeiro\, 28625-030\,\, Brazil
CATEGORIES:Diversos
ATTACH;FMTTYPE=image/jpeg:https://guiafriburgo.com.br/wp-content/uploads/2025/10/events-bg.jpg
END:VEVENT
END:VCALENDAR