BEGIN:VCALENDAR
VERSION:2.0
PRODID:-//Guia Friburgo - ECPv6.15.11//NONSGML v1.0//EN
CALSCALE:GREGORIAN
METHOD:PUBLISH
X-ORIGINAL-URL:https://guiafriburgo.com.br
X-WR-CALDESC:Eventos para Guia Friburgo
REFRESH-INTERVAL;VALUE=DURATION:PT1H
X-Robots-Tag:noindex
X-PUBLISHED-TTL:PT1H
BEGIN:VTIMEZONE
TZID:America/Sao_Paulo
BEGIN:STANDARD
TZOFFSETFROM:-0300
TZOFFSETTO:-0300
TZNAME:-03
DTSTART:20250101T000000
END:STANDARD
END:VTIMEZONE
BEGIN:VEVENT
DTSTART;TZID=America/Sao_Paulo:20261022T080000
DTEND;TZID=America/Sao_Paulo:20261112T170000
DTSTAMP:20260422T145048
CREATED:20251005T183109Z
LAST-MODIFIED:20251005T183109Z
UID:10000391-1792656000-1794502800@guiafriburgo.com.br
SUMMARY:10ª Feira Literária
DESCRIPTION:
URL:https://guiafriburgo.com.br/evento/10a-feira-literaria/2026-10-22/
LOCATION:Praça Getúlio Vargas\, Praça Getúlio Vargas\, Nova Friburgo\, Rio de Janeiro\, 28625-030\,\, Brazil
CATEGORIES:Diversos
ATTACH;FMTTYPE=image/jpeg:https://guiafriburgo.com.br/wp-content/uploads/2025/10/events-bg.jpg
END:VEVENT
BEGIN:VEVENT
DTSTART;TZID=America/Sao_Paulo:20261023T080000
DTEND;TZID=America/Sao_Paulo:20261113T170000
DTSTAMP:20260422T145048
CREATED:20251005T183109Z
LAST-MODIFIED:20251005T183109Z
UID:10000392-1792742400-1794589200@guiafriburgo.com.br
SUMMARY:10ª Feira Literária
DESCRIPTION:
URL:https://guiafriburgo.com.br/evento/10a-feira-literaria/2026-10-23/
LOCATION:Praça Getúlio Vargas\, Praça Getúlio Vargas\, Nova Friburgo\, Rio de Janeiro\, 28625-030\,\, Brazil
CATEGORIES:Diversos
ATTACH;FMTTYPE=image/jpeg:https://guiafriburgo.com.br/wp-content/uploads/2025/10/events-bg.jpg
END:VEVENT
BEGIN:VEVENT
DTSTART;TZID=America/Sao_Paulo:20261024T080000
DTEND;TZID=America/Sao_Paulo:20261114T170000
DTSTAMP:20260422T145048
CREATED:20251005T183109Z
LAST-MODIFIED:20251005T183109Z
UID:10000393-1792828800-1794675600@guiafriburgo.com.br
SUMMARY:10ª Feira Literária
DESCRIPTION:
URL:https://guiafriburgo.com.br/evento/10a-feira-literaria/2026-10-24/
LOCATION:Praça Getúlio Vargas\, Praça Getúlio Vargas\, Nova Friburgo\, Rio de Janeiro\, 28625-030\,\, Brazil
CATEGORIES:Diversos
ATTACH;FMTTYPE=image/jpeg:https://guiafriburgo.com.br/wp-content/uploads/2025/10/events-bg.jpg
END:VEVENT
BEGIN:VEVENT
DTSTART;TZID=America/Sao_Paulo:20261025T080000
DTEND;TZID=America/Sao_Paulo:20261115T170000
DTSTAMP:20260422T145048
CREATED:20251005T183109Z
LAST-MODIFIED:20251005T183109Z
UID:10000394-1792915200-1794762000@guiafriburgo.com.br
SUMMARY:10ª Feira Literária
DESCRIPTION:
URL:https://guiafriburgo.com.br/evento/10a-feira-literaria/2026-10-25/
LOCATION:Praça Getúlio Vargas\, Praça Getúlio Vargas\, Nova Friburgo\, Rio de Janeiro\, 28625-030\,\, Brazil
CATEGORIES:Diversos
ATTACH;FMTTYPE=image/jpeg:https://guiafriburgo.com.br/wp-content/uploads/2025/10/events-bg.jpg
END:VEVENT
BEGIN:VEVENT
DTSTART;TZID=America/Sao_Paulo:20261026T080000
DTEND;TZID=America/Sao_Paulo:20261116T170000
DTSTAMP:20260422T145048
CREATED:20251005T183109Z
LAST-MODIFIED:20251005T183109Z
UID:10000395-1793001600-1794848400@guiafriburgo.com.br
SUMMARY:10ª Feira Literária
DESCRIPTION:
URL:https://guiafriburgo.com.br/evento/10a-feira-literaria/2026-10-26/
LOCATION:Praça Getúlio Vargas\, Praça Getúlio Vargas\, Nova Friburgo\, Rio de Janeiro\, 28625-030\,\, Brazil
CATEGORIES:Diversos
ATTACH;FMTTYPE=image/jpeg:https://guiafriburgo.com.br/wp-content/uploads/2025/10/events-bg.jpg
END:VEVENT
END:VCALENDAR