BEGIN:VCALENDAR
VERSION:2.0
PRODID:-//Guia Friburgo - ECPv6.15.11//NONSGML v1.0//EN
CALSCALE:GREGORIAN
METHOD:PUBLISH
X-ORIGINAL-URL:https://guiafriburgo.com.br
X-WR-CALDESC:Eventos para Guia Friburgo
REFRESH-INTERVAL;VALUE=DURATION:PT1H
X-Robots-Tag:noindex
X-PUBLISHED-TTL:PT1H
BEGIN:VTIMEZONE
TZID:America/Sao_Paulo
BEGIN:STANDARD
TZOFFSETFROM:-0300
TZOFFSETTO:-0300
TZNAME:-03
DTSTART:20250101T000000
END:STANDARD
END:VTIMEZONE
BEGIN:VEVENT
DTSTART;TZID=America/Sao_Paulo:20260823T080000
DTEND;TZID=America/Sao_Paulo:20260913T170000
DTSTAMP:20260422T072003
CREATED:20251005T183109Z
LAST-MODIFIED:20251005T183109Z
UID:10000331-1787472000-1789318800@guiafriburgo.com.br
SUMMARY:10ª Feira Literária
DESCRIPTION:
URL:https://guiafriburgo.com.br/evento/10a-feira-literaria/2026-08-23/
LOCATION:Praça Getúlio Vargas\, Praça Getúlio Vargas\, Nova Friburgo\, Rio de Janeiro\, 28625-030\,\, Brazil
CATEGORIES:Diversos
ATTACH;FMTTYPE=image/jpeg:https://guiafriburgo.com.br/wp-content/uploads/2025/10/events-bg.jpg
END:VEVENT
BEGIN:VEVENT
DTSTART;TZID=America/Sao_Paulo:20260824T080000
DTEND;TZID=America/Sao_Paulo:20260914T170000
DTSTAMP:20260422T072003
CREATED:20251005T183109Z
LAST-MODIFIED:20251005T183109Z
UID:10000332-1787558400-1789405200@guiafriburgo.com.br
SUMMARY:10ª Feira Literária
DESCRIPTION:
URL:https://guiafriburgo.com.br/evento/10a-feira-literaria/2026-08-24/
LOCATION:Praça Getúlio Vargas\, Praça Getúlio Vargas\, Nova Friburgo\, Rio de Janeiro\, 28625-030\,\, Brazil
CATEGORIES:Diversos
ATTACH;FMTTYPE=image/jpeg:https://guiafriburgo.com.br/wp-content/uploads/2025/10/events-bg.jpg
END:VEVENT
BEGIN:VEVENT
DTSTART;TZID=America/Sao_Paulo:20260825T080000
DTEND;TZID=America/Sao_Paulo:20260915T170000
DTSTAMP:20260422T072003
CREATED:20251005T183109Z
LAST-MODIFIED:20251005T183109Z
UID:10000333-1787644800-1789491600@guiafriburgo.com.br
SUMMARY:10ª Feira Literária
DESCRIPTION:
URL:https://guiafriburgo.com.br/evento/10a-feira-literaria/2026-08-25/
LOCATION:Praça Getúlio Vargas\, Praça Getúlio Vargas\, Nova Friburgo\, Rio de Janeiro\, 28625-030\,\, Brazil
CATEGORIES:Diversos
ATTACH;FMTTYPE=image/jpeg:https://guiafriburgo.com.br/wp-content/uploads/2025/10/events-bg.jpg
END:VEVENT
BEGIN:VEVENT
DTSTART;TZID=America/Sao_Paulo:20260826T080000
DTEND;TZID=America/Sao_Paulo:20260916T170000
DTSTAMP:20260422T072003
CREATED:20251005T183109Z
LAST-MODIFIED:20251005T183109Z
UID:10000334-1787731200-1789578000@guiafriburgo.com.br
SUMMARY:10ª Feira Literária
DESCRIPTION:
URL:https://guiafriburgo.com.br/evento/10a-feira-literaria/2026-08-26/
LOCATION:Praça Getúlio Vargas\, Praça Getúlio Vargas\, Nova Friburgo\, Rio de Janeiro\, 28625-030\,\, Brazil
CATEGORIES:Diversos
ATTACH;FMTTYPE=image/jpeg:https://guiafriburgo.com.br/wp-content/uploads/2025/10/events-bg.jpg
END:VEVENT
BEGIN:VEVENT
DTSTART;TZID=America/Sao_Paulo:20260827T080000
DTEND;TZID=America/Sao_Paulo:20260917T170000
DTSTAMP:20260422T072003
CREATED:20251005T183109Z
LAST-MODIFIED:20251005T183109Z
UID:10000335-1787817600-1789664400@guiafriburgo.com.br
SUMMARY:10ª Feira Literária
DESCRIPTION:
URL:https://guiafriburgo.com.br/evento/10a-feira-literaria/2026-08-27/
LOCATION:Praça Getúlio Vargas\, Praça Getúlio Vargas\, Nova Friburgo\, Rio de Janeiro\, 28625-030\,\, Brazil
CATEGORIES:Diversos
ATTACH;FMTTYPE=image/jpeg:https://guiafriburgo.com.br/wp-content/uploads/2025/10/events-bg.jpg
END:VEVENT
BEGIN:VEVENT
DTSTART;TZID=America/Sao_Paulo:20260828T080000
DTEND;TZID=America/Sao_Paulo:20260918T170000
DTSTAMP:20260422T072003
CREATED:20251005T183109Z
LAST-MODIFIED:20251005T183109Z
UID:10000336-1787904000-1789750800@guiafriburgo.com.br
SUMMARY:10ª Feira Literária
DESCRIPTION:
URL:https://guiafriburgo.com.br/evento/10a-feira-literaria/2026-08-28/
LOCATION:Praça Getúlio Vargas\, Praça Getúlio Vargas\, Nova Friburgo\, Rio de Janeiro\, 28625-030\,\, Brazil
CATEGORIES:Diversos
ATTACH;FMTTYPE=image/jpeg:https://guiafriburgo.com.br/wp-content/uploads/2025/10/events-bg.jpg
END:VEVENT
BEGIN:VEVENT
DTSTART;TZID=America/Sao_Paulo:20260829T080000
DTEND;TZID=America/Sao_Paulo:20260919T170000
DTSTAMP:20260422T072003
CREATED:20251005T183109Z
LAST-MODIFIED:20251005T183109Z
UID:10000337-1787990400-1789837200@guiafriburgo.com.br
SUMMARY:10ª Feira Literária
DESCRIPTION:
URL:https://guiafriburgo.com.br/evento/10a-feira-literaria/2026-08-29/
LOCATION:Praça Getúlio Vargas\, Praça Getúlio Vargas\, Nova Friburgo\, Rio de Janeiro\, 28625-030\,\, Brazil
CATEGORIES:Diversos
ATTACH;FMTTYPE=image/jpeg:https://guiafriburgo.com.br/wp-content/uploads/2025/10/events-bg.jpg
END:VEVENT
BEGIN:VEVENT
DTSTART;TZID=America/Sao_Paulo:20260830T080000
DTEND;TZID=America/Sao_Paulo:20260920T170000
DTSTAMP:20260422T072003
CREATED:20251005T183109Z
LAST-MODIFIED:20251005T183109Z
UID:10000338-1788076800-1789923600@guiafriburgo.com.br
SUMMARY:10ª Feira Literária
DESCRIPTION:
URL:https://guiafriburgo.com.br/evento/10a-feira-literaria/2026-08-30/
LOCATION:Praça Getúlio Vargas\, Praça Getúlio Vargas\, Nova Friburgo\, Rio de Janeiro\, 28625-030\,\, Brazil
CATEGORIES:Diversos
ATTACH;FMTTYPE=image/jpeg:https://guiafriburgo.com.br/wp-content/uploads/2025/10/events-bg.jpg
END:VEVENT
BEGIN:VEVENT
DTSTART;TZID=America/Sao_Paulo:20260831T080000
DTEND;TZID=America/Sao_Paulo:20260921T170000
DTSTAMP:20260422T072003
CREATED:20251005T183109Z
LAST-MODIFIED:20251005T183109Z
UID:10000339-1788163200-1790010000@guiafriburgo.com.br
SUMMARY:10ª Feira Literária
DESCRIPTION:
URL:https://guiafriburgo.com.br/evento/10a-feira-literaria/2026-08-31/
LOCATION:Praça Getúlio Vargas\, Praça Getúlio Vargas\, Nova Friburgo\, Rio de Janeiro\, 28625-030\,\, Brazil
CATEGORIES:Diversos
ATTACH;FMTTYPE=image/jpeg:https://guiafriburgo.com.br/wp-content/uploads/2025/10/events-bg.jpg
END:VEVENT
BEGIN:VEVENT
DTSTART;TZID=America/Sao_Paulo:20260901T080000
DTEND;TZID=America/Sao_Paulo:20260922T170000
DTSTAMP:20260422T072003
CREATED:20251005T183109Z
LAST-MODIFIED:20251005T183109Z
UID:10000340-1788249600-1790096400@guiafriburgo.com.br
SUMMARY:10ª Feira Literária
DESCRIPTION:
URL:https://guiafriburgo.com.br/evento/10a-feira-literaria/2026-09-01/
LOCATION:Praça Getúlio Vargas\, Praça Getúlio Vargas\, Nova Friburgo\, Rio de Janeiro\, 28625-030\,\, Brazil
CATEGORIES:Diversos
ATTACH;FMTTYPE=image/jpeg:https://guiafriburgo.com.br/wp-content/uploads/2025/10/events-bg.jpg
END:VEVENT
BEGIN:VEVENT
DTSTART;TZID=America/Sao_Paulo:20260902T080000
DTEND;TZID=America/Sao_Paulo:20260923T170000
DTSTAMP:20260422T072003
CREATED:20251005T183109Z
LAST-MODIFIED:20251005T183109Z
UID:10000341-1788336000-1790182800@guiafriburgo.com.br
SUMMARY:10ª Feira Literária
DESCRIPTION:
URL:https://guiafriburgo.com.br/evento/10a-feira-literaria/2026-09-02/
LOCATION:Praça Getúlio Vargas\, Praça Getúlio Vargas\, Nova Friburgo\, Rio de Janeiro\, 28625-030\,\, Brazil
CATEGORIES:Diversos
ATTACH;FMTTYPE=image/jpeg:https://guiafriburgo.com.br/wp-content/uploads/2025/10/events-bg.jpg
END:VEVENT
BEGIN:VEVENT
DTSTART;TZID=America/Sao_Paulo:20260903T080000
DTEND;TZID=America/Sao_Paulo:20260924T170000
DTSTAMP:20260422T072003
CREATED:20251005T183109Z
LAST-MODIFIED:20251005T183109Z
UID:10000342-1788422400-1790269200@guiafriburgo.com.br
SUMMARY:10ª Feira Literária
DESCRIPTION:
URL:https://guiafriburgo.com.br/evento/10a-feira-literaria/2026-09-03/
LOCATION:Praça Getúlio Vargas\, Praça Getúlio Vargas\, Nova Friburgo\, Rio de Janeiro\, 28625-030\,\, Brazil
CATEGORIES:Diversos
ATTACH;FMTTYPE=image/jpeg:https://guiafriburgo.com.br/wp-content/uploads/2025/10/events-bg.jpg
END:VEVENT
BEGIN:VEVENT
DTSTART;TZID=America/Sao_Paulo:20260904T080000
DTEND;TZID=America/Sao_Paulo:20260925T170000
DTSTAMP:20260422T072003
CREATED:20251005T183109Z
LAST-MODIFIED:20251005T183109Z
UID:10000343-1788508800-1790355600@guiafriburgo.com.br
SUMMARY:10ª Feira Literária
DESCRIPTION:
URL:https://guiafriburgo.com.br/evento/10a-feira-literaria/2026-09-04/
LOCATION:Praça Getúlio Vargas\, Praça Getúlio Vargas\, Nova Friburgo\, Rio de Janeiro\, 28625-030\,\, Brazil
CATEGORIES:Diversos
ATTACH;FMTTYPE=image/jpeg:https://guiafriburgo.com.br/wp-content/uploads/2025/10/events-bg.jpg
END:VEVENT
BEGIN:VEVENT
DTSTART;TZID=America/Sao_Paulo:20260905T080000
DTEND;TZID=America/Sao_Paulo:20260926T170000
DTSTAMP:20260422T072003
CREATED:20251005T183109Z
LAST-MODIFIED:20251005T183109Z
UID:10000344-1788595200-1790442000@guiafriburgo.com.br
SUMMARY:10ª Feira Literária
DESCRIPTION:
URL:https://guiafriburgo.com.br/evento/10a-feira-literaria/2026-09-05/
LOCATION:Praça Getúlio Vargas\, Praça Getúlio Vargas\, Nova Friburgo\, Rio de Janeiro\, 28625-030\,\, Brazil
CATEGORIES:Diversos
ATTACH;FMTTYPE=image/jpeg:https://guiafriburgo.com.br/wp-content/uploads/2025/10/events-bg.jpg
END:VEVENT
BEGIN:VEVENT
DTSTART;TZID=America/Sao_Paulo:20260906T080000
DTEND;TZID=America/Sao_Paulo:20260927T170000
DTSTAMP:20260422T072003
CREATED:20251005T183109Z
LAST-MODIFIED:20251005T183109Z
UID:10000345-1788681600-1790528400@guiafriburgo.com.br
SUMMARY:10ª Feira Literária
DESCRIPTION:
URL:https://guiafriburgo.com.br/evento/10a-feira-literaria/2026-09-06/
LOCATION:Praça Getúlio Vargas\, Praça Getúlio Vargas\, Nova Friburgo\, Rio de Janeiro\, 28625-030\,\, Brazil
CATEGORIES:Diversos
ATTACH;FMTTYPE=image/jpeg:https://guiafriburgo.com.br/wp-content/uploads/2025/10/events-bg.jpg
END:VEVENT
BEGIN:VEVENT
DTSTART;TZID=America/Sao_Paulo:20260907T080000
DTEND;TZID=America/Sao_Paulo:20260928T170000
DTSTAMP:20260422T072003
CREATED:20251005T183109Z
LAST-MODIFIED:20251005T183109Z
UID:10000346-1788768000-1790614800@guiafriburgo.com.br
SUMMARY:10ª Feira Literária
DESCRIPTION:
URL:https://guiafriburgo.com.br/evento/10a-feira-literaria/2026-09-07/
LOCATION:Praça Getúlio Vargas\, Praça Getúlio Vargas\, Nova Friburgo\, Rio de Janeiro\, 28625-030\,\, Brazil
CATEGORIES:Diversos
ATTACH;FMTTYPE=image/jpeg:https://guiafriburgo.com.br/wp-content/uploads/2025/10/events-bg.jpg
END:VEVENT
BEGIN:VEVENT
DTSTART;TZID=America/Sao_Paulo:20260908T080000
DTEND;TZID=America/Sao_Paulo:20260929T170000
DTSTAMP:20260422T072003
CREATED:20251005T183109Z
LAST-MODIFIED:20251005T183109Z
UID:10000347-1788854400-1790701200@guiafriburgo.com.br
SUMMARY:10ª Feira Literária
DESCRIPTION:
URL:https://guiafriburgo.com.br/evento/10a-feira-literaria/2026-09-08/
LOCATION:Praça Getúlio Vargas\, Praça Getúlio Vargas\, Nova Friburgo\, Rio de Janeiro\, 28625-030\,\, Brazil
CATEGORIES:Diversos
ATTACH;FMTTYPE=image/jpeg:https://guiafriburgo.com.br/wp-content/uploads/2025/10/events-bg.jpg
END:VEVENT
BEGIN:VEVENT
DTSTART;TZID=America/Sao_Paulo:20260909T080000
DTEND;TZID=America/Sao_Paulo:20260930T170000
DTSTAMP:20260422T072003
CREATED:20251005T183109Z
LAST-MODIFIED:20251005T183109Z
UID:10000348-1788940800-1790787600@guiafriburgo.com.br
SUMMARY:10ª Feira Literária
DESCRIPTION:
URL:https://guiafriburgo.com.br/evento/10a-feira-literaria/2026-09-09/
LOCATION:Praça Getúlio Vargas\, Praça Getúlio Vargas\, Nova Friburgo\, Rio de Janeiro\, 28625-030\,\, Brazil
CATEGORIES:Diversos
ATTACH;FMTTYPE=image/jpeg:https://guiafriburgo.com.br/wp-content/uploads/2025/10/events-bg.jpg
END:VEVENT
BEGIN:VEVENT
DTSTART;TZID=America/Sao_Paulo:20260910T080000
DTEND;TZID=America/Sao_Paulo:20261001T170000
DTSTAMP:20260422T072003
CREATED:20251005T183109Z
LAST-MODIFIED:20251005T183109Z
UID:10000349-1789027200-1790874000@guiafriburgo.com.br
SUMMARY:10ª Feira Literária
DESCRIPTION:
URL:https://guiafriburgo.com.br/evento/10a-feira-literaria/2026-09-10/
LOCATION:Praça Getúlio Vargas\, Praça Getúlio Vargas\, Nova Friburgo\, Rio de Janeiro\, 28625-030\,\, Brazil
CATEGORIES:Diversos
ATTACH;FMTTYPE=image/jpeg:https://guiafriburgo.com.br/wp-content/uploads/2025/10/events-bg.jpg
END:VEVENT
BEGIN:VEVENT
DTSTART;TZID=America/Sao_Paulo:20260911T080000
DTEND;TZID=America/Sao_Paulo:20261002T170000
DTSTAMP:20260422T072003
CREATED:20251005T183109Z
LAST-MODIFIED:20251005T183109Z
UID:10000350-1789113600-1790960400@guiafriburgo.com.br
SUMMARY:10ª Feira Literária
DESCRIPTION:
URL:https://guiafriburgo.com.br/evento/10a-feira-literaria/2026-09-11/
LOCATION:Praça Getúlio Vargas\, Praça Getúlio Vargas\, Nova Friburgo\, Rio de Janeiro\, 28625-030\,\, Brazil
CATEGORIES:Diversos
ATTACH;FMTTYPE=image/jpeg:https://guiafriburgo.com.br/wp-content/uploads/2025/10/events-bg.jpg
END:VEVENT
BEGIN:VEVENT
DTSTART;TZID=America/Sao_Paulo:20260912T080000
DTEND;TZID=America/Sao_Paulo:20261003T170000
DTSTAMP:20260422T072003
CREATED:20251005T183109Z
LAST-MODIFIED:20251005T183109Z
UID:10000351-1789200000-1791046800@guiafriburgo.com.br
SUMMARY:10ª Feira Literária
DESCRIPTION:
URL:https://guiafriburgo.com.br/evento/10a-feira-literaria/2026-09-12/
LOCATION:Praça Getúlio Vargas\, Praça Getúlio Vargas\, Nova Friburgo\, Rio de Janeiro\, 28625-030\,\, Brazil
CATEGORIES:Diversos
ATTACH;FMTTYPE=image/jpeg:https://guiafriburgo.com.br/wp-content/uploads/2025/10/events-bg.jpg
END:VEVENT
BEGIN:VEVENT
DTSTART;TZID=America/Sao_Paulo:20260913T080000
DTEND;TZID=America/Sao_Paulo:20261004T170000
DTSTAMP:20260422T072003
CREATED:20251005T183109Z
LAST-MODIFIED:20251005T183109Z
UID:10000352-1789286400-1791133200@guiafriburgo.com.br
SUMMARY:10ª Feira Literária
DESCRIPTION:
URL:https://guiafriburgo.com.br/evento/10a-feira-literaria/2026-09-13/
LOCATION:Praça Getúlio Vargas\, Praça Getúlio Vargas\, Nova Friburgo\, Rio de Janeiro\, 28625-030\,\, Brazil
CATEGORIES:Diversos
ATTACH;FMTTYPE=image/jpeg:https://guiafriburgo.com.br/wp-content/uploads/2025/10/events-bg.jpg
END:VEVENT
BEGIN:VEVENT
DTSTART;TZID=America/Sao_Paulo:20260914T080000
DTEND;TZID=America/Sao_Paulo:20261005T170000
DTSTAMP:20260422T072003
CREATED:20251005T183109Z
LAST-MODIFIED:20251005T183109Z
UID:10000353-1789372800-1791219600@guiafriburgo.com.br
SUMMARY:10ª Feira Literária
DESCRIPTION:
URL:https://guiafriburgo.com.br/evento/10a-feira-literaria/2026-09-14/
LOCATION:Praça Getúlio Vargas\, Praça Getúlio Vargas\, Nova Friburgo\, Rio de Janeiro\, 28625-030\,\, Brazil
CATEGORIES:Diversos
ATTACH;FMTTYPE=image/jpeg:https://guiafriburgo.com.br/wp-content/uploads/2025/10/events-bg.jpg
END:VEVENT
BEGIN:VEVENT
DTSTART;TZID=America/Sao_Paulo:20260915T080000
DTEND;TZID=America/Sao_Paulo:20261006T170000
DTSTAMP:20260422T072003
CREATED:20251005T183109Z
LAST-MODIFIED:20251005T183109Z
UID:10000354-1789459200-1791306000@guiafriburgo.com.br
SUMMARY:10ª Feira Literária
DESCRIPTION:
URL:https://guiafriburgo.com.br/evento/10a-feira-literaria/2026-09-15/
LOCATION:Praça Getúlio Vargas\, Praça Getúlio Vargas\, Nova Friburgo\, Rio de Janeiro\, 28625-030\,\, Brazil
CATEGORIES:Diversos
ATTACH;FMTTYPE=image/jpeg:https://guiafriburgo.com.br/wp-content/uploads/2025/10/events-bg.jpg
END:VEVENT
BEGIN:VEVENT
DTSTART;TZID=America/Sao_Paulo:20260916T080000
DTEND;TZID=America/Sao_Paulo:20261007T170000
DTSTAMP:20260422T072003
CREATED:20251005T183109Z
LAST-MODIFIED:20251005T183109Z
UID:10000355-1789545600-1791392400@guiafriburgo.com.br
SUMMARY:10ª Feira Literária
DESCRIPTION:
URL:https://guiafriburgo.com.br/evento/10a-feira-literaria/2026-09-16/
LOCATION:Praça Getúlio Vargas\, Praça Getúlio Vargas\, Nova Friburgo\, Rio de Janeiro\, 28625-030\,\, Brazil
CATEGORIES:Diversos
ATTACH;FMTTYPE=image/jpeg:https://guiafriburgo.com.br/wp-content/uploads/2025/10/events-bg.jpg
END:VEVENT
BEGIN:VEVENT
DTSTART;TZID=America/Sao_Paulo:20260917T080000
DTEND;TZID=America/Sao_Paulo:20261008T170000
DTSTAMP:20260422T072003
CREATED:20251005T183109Z
LAST-MODIFIED:20251005T183109Z
UID:10000356-1789632000-1791478800@guiafriburgo.com.br
SUMMARY:10ª Feira Literária
DESCRIPTION:
URL:https://guiafriburgo.com.br/evento/10a-feira-literaria/2026-09-17/
LOCATION:Praça Getúlio Vargas\, Praça Getúlio Vargas\, Nova Friburgo\, Rio de Janeiro\, 28625-030\,\, Brazil
CATEGORIES:Diversos
ATTACH;FMTTYPE=image/jpeg:https://guiafriburgo.com.br/wp-content/uploads/2025/10/events-bg.jpg
END:VEVENT
BEGIN:VEVENT
DTSTART;TZID=America/Sao_Paulo:20260918T080000
DTEND;TZID=America/Sao_Paulo:20261009T170000
DTSTAMP:20260422T072003
CREATED:20251005T183109Z
LAST-MODIFIED:20251005T183109Z
UID:10000357-1789718400-1791565200@guiafriburgo.com.br
SUMMARY:10ª Feira Literária
DESCRIPTION:
URL:https://guiafriburgo.com.br/evento/10a-feira-literaria/2026-09-18/
LOCATION:Praça Getúlio Vargas\, Praça Getúlio Vargas\, Nova Friburgo\, Rio de Janeiro\, 28625-030\,\, Brazil
CATEGORIES:Diversos
ATTACH;FMTTYPE=image/jpeg:https://guiafriburgo.com.br/wp-content/uploads/2025/10/events-bg.jpg
END:VEVENT
BEGIN:VEVENT
DTSTART;TZID=America/Sao_Paulo:20260919T080000
DTEND;TZID=America/Sao_Paulo:20261010T170000
DTSTAMP:20260422T072003
CREATED:20251005T183109Z
LAST-MODIFIED:20251005T183109Z
UID:10000358-1789804800-1791651600@guiafriburgo.com.br
SUMMARY:10ª Feira Literária
DESCRIPTION:
URL:https://guiafriburgo.com.br/evento/10a-feira-literaria/2026-09-19/
LOCATION:Praça Getúlio Vargas\, Praça Getúlio Vargas\, Nova Friburgo\, Rio de Janeiro\, 28625-030\,\, Brazil
CATEGORIES:Diversos
ATTACH;FMTTYPE=image/jpeg:https://guiafriburgo.com.br/wp-content/uploads/2025/10/events-bg.jpg
END:VEVENT
BEGIN:VEVENT
DTSTART;TZID=America/Sao_Paulo:20260920T080000
DTEND;TZID=America/Sao_Paulo:20261011T170000
DTSTAMP:20260422T072003
CREATED:20251005T183109Z
LAST-MODIFIED:20251005T183109Z
UID:10000359-1789891200-1791738000@guiafriburgo.com.br
SUMMARY:10ª Feira Literária
DESCRIPTION:
URL:https://guiafriburgo.com.br/evento/10a-feira-literaria/2026-09-20/
LOCATION:Praça Getúlio Vargas\, Praça Getúlio Vargas\, Nova Friburgo\, Rio de Janeiro\, 28625-030\,\, Brazil
CATEGORIES:Diversos
ATTACH;FMTTYPE=image/jpeg:https://guiafriburgo.com.br/wp-content/uploads/2025/10/events-bg.jpg
END:VEVENT
BEGIN:VEVENT
DTSTART;TZID=America/Sao_Paulo:20260921T080000
DTEND;TZID=America/Sao_Paulo:20261012T170000
DTSTAMP:20260422T072003
CREATED:20251005T183109Z
LAST-MODIFIED:20251005T183109Z
UID:10000360-1789977600-1791824400@guiafriburgo.com.br
SUMMARY:10ª Feira Literária
DESCRIPTION:
URL:https://guiafriburgo.com.br/evento/10a-feira-literaria/2026-09-21/
LOCATION:Praça Getúlio Vargas\, Praça Getúlio Vargas\, Nova Friburgo\, Rio de Janeiro\, 28625-030\,\, Brazil
CATEGORIES:Diversos
ATTACH;FMTTYPE=image/jpeg:https://guiafriburgo.com.br/wp-content/uploads/2025/10/events-bg.jpg
END:VEVENT
END:VCALENDAR