BEGIN:VCALENDAR
VERSION:2.0
PRODID:-//Guia Friburgo - ECPv6.15.11//NONSGML v1.0//EN
CALSCALE:GREGORIAN
METHOD:PUBLISH
X-ORIGINAL-URL:https://guiafriburgo.com.br
X-WR-CALDESC:Eventos para Guia Friburgo
REFRESH-INTERVAL;VALUE=DURATION:PT1H
X-Robots-Tag:noindex
X-PUBLISHED-TTL:PT1H
BEGIN:VTIMEZONE
TZID:America/Sao_Paulo
BEGIN:STANDARD
TZOFFSETFROM:-0300
TZOFFSETTO:-0300
TZNAME:-03
DTSTART:20250101T000000
END:STANDARD
END:VTIMEZONE
BEGIN:VEVENT
DTSTART;TZID=America/Sao_Paulo:20260718T080000
DTEND;TZID=America/Sao_Paulo:20260808T170000
DTSTAMP:20260422T022436
CREATED:20251005T183109Z
LAST-MODIFIED:20251005T183109Z
UID:10000295-1784361600-1786208400@guiafriburgo.com.br
SUMMARY:10ª Feira Literária
DESCRIPTION:
URL:https://guiafriburgo.com.br/evento/10a-feira-literaria/2026-07-18/
LOCATION:Praça Getúlio Vargas\, Praça Getúlio Vargas\, Nova Friburgo\, Rio de Janeiro\, 28625-030\,\, Brazil
CATEGORIES:Diversos
ATTACH;FMTTYPE=image/jpeg:https://guiafriburgo.com.br/wp-content/uploads/2025/10/events-bg.jpg
END:VEVENT
BEGIN:VEVENT
DTSTART;TZID=America/Sao_Paulo:20260719T080000
DTEND;TZID=America/Sao_Paulo:20260809T170000
DTSTAMP:20260422T022436
CREATED:20251005T183109Z
LAST-MODIFIED:20251005T183109Z
UID:10000296-1784448000-1786294800@guiafriburgo.com.br
SUMMARY:10ª Feira Literária
DESCRIPTION:
URL:https://guiafriburgo.com.br/evento/10a-feira-literaria/2026-07-19/
LOCATION:Praça Getúlio Vargas\, Praça Getúlio Vargas\, Nova Friburgo\, Rio de Janeiro\, 28625-030\,\, Brazil
CATEGORIES:Diversos
ATTACH;FMTTYPE=image/jpeg:https://guiafriburgo.com.br/wp-content/uploads/2025/10/events-bg.jpg
END:VEVENT
BEGIN:VEVENT
DTSTART;TZID=America/Sao_Paulo:20260720T080000
DTEND;TZID=America/Sao_Paulo:20260810T170000
DTSTAMP:20260422T022436
CREATED:20251005T183109Z
LAST-MODIFIED:20251005T183109Z
UID:10000297-1784534400-1786381200@guiafriburgo.com.br
SUMMARY:10ª Feira Literária
DESCRIPTION:
URL:https://guiafriburgo.com.br/evento/10a-feira-literaria/2026-07-20/
LOCATION:Praça Getúlio Vargas\, Praça Getúlio Vargas\, Nova Friburgo\, Rio de Janeiro\, 28625-030\,\, Brazil
CATEGORIES:Diversos
ATTACH;FMTTYPE=image/jpeg:https://guiafriburgo.com.br/wp-content/uploads/2025/10/events-bg.jpg
END:VEVENT
BEGIN:VEVENT
DTSTART;TZID=America/Sao_Paulo:20260721T080000
DTEND;TZID=America/Sao_Paulo:20260811T170000
DTSTAMP:20260422T022436
CREATED:20251005T183109Z
LAST-MODIFIED:20251005T183109Z
UID:10000298-1784620800-1786467600@guiafriburgo.com.br
SUMMARY:10ª Feira Literária
DESCRIPTION:
URL:https://guiafriburgo.com.br/evento/10a-feira-literaria/2026-07-21/
LOCATION:Praça Getúlio Vargas\, Praça Getúlio Vargas\, Nova Friburgo\, Rio de Janeiro\, 28625-030\,\, Brazil
CATEGORIES:Diversos
ATTACH;FMTTYPE=image/jpeg:https://guiafriburgo.com.br/wp-content/uploads/2025/10/events-bg.jpg
END:VEVENT
BEGIN:VEVENT
DTSTART;TZID=America/Sao_Paulo:20260722T080000
DTEND;TZID=America/Sao_Paulo:20260812T170000
DTSTAMP:20260422T022436
CREATED:20251005T183109Z
LAST-MODIFIED:20251005T183109Z
UID:10000299-1784707200-1786554000@guiafriburgo.com.br
SUMMARY:10ª Feira Literária
DESCRIPTION:
URL:https://guiafriburgo.com.br/evento/10a-feira-literaria/2026-07-22/
LOCATION:Praça Getúlio Vargas\, Praça Getúlio Vargas\, Nova Friburgo\, Rio de Janeiro\, 28625-030\,\, Brazil
CATEGORIES:Diversos
ATTACH;FMTTYPE=image/jpeg:https://guiafriburgo.com.br/wp-content/uploads/2025/10/events-bg.jpg
END:VEVENT
BEGIN:VEVENT
DTSTART;TZID=America/Sao_Paulo:20260723T080000
DTEND;TZID=America/Sao_Paulo:20260813T170000
DTSTAMP:20260422T022436
CREATED:20251005T183109Z
LAST-MODIFIED:20251005T183109Z
UID:10000300-1784793600-1786640400@guiafriburgo.com.br
SUMMARY:10ª Feira Literária
DESCRIPTION:
URL:https://guiafriburgo.com.br/evento/10a-feira-literaria/2026-07-23/
LOCATION:Praça Getúlio Vargas\, Praça Getúlio Vargas\, Nova Friburgo\, Rio de Janeiro\, 28625-030\,\, Brazil
CATEGORIES:Diversos
ATTACH;FMTTYPE=image/jpeg:https://guiafriburgo.com.br/wp-content/uploads/2025/10/events-bg.jpg
END:VEVENT
BEGIN:VEVENT
DTSTART;TZID=America/Sao_Paulo:20260724T080000
DTEND;TZID=America/Sao_Paulo:20260814T170000
DTSTAMP:20260422T022436
CREATED:20251005T183109Z
LAST-MODIFIED:20251005T183109Z
UID:10000301-1784880000-1786726800@guiafriburgo.com.br
SUMMARY:10ª Feira Literária
DESCRIPTION:
URL:https://guiafriburgo.com.br/evento/10a-feira-literaria/2026-07-24/
LOCATION:Praça Getúlio Vargas\, Praça Getúlio Vargas\, Nova Friburgo\, Rio de Janeiro\, 28625-030\,\, Brazil
CATEGORIES:Diversos
ATTACH;FMTTYPE=image/jpeg:https://guiafriburgo.com.br/wp-content/uploads/2025/10/events-bg.jpg
END:VEVENT
BEGIN:VEVENT
DTSTART;TZID=America/Sao_Paulo:20260725T080000
DTEND;TZID=America/Sao_Paulo:20260815T170000
DTSTAMP:20260422T022436
CREATED:20251005T183109Z
LAST-MODIFIED:20251005T183109Z
UID:10000302-1784966400-1786813200@guiafriburgo.com.br
SUMMARY:10ª Feira Literária
DESCRIPTION:
URL:https://guiafriburgo.com.br/evento/10a-feira-literaria/2026-07-25/
LOCATION:Praça Getúlio Vargas\, Praça Getúlio Vargas\, Nova Friburgo\, Rio de Janeiro\, 28625-030\,\, Brazil
CATEGORIES:Diversos
ATTACH;FMTTYPE=image/jpeg:https://guiafriburgo.com.br/wp-content/uploads/2025/10/events-bg.jpg
END:VEVENT
BEGIN:VEVENT
DTSTART;TZID=America/Sao_Paulo:20260726T080000
DTEND;TZID=America/Sao_Paulo:20260816T170000
DTSTAMP:20260422T022436
CREATED:20251005T183109Z
LAST-MODIFIED:20251005T183109Z
UID:10000303-1785052800-1786899600@guiafriburgo.com.br
SUMMARY:10ª Feira Literária
DESCRIPTION:
URL:https://guiafriburgo.com.br/evento/10a-feira-literaria/2026-07-26/
LOCATION:Praça Getúlio Vargas\, Praça Getúlio Vargas\, Nova Friburgo\, Rio de Janeiro\, 28625-030\,\, Brazil
CATEGORIES:Diversos
ATTACH;FMTTYPE=image/jpeg:https://guiafriburgo.com.br/wp-content/uploads/2025/10/events-bg.jpg
END:VEVENT
BEGIN:VEVENT
DTSTART;TZID=America/Sao_Paulo:20260727T080000
DTEND;TZID=America/Sao_Paulo:20260817T170000
DTSTAMP:20260422T022436
CREATED:20251005T183109Z
LAST-MODIFIED:20251005T183109Z
UID:10000304-1785139200-1786986000@guiafriburgo.com.br
SUMMARY:10ª Feira Literária
DESCRIPTION:
URL:https://guiafriburgo.com.br/evento/10a-feira-literaria/2026-07-27/
LOCATION:Praça Getúlio Vargas\, Praça Getúlio Vargas\, Nova Friburgo\, Rio de Janeiro\, 28625-030\,\, Brazil
CATEGORIES:Diversos
ATTACH;FMTTYPE=image/jpeg:https://guiafriburgo.com.br/wp-content/uploads/2025/10/events-bg.jpg
END:VEVENT
BEGIN:VEVENT
DTSTART;TZID=America/Sao_Paulo:20260728T080000
DTEND;TZID=America/Sao_Paulo:20260818T170000
DTSTAMP:20260422T022436
CREATED:20251005T183109Z
LAST-MODIFIED:20251005T183109Z
UID:10000305-1785225600-1787072400@guiafriburgo.com.br
SUMMARY:10ª Feira Literária
DESCRIPTION:
URL:https://guiafriburgo.com.br/evento/10a-feira-literaria/2026-07-28/
LOCATION:Praça Getúlio Vargas\, Praça Getúlio Vargas\, Nova Friburgo\, Rio de Janeiro\, 28625-030\,\, Brazil
CATEGORIES:Diversos
ATTACH;FMTTYPE=image/jpeg:https://guiafriburgo.com.br/wp-content/uploads/2025/10/events-bg.jpg
END:VEVENT
BEGIN:VEVENT
DTSTART;TZID=America/Sao_Paulo:20260729T080000
DTEND;TZID=America/Sao_Paulo:20260819T170000
DTSTAMP:20260422T022436
CREATED:20251005T183109Z
LAST-MODIFIED:20251005T183109Z
UID:10000306-1785312000-1787158800@guiafriburgo.com.br
SUMMARY:10ª Feira Literária
DESCRIPTION:
URL:https://guiafriburgo.com.br/evento/10a-feira-literaria/2026-07-29/
LOCATION:Praça Getúlio Vargas\, Praça Getúlio Vargas\, Nova Friburgo\, Rio de Janeiro\, 28625-030\,\, Brazil
CATEGORIES:Diversos
ATTACH;FMTTYPE=image/jpeg:https://guiafriburgo.com.br/wp-content/uploads/2025/10/events-bg.jpg
END:VEVENT
BEGIN:VEVENT
DTSTART;TZID=America/Sao_Paulo:20260730T080000
DTEND;TZID=America/Sao_Paulo:20260820T170000
DTSTAMP:20260422T022436
CREATED:20251005T183109Z
LAST-MODIFIED:20251005T183109Z
UID:10000307-1785398400-1787245200@guiafriburgo.com.br
SUMMARY:10ª Feira Literária
DESCRIPTION:
URL:https://guiafriburgo.com.br/evento/10a-feira-literaria/2026-07-30/
LOCATION:Praça Getúlio Vargas\, Praça Getúlio Vargas\, Nova Friburgo\, Rio de Janeiro\, 28625-030\,\, Brazil
CATEGORIES:Diversos
ATTACH;FMTTYPE=image/jpeg:https://guiafriburgo.com.br/wp-content/uploads/2025/10/events-bg.jpg
END:VEVENT
BEGIN:VEVENT
DTSTART;TZID=America/Sao_Paulo:20260731T080000
DTEND;TZID=America/Sao_Paulo:20260821T170000
DTSTAMP:20260422T022436
CREATED:20251005T183109Z
LAST-MODIFIED:20251005T183109Z
UID:10000308-1785484800-1787331600@guiafriburgo.com.br
SUMMARY:10ª Feira Literária
DESCRIPTION:
URL:https://guiafriburgo.com.br/evento/10a-feira-literaria/2026-07-31/
LOCATION:Praça Getúlio Vargas\, Praça Getúlio Vargas\, Nova Friburgo\, Rio de Janeiro\, 28625-030\,\, Brazil
CATEGORIES:Diversos
ATTACH;FMTTYPE=image/jpeg:https://guiafriburgo.com.br/wp-content/uploads/2025/10/events-bg.jpg
END:VEVENT
BEGIN:VEVENT
DTSTART;TZID=America/Sao_Paulo:20260801T080000
DTEND;TZID=America/Sao_Paulo:20260822T170000
DTSTAMP:20260422T022436
CREATED:20251005T183109Z
LAST-MODIFIED:20251005T183109Z
UID:10000309-1785571200-1787418000@guiafriburgo.com.br
SUMMARY:10ª Feira Literária
DESCRIPTION:
URL:https://guiafriburgo.com.br/evento/10a-feira-literaria/2026-08-01/
LOCATION:Praça Getúlio Vargas\, Praça Getúlio Vargas\, Nova Friburgo\, Rio de Janeiro\, 28625-030\,\, Brazil
CATEGORIES:Diversos
ATTACH;FMTTYPE=image/jpeg:https://guiafriburgo.com.br/wp-content/uploads/2025/10/events-bg.jpg
END:VEVENT
BEGIN:VEVENT
DTSTART;TZID=America/Sao_Paulo:20260802T080000
DTEND;TZID=America/Sao_Paulo:20260823T170000
DTSTAMP:20260422T022436
CREATED:20251005T183109Z
LAST-MODIFIED:20251005T183109Z
UID:10000310-1785657600-1787504400@guiafriburgo.com.br
SUMMARY:10ª Feira Literária
DESCRIPTION:
URL:https://guiafriburgo.com.br/evento/10a-feira-literaria/2026-08-02/
LOCATION:Praça Getúlio Vargas\, Praça Getúlio Vargas\, Nova Friburgo\, Rio de Janeiro\, 28625-030\,\, Brazil
CATEGORIES:Diversos
ATTACH;FMTTYPE=image/jpeg:https://guiafriburgo.com.br/wp-content/uploads/2025/10/events-bg.jpg
END:VEVENT
BEGIN:VEVENT
DTSTART;TZID=America/Sao_Paulo:20260803T080000
DTEND;TZID=America/Sao_Paulo:20260824T170000
DTSTAMP:20260422T022436
CREATED:20251005T183109Z
LAST-MODIFIED:20251005T183109Z
UID:10000311-1785744000-1787590800@guiafriburgo.com.br
SUMMARY:10ª Feira Literária
DESCRIPTION:
URL:https://guiafriburgo.com.br/evento/10a-feira-literaria/2026-08-03/
LOCATION:Praça Getúlio Vargas\, Praça Getúlio Vargas\, Nova Friburgo\, Rio de Janeiro\, 28625-030\,\, Brazil
CATEGORIES:Diversos
ATTACH;FMTTYPE=image/jpeg:https://guiafriburgo.com.br/wp-content/uploads/2025/10/events-bg.jpg
END:VEVENT
BEGIN:VEVENT
DTSTART;TZID=America/Sao_Paulo:20260804T080000
DTEND;TZID=America/Sao_Paulo:20260825T170000
DTSTAMP:20260422T022436
CREATED:20251005T183109Z
LAST-MODIFIED:20251005T183109Z
UID:10000312-1785830400-1787677200@guiafriburgo.com.br
SUMMARY:10ª Feira Literária
DESCRIPTION:
URL:https://guiafriburgo.com.br/evento/10a-feira-literaria/2026-08-04/
LOCATION:Praça Getúlio Vargas\, Praça Getúlio Vargas\, Nova Friburgo\, Rio de Janeiro\, 28625-030\,\, Brazil
CATEGORIES:Diversos
ATTACH;FMTTYPE=image/jpeg:https://guiafriburgo.com.br/wp-content/uploads/2025/10/events-bg.jpg
END:VEVENT
BEGIN:VEVENT
DTSTART;TZID=America/Sao_Paulo:20260805T080000
DTEND;TZID=America/Sao_Paulo:20260826T170000
DTSTAMP:20260422T022436
CREATED:20251005T183109Z
LAST-MODIFIED:20251005T183109Z
UID:10000313-1785916800-1787763600@guiafriburgo.com.br
SUMMARY:10ª Feira Literária
DESCRIPTION:
URL:https://guiafriburgo.com.br/evento/10a-feira-literaria/2026-08-05/
LOCATION:Praça Getúlio Vargas\, Praça Getúlio Vargas\, Nova Friburgo\, Rio de Janeiro\, 28625-030\,\, Brazil
CATEGORIES:Diversos
ATTACH;FMTTYPE=image/jpeg:https://guiafriburgo.com.br/wp-content/uploads/2025/10/events-bg.jpg
END:VEVENT
BEGIN:VEVENT
DTSTART;TZID=America/Sao_Paulo:20260806T080000
DTEND;TZID=America/Sao_Paulo:20260827T170000
DTSTAMP:20260422T022436
CREATED:20251005T183109Z
LAST-MODIFIED:20251005T183109Z
UID:10000314-1786003200-1787850000@guiafriburgo.com.br
SUMMARY:10ª Feira Literária
DESCRIPTION:
URL:https://guiafriburgo.com.br/evento/10a-feira-literaria/2026-08-06/
LOCATION:Praça Getúlio Vargas\, Praça Getúlio Vargas\, Nova Friburgo\, Rio de Janeiro\, 28625-030\,\, Brazil
CATEGORIES:Diversos
ATTACH;FMTTYPE=image/jpeg:https://guiafriburgo.com.br/wp-content/uploads/2025/10/events-bg.jpg
END:VEVENT
BEGIN:VEVENT
DTSTART;TZID=America/Sao_Paulo:20260807T080000
DTEND;TZID=America/Sao_Paulo:20260828T170000
DTSTAMP:20260422T022436
CREATED:20251005T183109Z
LAST-MODIFIED:20251005T183109Z
UID:10000315-1786089600-1787936400@guiafriburgo.com.br
SUMMARY:10ª Feira Literária
DESCRIPTION:
URL:https://guiafriburgo.com.br/evento/10a-feira-literaria/2026-08-07/
LOCATION:Praça Getúlio Vargas\, Praça Getúlio Vargas\, Nova Friburgo\, Rio de Janeiro\, 28625-030\,\, Brazil
CATEGORIES:Diversos
ATTACH;FMTTYPE=image/jpeg:https://guiafriburgo.com.br/wp-content/uploads/2025/10/events-bg.jpg
END:VEVENT
BEGIN:VEVENT
DTSTART;TZID=America/Sao_Paulo:20260808T080000
DTEND;TZID=America/Sao_Paulo:20260829T170000
DTSTAMP:20260422T022436
CREATED:20251005T183109Z
LAST-MODIFIED:20251005T183109Z
UID:10000316-1786176000-1788022800@guiafriburgo.com.br
SUMMARY:10ª Feira Literária
DESCRIPTION:
URL:https://guiafriburgo.com.br/evento/10a-feira-literaria/2026-08-08/
LOCATION:Praça Getúlio Vargas\, Praça Getúlio Vargas\, Nova Friburgo\, Rio de Janeiro\, 28625-030\,\, Brazil
CATEGORIES:Diversos
ATTACH;FMTTYPE=image/jpeg:https://guiafriburgo.com.br/wp-content/uploads/2025/10/events-bg.jpg
END:VEVENT
BEGIN:VEVENT
DTSTART;TZID=America/Sao_Paulo:20260809T080000
DTEND;TZID=America/Sao_Paulo:20260830T170000
DTSTAMP:20260422T022436
CREATED:20251005T183109Z
LAST-MODIFIED:20251005T183109Z
UID:10000317-1786262400-1788109200@guiafriburgo.com.br
SUMMARY:10ª Feira Literária
DESCRIPTION:
URL:https://guiafriburgo.com.br/evento/10a-feira-literaria/2026-08-09/
LOCATION:Praça Getúlio Vargas\, Praça Getúlio Vargas\, Nova Friburgo\, Rio de Janeiro\, 28625-030\,\, Brazil
CATEGORIES:Diversos
ATTACH;FMTTYPE=image/jpeg:https://guiafriburgo.com.br/wp-content/uploads/2025/10/events-bg.jpg
END:VEVENT
BEGIN:VEVENT
DTSTART;TZID=America/Sao_Paulo:20260810T080000
DTEND;TZID=America/Sao_Paulo:20260831T170000
DTSTAMP:20260422T022436
CREATED:20251005T183109Z
LAST-MODIFIED:20251005T183109Z
UID:10000318-1786348800-1788195600@guiafriburgo.com.br
SUMMARY:10ª Feira Literária
DESCRIPTION:
URL:https://guiafriburgo.com.br/evento/10a-feira-literaria/2026-08-10/
LOCATION:Praça Getúlio Vargas\, Praça Getúlio Vargas\, Nova Friburgo\, Rio de Janeiro\, 28625-030\,\, Brazil
CATEGORIES:Diversos
ATTACH;FMTTYPE=image/jpeg:https://guiafriburgo.com.br/wp-content/uploads/2025/10/events-bg.jpg
END:VEVENT
BEGIN:VEVENT
DTSTART;TZID=America/Sao_Paulo:20260811T080000
DTEND;TZID=America/Sao_Paulo:20260901T170000
DTSTAMP:20260422T022436
CREATED:20251005T183109Z
LAST-MODIFIED:20251005T183109Z
UID:10000319-1786435200-1788282000@guiafriburgo.com.br
SUMMARY:10ª Feira Literária
DESCRIPTION:
URL:https://guiafriburgo.com.br/evento/10a-feira-literaria/2026-08-11/
LOCATION:Praça Getúlio Vargas\, Praça Getúlio Vargas\, Nova Friburgo\, Rio de Janeiro\, 28625-030\,\, Brazil
CATEGORIES:Diversos
ATTACH;FMTTYPE=image/jpeg:https://guiafriburgo.com.br/wp-content/uploads/2025/10/events-bg.jpg
END:VEVENT
BEGIN:VEVENT
DTSTART;TZID=America/Sao_Paulo:20260812T080000
DTEND;TZID=America/Sao_Paulo:20260902T170000
DTSTAMP:20260422T022436
CREATED:20251005T183109Z
LAST-MODIFIED:20251005T183109Z
UID:10000320-1786521600-1788368400@guiafriburgo.com.br
SUMMARY:10ª Feira Literária
DESCRIPTION:
URL:https://guiafriburgo.com.br/evento/10a-feira-literaria/2026-08-12/
LOCATION:Praça Getúlio Vargas\, Praça Getúlio Vargas\, Nova Friburgo\, Rio de Janeiro\, 28625-030\,\, Brazil
CATEGORIES:Diversos
ATTACH;FMTTYPE=image/jpeg:https://guiafriburgo.com.br/wp-content/uploads/2025/10/events-bg.jpg
END:VEVENT
BEGIN:VEVENT
DTSTART;TZID=America/Sao_Paulo:20260813T080000
DTEND;TZID=America/Sao_Paulo:20260903T170000
DTSTAMP:20260422T022436
CREATED:20251005T183109Z
LAST-MODIFIED:20251005T183109Z
UID:10000321-1786608000-1788454800@guiafriburgo.com.br
SUMMARY:10ª Feira Literária
DESCRIPTION:
URL:https://guiafriburgo.com.br/evento/10a-feira-literaria/2026-08-13/
LOCATION:Praça Getúlio Vargas\, Praça Getúlio Vargas\, Nova Friburgo\, Rio de Janeiro\, 28625-030\,\, Brazil
CATEGORIES:Diversos
ATTACH;FMTTYPE=image/jpeg:https://guiafriburgo.com.br/wp-content/uploads/2025/10/events-bg.jpg
END:VEVENT
BEGIN:VEVENT
DTSTART;TZID=America/Sao_Paulo:20260814T080000
DTEND;TZID=America/Sao_Paulo:20260904T170000
DTSTAMP:20260422T022436
CREATED:20251005T183109Z
LAST-MODIFIED:20251005T183109Z
UID:10000322-1786694400-1788541200@guiafriburgo.com.br
SUMMARY:10ª Feira Literária
DESCRIPTION:
URL:https://guiafriburgo.com.br/evento/10a-feira-literaria/2026-08-14/
LOCATION:Praça Getúlio Vargas\, Praça Getúlio Vargas\, Nova Friburgo\, Rio de Janeiro\, 28625-030\,\, Brazil
CATEGORIES:Diversos
ATTACH;FMTTYPE=image/jpeg:https://guiafriburgo.com.br/wp-content/uploads/2025/10/events-bg.jpg
END:VEVENT
BEGIN:VEVENT
DTSTART;TZID=America/Sao_Paulo:20260815T080000
DTEND;TZID=America/Sao_Paulo:20260905T170000
DTSTAMP:20260422T022436
CREATED:20251005T183109Z
LAST-MODIFIED:20251005T183109Z
UID:10000323-1786780800-1788627600@guiafriburgo.com.br
SUMMARY:10ª Feira Literária
DESCRIPTION:
URL:https://guiafriburgo.com.br/evento/10a-feira-literaria/2026-08-15/
LOCATION:Praça Getúlio Vargas\, Praça Getúlio Vargas\, Nova Friburgo\, Rio de Janeiro\, 28625-030\,\, Brazil
CATEGORIES:Diversos
ATTACH;FMTTYPE=image/jpeg:https://guiafriburgo.com.br/wp-content/uploads/2025/10/events-bg.jpg
END:VEVENT
BEGIN:VEVENT
DTSTART;TZID=America/Sao_Paulo:20260816T080000
DTEND;TZID=America/Sao_Paulo:20260906T170000
DTSTAMP:20260422T022436
CREATED:20251005T183109Z
LAST-MODIFIED:20251005T183109Z
UID:10000324-1786867200-1788714000@guiafriburgo.com.br
SUMMARY:10ª Feira Literária
DESCRIPTION:
URL:https://guiafriburgo.com.br/evento/10a-feira-literaria/2026-08-16/
LOCATION:Praça Getúlio Vargas\, Praça Getúlio Vargas\, Nova Friburgo\, Rio de Janeiro\, 28625-030\,\, Brazil
CATEGORIES:Diversos
ATTACH;FMTTYPE=image/jpeg:https://guiafriburgo.com.br/wp-content/uploads/2025/10/events-bg.jpg
END:VEVENT
END:VCALENDAR