BEGIN:VCALENDAR
VERSION:2.0
PRODID:-//Guia Friburgo - ECPv6.15.11//NONSGML v1.0//EN
CALSCALE:GREGORIAN
METHOD:PUBLISH
X-WR-CALNAME:Guia Friburgo
X-ORIGINAL-URL:https://guiafriburgo.com.br
X-WR-CALDESC:Eventos para Guia Friburgo
REFRESH-INTERVAL;VALUE=DURATION:PT1H
X-Robots-Tag:noindex
X-PUBLISHED-TTL:PT1H
BEGIN:VTIMEZONE
TZID:America/Sao_Paulo
BEGIN:STANDARD
TZOFFSETFROM:-0300
TZOFFSETTO:-0300
TZNAME:-03
DTSTART:20250101T000000
END:STANDARD
END:VTIMEZONE
BEGIN:VEVENT
DTSTART;TZID=America/Sao_Paulo:20260715T161500
DTEND;TZID=America/Sao_Paulo:20260715T180000
DTSTAMP:20260421T234953
CREATED:20251005T200520Z
LAST-MODIFIED:20251005T200520Z
UID:10001049-1784132100-1784138400@guiafriburgo.com.br
SUMMARY:Ne Zha 2
DESCRIPTION:
URL:https://guiafriburgo.com.br/evento/ne-zha-2/2026-07-15/
CATEGORIES:Cinema
ATTACH;FMTTYPE=image/png:https://guiafriburgo.com.br/wp-content/uploads/2025/10/Ne-Zha-blog-header-image-1024x576-1.png
END:VEVENT
BEGIN:VEVENT
DTSTART;TZID=America/Sao_Paulo:20260716T161500
DTEND;TZID=America/Sao_Paulo:20260716T180000
DTSTAMP:20260421T234953
CREATED:20251005T200520Z
LAST-MODIFIED:20251005T200520Z
UID:10001050-1784218500-1784224800@guiafriburgo.com.br
SUMMARY:Ne Zha 2
DESCRIPTION:
URL:https://guiafriburgo.com.br/evento/ne-zha-2/2026-07-16/
CATEGORIES:Cinema
ATTACH;FMTTYPE=image/png:https://guiafriburgo.com.br/wp-content/uploads/2025/10/Ne-Zha-blog-header-image-1024x576-1.png
END:VEVENT
BEGIN:VEVENT
DTSTART;TZID=America/Sao_Paulo:20260717T161500
DTEND;TZID=America/Sao_Paulo:20260717T180000
DTSTAMP:20260421T234953
CREATED:20251005T200520Z
LAST-MODIFIED:20251005T200520Z
UID:10001051-1784304900-1784311200@guiafriburgo.com.br
SUMMARY:Ne Zha 2
DESCRIPTION:
URL:https://guiafriburgo.com.br/evento/ne-zha-2/2026-07-17/
CATEGORIES:Cinema
ATTACH;FMTTYPE=image/png:https://guiafriburgo.com.br/wp-content/uploads/2025/10/Ne-Zha-blog-header-image-1024x576-1.png
END:VEVENT
BEGIN:VEVENT
DTSTART;TZID=America/Sao_Paulo:20260718T161500
DTEND;TZID=America/Sao_Paulo:20260718T180000
DTSTAMP:20260421T234953
CREATED:20251005T200520Z
LAST-MODIFIED:20251005T200520Z
UID:10001052-1784391300-1784397600@guiafriburgo.com.br
SUMMARY:Ne Zha 2
DESCRIPTION:
URL:https://guiafriburgo.com.br/evento/ne-zha-2/2026-07-18/
CATEGORIES:Cinema
ATTACH;FMTTYPE=image/png:https://guiafriburgo.com.br/wp-content/uploads/2025/10/Ne-Zha-blog-header-image-1024x576-1.png
END:VEVENT
BEGIN:VEVENT
DTSTART;TZID=America/Sao_Paulo:20260719T161500
DTEND;TZID=America/Sao_Paulo:20260719T180000
DTSTAMP:20260421T234953
CREATED:20251005T200520Z
LAST-MODIFIED:20251005T200520Z
UID:10001053-1784477700-1784484000@guiafriburgo.com.br
SUMMARY:Ne Zha 2
DESCRIPTION:
URL:https://guiafriburgo.com.br/evento/ne-zha-2/2026-07-19/
CATEGORIES:Cinema
ATTACH;FMTTYPE=image/png:https://guiafriburgo.com.br/wp-content/uploads/2025/10/Ne-Zha-blog-header-image-1024x576-1.png
END:VEVENT
BEGIN:VEVENT
DTSTART;TZID=America/Sao_Paulo:20260720T161500
DTEND;TZID=America/Sao_Paulo:20260720T180000
DTSTAMP:20260421T234953
CREATED:20251005T200520Z
LAST-MODIFIED:20251005T200520Z
UID:10001054-1784564100-1784570400@guiafriburgo.com.br
SUMMARY:Ne Zha 2
DESCRIPTION:
URL:https://guiafriburgo.com.br/evento/ne-zha-2/2026-07-20/
CATEGORIES:Cinema
ATTACH;FMTTYPE=image/png:https://guiafriburgo.com.br/wp-content/uploads/2025/10/Ne-Zha-blog-header-image-1024x576-1.png
END:VEVENT
BEGIN:VEVENT
DTSTART;TZID=America/Sao_Paulo:20260721T161500
DTEND;TZID=America/Sao_Paulo:20260721T180000
DTSTAMP:20260421T234953
CREATED:20251005T200520Z
LAST-MODIFIED:20251005T200520Z
UID:10001055-1784650500-1784656800@guiafriburgo.com.br
SUMMARY:Ne Zha 2
DESCRIPTION:
URL:https://guiafriburgo.com.br/evento/ne-zha-2/2026-07-21/
CATEGORIES:Cinema
ATTACH;FMTTYPE=image/png:https://guiafriburgo.com.br/wp-content/uploads/2025/10/Ne-Zha-blog-header-image-1024x576-1.png
END:VEVENT
BEGIN:VEVENT
DTSTART;TZID=America/Sao_Paulo:20260722T161500
DTEND;TZID=America/Sao_Paulo:20260722T180000
DTSTAMP:20260421T234953
CREATED:20251005T200520Z
LAST-MODIFIED:20251005T200520Z
UID:10001056-1784736900-1784743200@guiafriburgo.com.br
SUMMARY:Ne Zha 2
DESCRIPTION:
URL:https://guiafriburgo.com.br/evento/ne-zha-2/2026-07-22/
CATEGORIES:Cinema
ATTACH;FMTTYPE=image/png:https://guiafriburgo.com.br/wp-content/uploads/2025/10/Ne-Zha-blog-header-image-1024x576-1.png
END:VEVENT
BEGIN:VEVENT
DTSTART;TZID=America/Sao_Paulo:20260723T161500
DTEND;TZID=America/Sao_Paulo:20260723T180000
DTSTAMP:20260421T234953
CREATED:20251005T200520Z
LAST-MODIFIED:20251005T200520Z
UID:10001057-1784823300-1784829600@guiafriburgo.com.br
SUMMARY:Ne Zha 2
DESCRIPTION:
URL:https://guiafriburgo.com.br/evento/ne-zha-2/2026-07-23/
CATEGORIES:Cinema
ATTACH;FMTTYPE=image/png:https://guiafriburgo.com.br/wp-content/uploads/2025/10/Ne-Zha-blog-header-image-1024x576-1.png
END:VEVENT
BEGIN:VEVENT
DTSTART;TZID=America/Sao_Paulo:20260724T161500
DTEND;TZID=America/Sao_Paulo:20260724T180000
DTSTAMP:20260421T234953
CREATED:20251005T200520Z
LAST-MODIFIED:20251005T200520Z
UID:10001058-1784909700-1784916000@guiafriburgo.com.br
SUMMARY:Ne Zha 2
DESCRIPTION:
URL:https://guiafriburgo.com.br/evento/ne-zha-2/2026-07-24/
CATEGORIES:Cinema
ATTACH;FMTTYPE=image/png:https://guiafriburgo.com.br/wp-content/uploads/2025/10/Ne-Zha-blog-header-image-1024x576-1.png
END:VEVENT
BEGIN:VEVENT
DTSTART;TZID=America/Sao_Paulo:20260725T161500
DTEND;TZID=America/Sao_Paulo:20260725T180000
DTSTAMP:20260421T234953
CREATED:20251005T200520Z
LAST-MODIFIED:20251005T200520Z
UID:10001059-1784996100-1785002400@guiafriburgo.com.br
SUMMARY:Ne Zha 2
DESCRIPTION:
URL:https://guiafriburgo.com.br/evento/ne-zha-2/2026-07-25/
CATEGORIES:Cinema
ATTACH;FMTTYPE=image/png:https://guiafriburgo.com.br/wp-content/uploads/2025/10/Ne-Zha-blog-header-image-1024x576-1.png
END:VEVENT
BEGIN:VEVENT
DTSTART;TZID=America/Sao_Paulo:20260726T161500
DTEND;TZID=America/Sao_Paulo:20260726T180000
DTSTAMP:20260421T234953
CREATED:20251005T200520Z
LAST-MODIFIED:20251005T200520Z
UID:10001060-1785082500-1785088800@guiafriburgo.com.br
SUMMARY:Ne Zha 2
DESCRIPTION:
URL:https://guiafriburgo.com.br/evento/ne-zha-2/2026-07-26/
CATEGORIES:Cinema
ATTACH;FMTTYPE=image/png:https://guiafriburgo.com.br/wp-content/uploads/2025/10/Ne-Zha-blog-header-image-1024x576-1.png
END:VEVENT
BEGIN:VEVENT
DTSTART;TZID=America/Sao_Paulo:20260727T161500
DTEND;TZID=America/Sao_Paulo:20260727T180000
DTSTAMP:20260421T234953
CREATED:20251005T200520Z
LAST-MODIFIED:20251005T200520Z
UID:10001061-1785168900-1785175200@guiafriburgo.com.br
SUMMARY:Ne Zha 2
DESCRIPTION:
URL:https://guiafriburgo.com.br/evento/ne-zha-2/2026-07-27/
CATEGORIES:Cinema
ATTACH;FMTTYPE=image/png:https://guiafriburgo.com.br/wp-content/uploads/2025/10/Ne-Zha-blog-header-image-1024x576-1.png
END:VEVENT
BEGIN:VEVENT
DTSTART;TZID=America/Sao_Paulo:20260728T161500
DTEND;TZID=America/Sao_Paulo:20260728T180000
DTSTAMP:20260421T234953
CREATED:20251005T200520Z
LAST-MODIFIED:20251005T200520Z
UID:10001062-1785255300-1785261600@guiafriburgo.com.br
SUMMARY:Ne Zha 2
DESCRIPTION:
URL:https://guiafriburgo.com.br/evento/ne-zha-2/2026-07-28/
CATEGORIES:Cinema
ATTACH;FMTTYPE=image/png:https://guiafriburgo.com.br/wp-content/uploads/2025/10/Ne-Zha-blog-header-image-1024x576-1.png
END:VEVENT
BEGIN:VEVENT
DTSTART;TZID=America/Sao_Paulo:20260729T161500
DTEND;TZID=America/Sao_Paulo:20260729T180000
DTSTAMP:20260421T234953
CREATED:20251005T200520Z
LAST-MODIFIED:20251005T200520Z
UID:10001063-1785341700-1785348000@guiafriburgo.com.br
SUMMARY:Ne Zha 2
DESCRIPTION:
URL:https://guiafriburgo.com.br/evento/ne-zha-2/2026-07-29/
CATEGORIES:Cinema
ATTACH;FMTTYPE=image/png:https://guiafriburgo.com.br/wp-content/uploads/2025/10/Ne-Zha-blog-header-image-1024x576-1.png
END:VEVENT
BEGIN:VEVENT
DTSTART;TZID=America/Sao_Paulo:20260730T161500
DTEND;TZID=America/Sao_Paulo:20260730T180000
DTSTAMP:20260421T234953
CREATED:20251005T200520Z
LAST-MODIFIED:20251005T200520Z
UID:10001064-1785428100-1785434400@guiafriburgo.com.br
SUMMARY:Ne Zha 2
DESCRIPTION:
URL:https://guiafriburgo.com.br/evento/ne-zha-2/2026-07-30/
CATEGORIES:Cinema
ATTACH;FMTTYPE=image/png:https://guiafriburgo.com.br/wp-content/uploads/2025/10/Ne-Zha-blog-header-image-1024x576-1.png
END:VEVENT
BEGIN:VEVENT
DTSTART;TZID=America/Sao_Paulo:20260731T161500
DTEND;TZID=America/Sao_Paulo:20260731T180000
DTSTAMP:20260421T234953
CREATED:20251005T200520Z
LAST-MODIFIED:20251005T200520Z
UID:10001065-1785514500-1785520800@guiafriburgo.com.br
SUMMARY:Ne Zha 2
DESCRIPTION:
URL:https://guiafriburgo.com.br/evento/ne-zha-2/2026-07-31/
CATEGORIES:Cinema
ATTACH;FMTTYPE=image/png:https://guiafriburgo.com.br/wp-content/uploads/2025/10/Ne-Zha-blog-header-image-1024x576-1.png
END:VEVENT
BEGIN:VEVENT
DTSTART;TZID=America/Sao_Paulo:20260801T161500
DTEND;TZID=America/Sao_Paulo:20260801T180000
DTSTAMP:20260421T234953
CREATED:20251005T200520Z
LAST-MODIFIED:20251005T200520Z
UID:10001066-1785600900-1785607200@guiafriburgo.com.br
SUMMARY:Ne Zha 2
DESCRIPTION:
URL:https://guiafriburgo.com.br/evento/ne-zha-2/2026-08-01/
CATEGORIES:Cinema
ATTACH;FMTTYPE=image/png:https://guiafriburgo.com.br/wp-content/uploads/2025/10/Ne-Zha-blog-header-image-1024x576-1.png
END:VEVENT
BEGIN:VEVENT
DTSTART;TZID=America/Sao_Paulo:20260802T161500
DTEND;TZID=America/Sao_Paulo:20260802T180000
DTSTAMP:20260421T234953
CREATED:20251005T200520Z
LAST-MODIFIED:20251005T200520Z
UID:10001067-1785687300-1785693600@guiafriburgo.com.br
SUMMARY:Ne Zha 2
DESCRIPTION:
URL:https://guiafriburgo.com.br/evento/ne-zha-2/2026-08-02/
CATEGORIES:Cinema
ATTACH;FMTTYPE=image/png:https://guiafriburgo.com.br/wp-content/uploads/2025/10/Ne-Zha-blog-header-image-1024x576-1.png
END:VEVENT
BEGIN:VEVENT
DTSTART;TZID=America/Sao_Paulo:20260803T161500
DTEND;TZID=America/Sao_Paulo:20260803T180000
DTSTAMP:20260421T234953
CREATED:20251005T200520Z
LAST-MODIFIED:20251005T200520Z
UID:10001068-1785773700-1785780000@guiafriburgo.com.br
SUMMARY:Ne Zha 2
DESCRIPTION:
URL:https://guiafriburgo.com.br/evento/ne-zha-2/2026-08-03/
CATEGORIES:Cinema
ATTACH;FMTTYPE=image/png:https://guiafriburgo.com.br/wp-content/uploads/2025/10/Ne-Zha-blog-header-image-1024x576-1.png
END:VEVENT
BEGIN:VEVENT
DTSTART;TZID=America/Sao_Paulo:20260804T161500
DTEND;TZID=America/Sao_Paulo:20260804T180000
DTSTAMP:20260421T234953
CREATED:20251005T200520Z
LAST-MODIFIED:20251005T200520Z
UID:10001069-1785860100-1785866400@guiafriburgo.com.br
SUMMARY:Ne Zha 2
DESCRIPTION:
URL:https://guiafriburgo.com.br/evento/ne-zha-2/2026-08-04/
CATEGORIES:Cinema
ATTACH;FMTTYPE=image/png:https://guiafriburgo.com.br/wp-content/uploads/2025/10/Ne-Zha-blog-header-image-1024x576-1.png
END:VEVENT
BEGIN:VEVENT
DTSTART;TZID=America/Sao_Paulo:20260805T161500
DTEND;TZID=America/Sao_Paulo:20260805T180000
DTSTAMP:20260421T234953
CREATED:20251005T200520Z
LAST-MODIFIED:20251005T200520Z
UID:10001070-1785946500-1785952800@guiafriburgo.com.br
SUMMARY:Ne Zha 2
DESCRIPTION:
URL:https://guiafriburgo.com.br/evento/ne-zha-2/2026-08-05/
CATEGORIES:Cinema
ATTACH;FMTTYPE=image/png:https://guiafriburgo.com.br/wp-content/uploads/2025/10/Ne-Zha-blog-header-image-1024x576-1.png
END:VEVENT
BEGIN:VEVENT
DTSTART;TZID=America/Sao_Paulo:20260806T161500
DTEND;TZID=America/Sao_Paulo:20260806T180000
DTSTAMP:20260421T234953
CREATED:20251005T200520Z
LAST-MODIFIED:20251005T200520Z
UID:10001071-1786032900-1786039200@guiafriburgo.com.br
SUMMARY:Ne Zha 2
DESCRIPTION:
URL:https://guiafriburgo.com.br/evento/ne-zha-2/2026-08-06/
CATEGORIES:Cinema
ATTACH;FMTTYPE=image/png:https://guiafriburgo.com.br/wp-content/uploads/2025/10/Ne-Zha-blog-header-image-1024x576-1.png
END:VEVENT
BEGIN:VEVENT
DTSTART;TZID=America/Sao_Paulo:20260807T161500
DTEND;TZID=America/Sao_Paulo:20260807T180000
DTSTAMP:20260421T234953
CREATED:20251005T200520Z
LAST-MODIFIED:20251005T200520Z
UID:10001072-1786119300-1786125600@guiafriburgo.com.br
SUMMARY:Ne Zha 2
DESCRIPTION:
URL:https://guiafriburgo.com.br/evento/ne-zha-2/2026-08-07/
CATEGORIES:Cinema
ATTACH;FMTTYPE=image/png:https://guiafriburgo.com.br/wp-content/uploads/2025/10/Ne-Zha-blog-header-image-1024x576-1.png
END:VEVENT
BEGIN:VEVENT
DTSTART;TZID=America/Sao_Paulo:20260808T161500
DTEND;TZID=America/Sao_Paulo:20260808T180000
DTSTAMP:20260421T234953
CREATED:20251005T200520Z
LAST-MODIFIED:20251005T200520Z
UID:10001073-1786205700-1786212000@guiafriburgo.com.br
SUMMARY:Ne Zha 2
DESCRIPTION:
URL:https://guiafriburgo.com.br/evento/ne-zha-2/2026-08-08/
CATEGORIES:Cinema
ATTACH;FMTTYPE=image/png:https://guiafriburgo.com.br/wp-content/uploads/2025/10/Ne-Zha-blog-header-image-1024x576-1.png
END:VEVENT
BEGIN:VEVENT
DTSTART;TZID=America/Sao_Paulo:20260809T161500
DTEND;TZID=America/Sao_Paulo:20260809T180000
DTSTAMP:20260421T234953
CREATED:20251005T200520Z
LAST-MODIFIED:20251005T200520Z
UID:10001074-1786292100-1786298400@guiafriburgo.com.br
SUMMARY:Ne Zha 2
DESCRIPTION:
URL:https://guiafriburgo.com.br/evento/ne-zha-2/2026-08-09/
CATEGORIES:Cinema
ATTACH;FMTTYPE=image/png:https://guiafriburgo.com.br/wp-content/uploads/2025/10/Ne-Zha-blog-header-image-1024x576-1.png
END:VEVENT
BEGIN:VEVENT
DTSTART;TZID=America/Sao_Paulo:20260810T161500
DTEND;TZID=America/Sao_Paulo:20260810T180000
DTSTAMP:20260421T234953
CREATED:20251005T200520Z
LAST-MODIFIED:20251005T200520Z
UID:10001075-1786378500-1786384800@guiafriburgo.com.br
SUMMARY:Ne Zha 2
DESCRIPTION:
URL:https://guiafriburgo.com.br/evento/ne-zha-2/2026-08-10/
CATEGORIES:Cinema
ATTACH;FMTTYPE=image/png:https://guiafriburgo.com.br/wp-content/uploads/2025/10/Ne-Zha-blog-header-image-1024x576-1.png
END:VEVENT
BEGIN:VEVENT
DTSTART;TZID=America/Sao_Paulo:20260811T161500
DTEND;TZID=America/Sao_Paulo:20260811T180000
DTSTAMP:20260421T234953
CREATED:20251005T200520Z
LAST-MODIFIED:20251005T200520Z
UID:10001076-1786464900-1786471200@guiafriburgo.com.br
SUMMARY:Ne Zha 2
DESCRIPTION:
URL:https://guiafriburgo.com.br/evento/ne-zha-2/2026-08-11/
CATEGORIES:Cinema
ATTACH;FMTTYPE=image/png:https://guiafriburgo.com.br/wp-content/uploads/2025/10/Ne-Zha-blog-header-image-1024x576-1.png
END:VEVENT
BEGIN:VEVENT
DTSTART;TZID=America/Sao_Paulo:20260812T161500
DTEND;TZID=America/Sao_Paulo:20260812T180000
DTSTAMP:20260421T234953
CREATED:20251005T200520Z
LAST-MODIFIED:20251005T200520Z
UID:10001077-1786551300-1786557600@guiafriburgo.com.br
SUMMARY:Ne Zha 2
DESCRIPTION:
URL:https://guiafriburgo.com.br/evento/ne-zha-2/2026-08-12/
CATEGORIES:Cinema
ATTACH;FMTTYPE=image/png:https://guiafriburgo.com.br/wp-content/uploads/2025/10/Ne-Zha-blog-header-image-1024x576-1.png
END:VEVENT
BEGIN:VEVENT
DTSTART;TZID=America/Sao_Paulo:20260813T161500
DTEND;TZID=America/Sao_Paulo:20260813T180000
DTSTAMP:20260421T234953
CREATED:20251005T200520Z
LAST-MODIFIED:20251005T200520Z
UID:10001078-1786637700-1786644000@guiafriburgo.com.br
SUMMARY:Ne Zha 2
DESCRIPTION:
URL:https://guiafriburgo.com.br/evento/ne-zha-2/2026-08-13/
CATEGORIES:Cinema
ATTACH;FMTTYPE=image/png:https://guiafriburgo.com.br/wp-content/uploads/2025/10/Ne-Zha-blog-header-image-1024x576-1.png
END:VEVENT
END:VCALENDAR