BEGIN:VCALENDAR
VERSION:2.0
PRODID:-//Guia Friburgo - ECPv6.15.11//NONSGML v1.0//EN
CALSCALE:GREGORIAN
METHOD:PUBLISH
X-WR-CALNAME:Guia Friburgo
X-ORIGINAL-URL:https://guiafriburgo.com.br
X-WR-CALDESC:Eventos para Guia Friburgo
REFRESH-INTERVAL;VALUE=DURATION:PT1H
X-Robots-Tag:noindex
X-PUBLISHED-TTL:PT1H
BEGIN:VTIMEZONE
TZID:America/Sao_Paulo
BEGIN:STANDARD
TZOFFSETFROM:-0300
TZOFFSETTO:-0300
TZNAME:-03
DTSTART:20250101T000000
END:STANDARD
END:VTIMEZONE
BEGIN:VEVENT
DTSTART;TZID=America/Sao_Paulo:20260702T080000
DTEND;TZID=America/Sao_Paulo:20260703T170000
DTSTAMP:20260422T002825
CREATED:20251005T193416Z
LAST-MODIFIED:20251005T193416Z
UID:10000666-1782979200-1783098000@guiafriburgo.com.br
SUMMARY:22ª Semana Nacional de Ciência e Tecnologia
DESCRIPTION:
URL:https://guiafriburgo.com.br/evento/22a-semana-nacional-de-ciencia-e-tecnologia/2026-07-02/
ATTACH;FMTTYPE=image/jpeg:https://guiafriburgo.com.br/wp-content/uploads/2025/10/events-bg-1.jpg
END:VEVENT
BEGIN:VEVENT
DTSTART;TZID=America/Sao_Paulo:20260703T080000
DTEND;TZID=America/Sao_Paulo:20260704T170000
DTSTAMP:20260422T002825
CREATED:20251005T193416Z
LAST-MODIFIED:20251005T193416Z
UID:10000667-1783065600-1783184400@guiafriburgo.com.br
SUMMARY:22ª Semana Nacional de Ciência e Tecnologia
DESCRIPTION:
URL:https://guiafriburgo.com.br/evento/22a-semana-nacional-de-ciencia-e-tecnologia/2026-07-03/
ATTACH;FMTTYPE=image/jpeg:https://guiafriburgo.com.br/wp-content/uploads/2025/10/events-bg-1.jpg
END:VEVENT
BEGIN:VEVENT
DTSTART;TZID=America/Sao_Paulo:20260704T080000
DTEND;TZID=America/Sao_Paulo:20260705T170000
DTSTAMP:20260422T002825
CREATED:20251005T193416Z
LAST-MODIFIED:20251005T193416Z
UID:10000668-1783152000-1783270800@guiafriburgo.com.br
SUMMARY:22ª Semana Nacional de Ciência e Tecnologia
DESCRIPTION:
URL:https://guiafriburgo.com.br/evento/22a-semana-nacional-de-ciencia-e-tecnologia/2026-07-04/
ATTACH;FMTTYPE=image/jpeg:https://guiafriburgo.com.br/wp-content/uploads/2025/10/events-bg-1.jpg
END:VEVENT
BEGIN:VEVENT
DTSTART;TZID=America/Sao_Paulo:20260705T080000
DTEND;TZID=America/Sao_Paulo:20260706T170000
DTSTAMP:20260422T002825
CREATED:20251005T193416Z
LAST-MODIFIED:20251005T193416Z
UID:10000669-1783238400-1783357200@guiafriburgo.com.br
SUMMARY:22ª Semana Nacional de Ciência e Tecnologia
DESCRIPTION:
URL:https://guiafriburgo.com.br/evento/22a-semana-nacional-de-ciencia-e-tecnologia/2026-07-05/
ATTACH;FMTTYPE=image/jpeg:https://guiafriburgo.com.br/wp-content/uploads/2025/10/events-bg-1.jpg
END:VEVENT
BEGIN:VEVENT
DTSTART;TZID=America/Sao_Paulo:20260706T080000
DTEND;TZID=America/Sao_Paulo:20260707T170000
DTSTAMP:20260422T002825
CREATED:20251005T193416Z
LAST-MODIFIED:20251005T193416Z
UID:10000670-1783324800-1783443600@guiafriburgo.com.br
SUMMARY:22ª Semana Nacional de Ciência e Tecnologia
DESCRIPTION:
URL:https://guiafriburgo.com.br/evento/22a-semana-nacional-de-ciencia-e-tecnologia/2026-07-06/
ATTACH;FMTTYPE=image/jpeg:https://guiafriburgo.com.br/wp-content/uploads/2025/10/events-bg-1.jpg
END:VEVENT
BEGIN:VEVENT
DTSTART;TZID=America/Sao_Paulo:20260707T080000
DTEND;TZID=America/Sao_Paulo:20260708T170000
DTSTAMP:20260422T002825
CREATED:20251005T193416Z
LAST-MODIFIED:20251005T193416Z
UID:10000671-1783411200-1783530000@guiafriburgo.com.br
SUMMARY:22ª Semana Nacional de Ciência e Tecnologia
DESCRIPTION:
URL:https://guiafriburgo.com.br/evento/22a-semana-nacional-de-ciencia-e-tecnologia/2026-07-07/
ATTACH;FMTTYPE=image/jpeg:https://guiafriburgo.com.br/wp-content/uploads/2025/10/events-bg-1.jpg
END:VEVENT
BEGIN:VEVENT
DTSTART;TZID=America/Sao_Paulo:20260708T080000
DTEND;TZID=America/Sao_Paulo:20260709T170000
DTSTAMP:20260422T002825
CREATED:20251005T193416Z
LAST-MODIFIED:20251005T193416Z
UID:10000672-1783497600-1783616400@guiafriburgo.com.br
SUMMARY:22ª Semana Nacional de Ciência e Tecnologia
DESCRIPTION:
URL:https://guiafriburgo.com.br/evento/22a-semana-nacional-de-ciencia-e-tecnologia/2026-07-08/
ATTACH;FMTTYPE=image/jpeg:https://guiafriburgo.com.br/wp-content/uploads/2025/10/events-bg-1.jpg
END:VEVENT
BEGIN:VEVENT
DTSTART;TZID=America/Sao_Paulo:20260709T080000
DTEND;TZID=America/Sao_Paulo:20260710T170000
DTSTAMP:20260422T002825
CREATED:20251005T193416Z
LAST-MODIFIED:20251005T193416Z
UID:10000673-1783584000-1783702800@guiafriburgo.com.br
SUMMARY:22ª Semana Nacional de Ciência e Tecnologia
DESCRIPTION:
URL:https://guiafriburgo.com.br/evento/22a-semana-nacional-de-ciencia-e-tecnologia/2026-07-09/
ATTACH;FMTTYPE=image/jpeg:https://guiafriburgo.com.br/wp-content/uploads/2025/10/events-bg-1.jpg
END:VEVENT
BEGIN:VEVENT
DTSTART;TZID=America/Sao_Paulo:20260710T080000
DTEND;TZID=America/Sao_Paulo:20260711T170000
DTSTAMP:20260422T002825
CREATED:20251005T193416Z
LAST-MODIFIED:20251005T193416Z
UID:10000674-1783670400-1783789200@guiafriburgo.com.br
SUMMARY:22ª Semana Nacional de Ciência e Tecnologia
DESCRIPTION:
URL:https://guiafriburgo.com.br/evento/22a-semana-nacional-de-ciencia-e-tecnologia/2026-07-10/
ATTACH;FMTTYPE=image/jpeg:https://guiafriburgo.com.br/wp-content/uploads/2025/10/events-bg-1.jpg
END:VEVENT
BEGIN:VEVENT
DTSTART;TZID=America/Sao_Paulo:20260711T080000
DTEND;TZID=America/Sao_Paulo:20260712T170000
DTSTAMP:20260422T002825
CREATED:20251005T193416Z
LAST-MODIFIED:20251005T193416Z
UID:10000675-1783756800-1783875600@guiafriburgo.com.br
SUMMARY:22ª Semana Nacional de Ciência e Tecnologia
DESCRIPTION:
URL:https://guiafriburgo.com.br/evento/22a-semana-nacional-de-ciencia-e-tecnologia/2026-07-11/
ATTACH;FMTTYPE=image/jpeg:https://guiafriburgo.com.br/wp-content/uploads/2025/10/events-bg-1.jpg
END:VEVENT
BEGIN:VEVENT
DTSTART;TZID=America/Sao_Paulo:20260712T080000
DTEND;TZID=America/Sao_Paulo:20260713T170000
DTSTAMP:20260422T002825
CREATED:20251005T193416Z
LAST-MODIFIED:20251005T193416Z
UID:10000676-1783843200-1783962000@guiafriburgo.com.br
SUMMARY:22ª Semana Nacional de Ciência e Tecnologia
DESCRIPTION:
URL:https://guiafriburgo.com.br/evento/22a-semana-nacional-de-ciencia-e-tecnologia/2026-07-12/
ATTACH;FMTTYPE=image/jpeg:https://guiafriburgo.com.br/wp-content/uploads/2025/10/events-bg-1.jpg
END:VEVENT
BEGIN:VEVENT
DTSTART;TZID=America/Sao_Paulo:20260713T080000
DTEND;TZID=America/Sao_Paulo:20260714T170000
DTSTAMP:20260422T002825
CREATED:20251005T193416Z
LAST-MODIFIED:20251005T193416Z
UID:10000677-1783929600-1784048400@guiafriburgo.com.br
SUMMARY:22ª Semana Nacional de Ciência e Tecnologia
DESCRIPTION:
URL:https://guiafriburgo.com.br/evento/22a-semana-nacional-de-ciencia-e-tecnologia/2026-07-13/
ATTACH;FMTTYPE=image/jpeg:https://guiafriburgo.com.br/wp-content/uploads/2025/10/events-bg-1.jpg
END:VEVENT
BEGIN:VEVENT
DTSTART;TZID=America/Sao_Paulo:20260714T080000
DTEND;TZID=America/Sao_Paulo:20260715T170000
DTSTAMP:20260422T002825
CREATED:20251005T193416Z
LAST-MODIFIED:20251005T193416Z
UID:10000678-1784016000-1784134800@guiafriburgo.com.br
SUMMARY:22ª Semana Nacional de Ciência e Tecnologia
DESCRIPTION:
URL:https://guiafriburgo.com.br/evento/22a-semana-nacional-de-ciencia-e-tecnologia/2026-07-14/
ATTACH;FMTTYPE=image/jpeg:https://guiafriburgo.com.br/wp-content/uploads/2025/10/events-bg-1.jpg
END:VEVENT
BEGIN:VEVENT
DTSTART;TZID=America/Sao_Paulo:20260715T080000
DTEND;TZID=America/Sao_Paulo:20260716T170000
DTSTAMP:20260422T002825
CREATED:20251005T193416Z
LAST-MODIFIED:20251005T193416Z
UID:10000679-1784102400-1784221200@guiafriburgo.com.br
SUMMARY:22ª Semana Nacional de Ciência e Tecnologia
DESCRIPTION:
URL:https://guiafriburgo.com.br/evento/22a-semana-nacional-de-ciencia-e-tecnologia/2026-07-15/
ATTACH;FMTTYPE=image/jpeg:https://guiafriburgo.com.br/wp-content/uploads/2025/10/events-bg-1.jpg
END:VEVENT
BEGIN:VEVENT
DTSTART;TZID=America/Sao_Paulo:20260716T080000
DTEND;TZID=America/Sao_Paulo:20260717T170000
DTSTAMP:20260422T002825
CREATED:20251005T193416Z
LAST-MODIFIED:20251005T193416Z
UID:10000680-1784188800-1784307600@guiafriburgo.com.br
SUMMARY:22ª Semana Nacional de Ciência e Tecnologia
DESCRIPTION:
URL:https://guiafriburgo.com.br/evento/22a-semana-nacional-de-ciencia-e-tecnologia/2026-07-16/
ATTACH;FMTTYPE=image/jpeg:https://guiafriburgo.com.br/wp-content/uploads/2025/10/events-bg-1.jpg
END:VEVENT
BEGIN:VEVENT
DTSTART;TZID=America/Sao_Paulo:20260717T080000
DTEND;TZID=America/Sao_Paulo:20260718T170000
DTSTAMP:20260422T002825
CREATED:20251005T193416Z
LAST-MODIFIED:20251005T193416Z
UID:10000681-1784275200-1784394000@guiafriburgo.com.br
SUMMARY:22ª Semana Nacional de Ciência e Tecnologia
DESCRIPTION:
URL:https://guiafriburgo.com.br/evento/22a-semana-nacional-de-ciencia-e-tecnologia/2026-07-17/
ATTACH;FMTTYPE=image/jpeg:https://guiafriburgo.com.br/wp-content/uploads/2025/10/events-bg-1.jpg
END:VEVENT
BEGIN:VEVENT
DTSTART;TZID=America/Sao_Paulo:20260718T080000
DTEND;TZID=America/Sao_Paulo:20260719T170000
DTSTAMP:20260422T002825
CREATED:20251005T193416Z
LAST-MODIFIED:20251005T193416Z
UID:10000682-1784361600-1784480400@guiafriburgo.com.br
SUMMARY:22ª Semana Nacional de Ciência e Tecnologia
DESCRIPTION:
URL:https://guiafriburgo.com.br/evento/22a-semana-nacional-de-ciencia-e-tecnologia/2026-07-18/
ATTACH;FMTTYPE=image/jpeg:https://guiafriburgo.com.br/wp-content/uploads/2025/10/events-bg-1.jpg
END:VEVENT
BEGIN:VEVENT
DTSTART;TZID=America/Sao_Paulo:20260719T080000
DTEND;TZID=America/Sao_Paulo:20260720T170000
DTSTAMP:20260422T002825
CREATED:20251005T193416Z
LAST-MODIFIED:20251005T193416Z
UID:10000683-1784448000-1784566800@guiafriburgo.com.br
SUMMARY:22ª Semana Nacional de Ciência e Tecnologia
DESCRIPTION:
URL:https://guiafriburgo.com.br/evento/22a-semana-nacional-de-ciencia-e-tecnologia/2026-07-19/
ATTACH;FMTTYPE=image/jpeg:https://guiafriburgo.com.br/wp-content/uploads/2025/10/events-bg-1.jpg
END:VEVENT
BEGIN:VEVENT
DTSTART;TZID=America/Sao_Paulo:20260720T080000
DTEND;TZID=America/Sao_Paulo:20260721T170000
DTSTAMP:20260422T002825
CREATED:20251005T193416Z
LAST-MODIFIED:20251005T193416Z
UID:10000684-1784534400-1784653200@guiafriburgo.com.br
SUMMARY:22ª Semana Nacional de Ciência e Tecnologia
DESCRIPTION:
URL:https://guiafriburgo.com.br/evento/22a-semana-nacional-de-ciencia-e-tecnologia/2026-07-20/
ATTACH;FMTTYPE=image/jpeg:https://guiafriburgo.com.br/wp-content/uploads/2025/10/events-bg-1.jpg
END:VEVENT
BEGIN:VEVENT
DTSTART;TZID=America/Sao_Paulo:20260721T080000
DTEND;TZID=America/Sao_Paulo:20260722T170000
DTSTAMP:20260422T002825
CREATED:20251005T193416Z
LAST-MODIFIED:20251005T193416Z
UID:10000685-1784620800-1784739600@guiafriburgo.com.br
SUMMARY:22ª Semana Nacional de Ciência e Tecnologia
DESCRIPTION:
URL:https://guiafriburgo.com.br/evento/22a-semana-nacional-de-ciencia-e-tecnologia/2026-07-21/
ATTACH;FMTTYPE=image/jpeg:https://guiafriburgo.com.br/wp-content/uploads/2025/10/events-bg-1.jpg
END:VEVENT
BEGIN:VEVENT
DTSTART;TZID=America/Sao_Paulo:20260722T080000
DTEND;TZID=America/Sao_Paulo:20260723T170000
DTSTAMP:20260422T002825
CREATED:20251005T193416Z
LAST-MODIFIED:20251005T193416Z
UID:10000686-1784707200-1784826000@guiafriburgo.com.br
SUMMARY:22ª Semana Nacional de Ciência e Tecnologia
DESCRIPTION:
URL:https://guiafriburgo.com.br/evento/22a-semana-nacional-de-ciencia-e-tecnologia/2026-07-22/
ATTACH;FMTTYPE=image/jpeg:https://guiafriburgo.com.br/wp-content/uploads/2025/10/events-bg-1.jpg
END:VEVENT
BEGIN:VEVENT
DTSTART;TZID=America/Sao_Paulo:20260723T080000
DTEND;TZID=America/Sao_Paulo:20260724T170000
DTSTAMP:20260422T002825
CREATED:20251005T193416Z
LAST-MODIFIED:20251005T193416Z
UID:10000687-1784793600-1784912400@guiafriburgo.com.br
SUMMARY:22ª Semana Nacional de Ciência e Tecnologia
DESCRIPTION:
URL:https://guiafriburgo.com.br/evento/22a-semana-nacional-de-ciencia-e-tecnologia/2026-07-23/
ATTACH;FMTTYPE=image/jpeg:https://guiafriburgo.com.br/wp-content/uploads/2025/10/events-bg-1.jpg
END:VEVENT
BEGIN:VEVENT
DTSTART;TZID=America/Sao_Paulo:20260724T080000
DTEND;TZID=America/Sao_Paulo:20260725T170000
DTSTAMP:20260422T002825
CREATED:20251005T193416Z
LAST-MODIFIED:20251005T193416Z
UID:10000688-1784880000-1784998800@guiafriburgo.com.br
SUMMARY:22ª Semana Nacional de Ciência e Tecnologia
DESCRIPTION:
URL:https://guiafriburgo.com.br/evento/22a-semana-nacional-de-ciencia-e-tecnologia/2026-07-24/
ATTACH;FMTTYPE=image/jpeg:https://guiafriburgo.com.br/wp-content/uploads/2025/10/events-bg-1.jpg
END:VEVENT
BEGIN:VEVENT
DTSTART;TZID=America/Sao_Paulo:20260725T080000
DTEND;TZID=America/Sao_Paulo:20260726T170000
DTSTAMP:20260422T002825
CREATED:20251005T193416Z
LAST-MODIFIED:20251005T193416Z
UID:10000689-1784966400-1785085200@guiafriburgo.com.br
SUMMARY:22ª Semana Nacional de Ciência e Tecnologia
DESCRIPTION:
URL:https://guiafriburgo.com.br/evento/22a-semana-nacional-de-ciencia-e-tecnologia/2026-07-25/
ATTACH;FMTTYPE=image/jpeg:https://guiafriburgo.com.br/wp-content/uploads/2025/10/events-bg-1.jpg
END:VEVENT
BEGIN:VEVENT
DTSTART;TZID=America/Sao_Paulo:20260726T080000
DTEND;TZID=America/Sao_Paulo:20260727T170000
DTSTAMP:20260422T002825
CREATED:20251005T193416Z
LAST-MODIFIED:20251005T193416Z
UID:10000690-1785052800-1785171600@guiafriburgo.com.br
SUMMARY:22ª Semana Nacional de Ciência e Tecnologia
DESCRIPTION:
URL:https://guiafriburgo.com.br/evento/22a-semana-nacional-de-ciencia-e-tecnologia/2026-07-26/
ATTACH;FMTTYPE=image/jpeg:https://guiafriburgo.com.br/wp-content/uploads/2025/10/events-bg-1.jpg
END:VEVENT
BEGIN:VEVENT
DTSTART;TZID=America/Sao_Paulo:20260727T080000
DTEND;TZID=America/Sao_Paulo:20260728T170000
DTSTAMP:20260422T002825
CREATED:20251005T193416Z
LAST-MODIFIED:20251005T193416Z
UID:10000691-1785139200-1785258000@guiafriburgo.com.br
SUMMARY:22ª Semana Nacional de Ciência e Tecnologia
DESCRIPTION:
URL:https://guiafriburgo.com.br/evento/22a-semana-nacional-de-ciencia-e-tecnologia/2026-07-27/
ATTACH;FMTTYPE=image/jpeg:https://guiafriburgo.com.br/wp-content/uploads/2025/10/events-bg-1.jpg
END:VEVENT
BEGIN:VEVENT
DTSTART;TZID=America/Sao_Paulo:20260728T080000
DTEND;TZID=America/Sao_Paulo:20260729T170000
DTSTAMP:20260422T002825
CREATED:20251005T193416Z
LAST-MODIFIED:20251005T193416Z
UID:10000692-1785225600-1785344400@guiafriburgo.com.br
SUMMARY:22ª Semana Nacional de Ciência e Tecnologia
DESCRIPTION:
URL:https://guiafriburgo.com.br/evento/22a-semana-nacional-de-ciencia-e-tecnologia/2026-07-28/
ATTACH;FMTTYPE=image/jpeg:https://guiafriburgo.com.br/wp-content/uploads/2025/10/events-bg-1.jpg
END:VEVENT
BEGIN:VEVENT
DTSTART;TZID=America/Sao_Paulo:20260729T080000
DTEND;TZID=America/Sao_Paulo:20260730T170000
DTSTAMP:20260422T002825
CREATED:20251005T193416Z
LAST-MODIFIED:20251005T193416Z
UID:10000693-1785312000-1785430800@guiafriburgo.com.br
SUMMARY:22ª Semana Nacional de Ciência e Tecnologia
DESCRIPTION:
URL:https://guiafriburgo.com.br/evento/22a-semana-nacional-de-ciencia-e-tecnologia/2026-07-29/
ATTACH;FMTTYPE=image/jpeg:https://guiafriburgo.com.br/wp-content/uploads/2025/10/events-bg-1.jpg
END:VEVENT
BEGIN:VEVENT
DTSTART;TZID=America/Sao_Paulo:20260730T080000
DTEND;TZID=America/Sao_Paulo:20260731T170000
DTSTAMP:20260422T002825
CREATED:20251005T193416Z
LAST-MODIFIED:20251005T193416Z
UID:10000694-1785398400-1785517200@guiafriburgo.com.br
SUMMARY:22ª Semana Nacional de Ciência e Tecnologia
DESCRIPTION:
URL:https://guiafriburgo.com.br/evento/22a-semana-nacional-de-ciencia-e-tecnologia/2026-07-30/
ATTACH;FMTTYPE=image/jpeg:https://guiafriburgo.com.br/wp-content/uploads/2025/10/events-bg-1.jpg
END:VEVENT
BEGIN:VEVENT
DTSTART;TZID=America/Sao_Paulo:20260731T080000
DTEND;TZID=America/Sao_Paulo:20260801T170000
DTSTAMP:20260422T002825
CREATED:20251005T193416Z
LAST-MODIFIED:20251005T193416Z
UID:10000695-1785484800-1785603600@guiafriburgo.com.br
SUMMARY:22ª Semana Nacional de Ciência e Tecnologia
DESCRIPTION:
URL:https://guiafriburgo.com.br/evento/22a-semana-nacional-de-ciencia-e-tecnologia/2026-07-31/
ATTACH;FMTTYPE=image/jpeg:https://guiafriburgo.com.br/wp-content/uploads/2025/10/events-bg-1.jpg
END:VEVENT
END:VCALENDAR