BEGIN:VCALENDAR
VERSION:2.0
PRODID:-//Guia Friburgo - ECPv6.15.11//NONSGML v1.0//EN
CALSCALE:GREGORIAN
METHOD:PUBLISH
X-WR-CALNAME:Guia Friburgo
X-ORIGINAL-URL:https://guiafriburgo.com.br
X-WR-CALDESC:Eventos para Guia Friburgo
REFRESH-INTERVAL;VALUE=DURATION:PT1H
X-Robots-Tag:noindex
X-PUBLISHED-TTL:PT1H
BEGIN:VTIMEZONE
TZID:America/Sao_Paulo
BEGIN:STANDARD
TZOFFSETFROM:-0300
TZOFFSETTO:-0300
TZNAME:-03
DTSTART:20250101T000000
END:STANDARD
END:VTIMEZONE
BEGIN:VEVENT
DTSTART;TZID=America/Sao_Paulo:20260621T161500
DTEND;TZID=America/Sao_Paulo:20260621T180000
DTSTAMP:20260421T200101
CREATED:20251005T200520Z
LAST-MODIFIED:20251005T200520Z
UID:10001025-1782058500-1782064800@guiafriburgo.com.br
SUMMARY:Ne Zha 2
DESCRIPTION:
URL:https://guiafriburgo.com.br/evento/ne-zha-2/2026-06-21/
CATEGORIES:Cinema
ATTACH;FMTTYPE=image/png:https://guiafriburgo.com.br/wp-content/uploads/2025/10/Ne-Zha-blog-header-image-1024x576-1.png
END:VEVENT
BEGIN:VEVENT
DTSTART;TZID=America/Sao_Paulo:20260622T161500
DTEND;TZID=America/Sao_Paulo:20260622T180000
DTSTAMP:20260421T200101
CREATED:20251005T200520Z
LAST-MODIFIED:20251005T200520Z
UID:10001026-1782144900-1782151200@guiafriburgo.com.br
SUMMARY:Ne Zha 2
DESCRIPTION:
URL:https://guiafriburgo.com.br/evento/ne-zha-2/2026-06-22/
CATEGORIES:Cinema
ATTACH;FMTTYPE=image/png:https://guiafriburgo.com.br/wp-content/uploads/2025/10/Ne-Zha-blog-header-image-1024x576-1.png
END:VEVENT
BEGIN:VEVENT
DTSTART;TZID=America/Sao_Paulo:20260623T161500
DTEND;TZID=America/Sao_Paulo:20260623T180000
DTSTAMP:20260421T200101
CREATED:20251005T200520Z
LAST-MODIFIED:20251005T200520Z
UID:10001027-1782231300-1782237600@guiafriburgo.com.br
SUMMARY:Ne Zha 2
DESCRIPTION:
URL:https://guiafriburgo.com.br/evento/ne-zha-2/2026-06-23/
CATEGORIES:Cinema
ATTACH;FMTTYPE=image/png:https://guiafriburgo.com.br/wp-content/uploads/2025/10/Ne-Zha-blog-header-image-1024x576-1.png
END:VEVENT
BEGIN:VEVENT
DTSTART;TZID=America/Sao_Paulo:20260624T161500
DTEND;TZID=America/Sao_Paulo:20260624T180000
DTSTAMP:20260421T200101
CREATED:20251005T200520Z
LAST-MODIFIED:20251005T200520Z
UID:10001028-1782317700-1782324000@guiafriburgo.com.br
SUMMARY:Ne Zha 2
DESCRIPTION:
URL:https://guiafriburgo.com.br/evento/ne-zha-2/2026-06-24/
CATEGORIES:Cinema
ATTACH;FMTTYPE=image/png:https://guiafriburgo.com.br/wp-content/uploads/2025/10/Ne-Zha-blog-header-image-1024x576-1.png
END:VEVENT
BEGIN:VEVENT
DTSTART;TZID=America/Sao_Paulo:20260625T161500
DTEND;TZID=America/Sao_Paulo:20260625T180000
DTSTAMP:20260421T200101
CREATED:20251005T200520Z
LAST-MODIFIED:20251005T200520Z
UID:10001029-1782404100-1782410400@guiafriburgo.com.br
SUMMARY:Ne Zha 2
DESCRIPTION:
URL:https://guiafriburgo.com.br/evento/ne-zha-2/2026-06-25/
CATEGORIES:Cinema
ATTACH;FMTTYPE=image/png:https://guiafriburgo.com.br/wp-content/uploads/2025/10/Ne-Zha-blog-header-image-1024x576-1.png
END:VEVENT
BEGIN:VEVENT
DTSTART;TZID=America/Sao_Paulo:20260626T161500
DTEND;TZID=America/Sao_Paulo:20260626T180000
DTSTAMP:20260421T200101
CREATED:20251005T200520Z
LAST-MODIFIED:20251005T200520Z
UID:10001030-1782490500-1782496800@guiafriburgo.com.br
SUMMARY:Ne Zha 2
DESCRIPTION:
URL:https://guiafriburgo.com.br/evento/ne-zha-2/2026-06-26/
CATEGORIES:Cinema
ATTACH;FMTTYPE=image/png:https://guiafriburgo.com.br/wp-content/uploads/2025/10/Ne-Zha-blog-header-image-1024x576-1.png
END:VEVENT
BEGIN:VEVENT
DTSTART;TZID=America/Sao_Paulo:20260627T161500
DTEND;TZID=America/Sao_Paulo:20260627T180000
DTSTAMP:20260421T200101
CREATED:20251005T200520Z
LAST-MODIFIED:20251005T200520Z
UID:10001031-1782576900-1782583200@guiafriburgo.com.br
SUMMARY:Ne Zha 2
DESCRIPTION:
URL:https://guiafriburgo.com.br/evento/ne-zha-2/2026-06-27/
CATEGORIES:Cinema
ATTACH;FMTTYPE=image/png:https://guiafriburgo.com.br/wp-content/uploads/2025/10/Ne-Zha-blog-header-image-1024x576-1.png
END:VEVENT
BEGIN:VEVENT
DTSTART;TZID=America/Sao_Paulo:20260628T161500
DTEND;TZID=America/Sao_Paulo:20260628T180000
DTSTAMP:20260421T200101
CREATED:20251005T200520Z
LAST-MODIFIED:20251005T200520Z
UID:10001032-1782663300-1782669600@guiafriburgo.com.br
SUMMARY:Ne Zha 2
DESCRIPTION:
URL:https://guiafriburgo.com.br/evento/ne-zha-2/2026-06-28/
CATEGORIES:Cinema
ATTACH;FMTTYPE=image/png:https://guiafriburgo.com.br/wp-content/uploads/2025/10/Ne-Zha-blog-header-image-1024x576-1.png
END:VEVENT
BEGIN:VEVENT
DTSTART;TZID=America/Sao_Paulo:20260629T161500
DTEND;TZID=America/Sao_Paulo:20260629T180000
DTSTAMP:20260421T200101
CREATED:20251005T200520Z
LAST-MODIFIED:20251005T200520Z
UID:10001033-1782749700-1782756000@guiafriburgo.com.br
SUMMARY:Ne Zha 2
DESCRIPTION:
URL:https://guiafriburgo.com.br/evento/ne-zha-2/2026-06-29/
CATEGORIES:Cinema
ATTACH;FMTTYPE=image/png:https://guiafriburgo.com.br/wp-content/uploads/2025/10/Ne-Zha-blog-header-image-1024x576-1.png
END:VEVENT
BEGIN:VEVENT
DTSTART;TZID=America/Sao_Paulo:20260630T161500
DTEND;TZID=America/Sao_Paulo:20260630T180000
DTSTAMP:20260421T200101
CREATED:20251005T200520Z
LAST-MODIFIED:20251005T200520Z
UID:10001034-1782836100-1782842400@guiafriburgo.com.br
SUMMARY:Ne Zha 2
DESCRIPTION:
URL:https://guiafriburgo.com.br/evento/ne-zha-2/2026-06-30/
CATEGORIES:Cinema
ATTACH;FMTTYPE=image/png:https://guiafriburgo.com.br/wp-content/uploads/2025/10/Ne-Zha-blog-header-image-1024x576-1.png
END:VEVENT
BEGIN:VEVENT
DTSTART;TZID=America/Sao_Paulo:20260701T161500
DTEND;TZID=America/Sao_Paulo:20260701T180000
DTSTAMP:20260421T200101
CREATED:20251005T200520Z
LAST-MODIFIED:20251005T200520Z
UID:10001035-1782922500-1782928800@guiafriburgo.com.br
SUMMARY:Ne Zha 2
DESCRIPTION:
URL:https://guiafriburgo.com.br/evento/ne-zha-2/2026-07-01/
CATEGORIES:Cinema
ATTACH;FMTTYPE=image/png:https://guiafriburgo.com.br/wp-content/uploads/2025/10/Ne-Zha-blog-header-image-1024x576-1.png
END:VEVENT
BEGIN:VEVENT
DTSTART;TZID=America/Sao_Paulo:20260702T161500
DTEND;TZID=America/Sao_Paulo:20260702T180000
DTSTAMP:20260421T200101
CREATED:20251005T200520Z
LAST-MODIFIED:20251005T200520Z
UID:10001036-1783008900-1783015200@guiafriburgo.com.br
SUMMARY:Ne Zha 2
DESCRIPTION:
URL:https://guiafriburgo.com.br/evento/ne-zha-2/2026-07-02/
CATEGORIES:Cinema
ATTACH;FMTTYPE=image/png:https://guiafriburgo.com.br/wp-content/uploads/2025/10/Ne-Zha-blog-header-image-1024x576-1.png
END:VEVENT
BEGIN:VEVENT
DTSTART;TZID=America/Sao_Paulo:20260703T161500
DTEND;TZID=America/Sao_Paulo:20260703T180000
DTSTAMP:20260421T200101
CREATED:20251005T200520Z
LAST-MODIFIED:20251005T200520Z
UID:10001037-1783095300-1783101600@guiafriburgo.com.br
SUMMARY:Ne Zha 2
DESCRIPTION:
URL:https://guiafriburgo.com.br/evento/ne-zha-2/2026-07-03/
CATEGORIES:Cinema
ATTACH;FMTTYPE=image/png:https://guiafriburgo.com.br/wp-content/uploads/2025/10/Ne-Zha-blog-header-image-1024x576-1.png
END:VEVENT
BEGIN:VEVENT
DTSTART;TZID=America/Sao_Paulo:20260704T161500
DTEND;TZID=America/Sao_Paulo:20260704T180000
DTSTAMP:20260421T200101
CREATED:20251005T200520Z
LAST-MODIFIED:20251005T200520Z
UID:10001038-1783181700-1783188000@guiafriburgo.com.br
SUMMARY:Ne Zha 2
DESCRIPTION:
URL:https://guiafriburgo.com.br/evento/ne-zha-2/2026-07-04/
CATEGORIES:Cinema
ATTACH;FMTTYPE=image/png:https://guiafriburgo.com.br/wp-content/uploads/2025/10/Ne-Zha-blog-header-image-1024x576-1.png
END:VEVENT
BEGIN:VEVENT
DTSTART;TZID=America/Sao_Paulo:20260705T161500
DTEND;TZID=America/Sao_Paulo:20260705T180000
DTSTAMP:20260421T200101
CREATED:20251005T200520Z
LAST-MODIFIED:20251005T200520Z
UID:10001039-1783268100-1783274400@guiafriburgo.com.br
SUMMARY:Ne Zha 2
DESCRIPTION:
URL:https://guiafriburgo.com.br/evento/ne-zha-2/2026-07-05/
CATEGORIES:Cinema
ATTACH;FMTTYPE=image/png:https://guiafriburgo.com.br/wp-content/uploads/2025/10/Ne-Zha-blog-header-image-1024x576-1.png
END:VEVENT
BEGIN:VEVENT
DTSTART;TZID=America/Sao_Paulo:20260706T161500
DTEND;TZID=America/Sao_Paulo:20260706T180000
DTSTAMP:20260421T200101
CREATED:20251005T200520Z
LAST-MODIFIED:20251005T200520Z
UID:10001040-1783354500-1783360800@guiafriburgo.com.br
SUMMARY:Ne Zha 2
DESCRIPTION:
URL:https://guiafriburgo.com.br/evento/ne-zha-2/2026-07-06/
CATEGORIES:Cinema
ATTACH;FMTTYPE=image/png:https://guiafriburgo.com.br/wp-content/uploads/2025/10/Ne-Zha-blog-header-image-1024x576-1.png
END:VEVENT
BEGIN:VEVENT
DTSTART;TZID=America/Sao_Paulo:20260707T161500
DTEND;TZID=America/Sao_Paulo:20260707T180000
DTSTAMP:20260421T200101
CREATED:20251005T200520Z
LAST-MODIFIED:20251005T200520Z
UID:10001041-1783440900-1783447200@guiafriburgo.com.br
SUMMARY:Ne Zha 2
DESCRIPTION:
URL:https://guiafriburgo.com.br/evento/ne-zha-2/2026-07-07/
CATEGORIES:Cinema
ATTACH;FMTTYPE=image/png:https://guiafriburgo.com.br/wp-content/uploads/2025/10/Ne-Zha-blog-header-image-1024x576-1.png
END:VEVENT
BEGIN:VEVENT
DTSTART;TZID=America/Sao_Paulo:20260708T161500
DTEND;TZID=America/Sao_Paulo:20260708T180000
DTSTAMP:20260421T200101
CREATED:20251005T200520Z
LAST-MODIFIED:20251005T200520Z
UID:10001042-1783527300-1783533600@guiafriburgo.com.br
SUMMARY:Ne Zha 2
DESCRIPTION:
URL:https://guiafriburgo.com.br/evento/ne-zha-2/2026-07-08/
CATEGORIES:Cinema
ATTACH;FMTTYPE=image/png:https://guiafriburgo.com.br/wp-content/uploads/2025/10/Ne-Zha-blog-header-image-1024x576-1.png
END:VEVENT
BEGIN:VEVENT
DTSTART;TZID=America/Sao_Paulo:20260709T161500
DTEND;TZID=America/Sao_Paulo:20260709T180000
DTSTAMP:20260421T200101
CREATED:20251005T200520Z
LAST-MODIFIED:20251005T200520Z
UID:10001043-1783613700-1783620000@guiafriburgo.com.br
SUMMARY:Ne Zha 2
DESCRIPTION:
URL:https://guiafriburgo.com.br/evento/ne-zha-2/2026-07-09/
CATEGORIES:Cinema
ATTACH;FMTTYPE=image/png:https://guiafriburgo.com.br/wp-content/uploads/2025/10/Ne-Zha-blog-header-image-1024x576-1.png
END:VEVENT
BEGIN:VEVENT
DTSTART;TZID=America/Sao_Paulo:20260710T161500
DTEND;TZID=America/Sao_Paulo:20260710T180000
DTSTAMP:20260421T200101
CREATED:20251005T200520Z
LAST-MODIFIED:20251005T200520Z
UID:10001044-1783700100-1783706400@guiafriburgo.com.br
SUMMARY:Ne Zha 2
DESCRIPTION:
URL:https://guiafriburgo.com.br/evento/ne-zha-2/2026-07-10/
CATEGORIES:Cinema
ATTACH;FMTTYPE=image/png:https://guiafriburgo.com.br/wp-content/uploads/2025/10/Ne-Zha-blog-header-image-1024x576-1.png
END:VEVENT
BEGIN:VEVENT
DTSTART;TZID=America/Sao_Paulo:20260711T161500
DTEND;TZID=America/Sao_Paulo:20260711T180000
DTSTAMP:20260421T200101
CREATED:20251005T200520Z
LAST-MODIFIED:20251005T200520Z
UID:10001045-1783786500-1783792800@guiafriburgo.com.br
SUMMARY:Ne Zha 2
DESCRIPTION:
URL:https://guiafriburgo.com.br/evento/ne-zha-2/2026-07-11/
CATEGORIES:Cinema
ATTACH;FMTTYPE=image/png:https://guiafriburgo.com.br/wp-content/uploads/2025/10/Ne-Zha-blog-header-image-1024x576-1.png
END:VEVENT
BEGIN:VEVENT
DTSTART;TZID=America/Sao_Paulo:20260712T161500
DTEND;TZID=America/Sao_Paulo:20260712T180000
DTSTAMP:20260421T200101
CREATED:20251005T200520Z
LAST-MODIFIED:20251005T200520Z
UID:10001046-1783872900-1783879200@guiafriburgo.com.br
SUMMARY:Ne Zha 2
DESCRIPTION:
URL:https://guiafriburgo.com.br/evento/ne-zha-2/2026-07-12/
CATEGORIES:Cinema
ATTACH;FMTTYPE=image/png:https://guiafriburgo.com.br/wp-content/uploads/2025/10/Ne-Zha-blog-header-image-1024x576-1.png
END:VEVENT
BEGIN:VEVENT
DTSTART;TZID=America/Sao_Paulo:20260713T161500
DTEND;TZID=America/Sao_Paulo:20260713T180000
DTSTAMP:20260421T200101
CREATED:20251005T200520Z
LAST-MODIFIED:20251005T200520Z
UID:10001047-1783959300-1783965600@guiafriburgo.com.br
SUMMARY:Ne Zha 2
DESCRIPTION:
URL:https://guiafriburgo.com.br/evento/ne-zha-2/2026-07-13/
CATEGORIES:Cinema
ATTACH;FMTTYPE=image/png:https://guiafriburgo.com.br/wp-content/uploads/2025/10/Ne-Zha-blog-header-image-1024x576-1.png
END:VEVENT
BEGIN:VEVENT
DTSTART;TZID=America/Sao_Paulo:20260714T161500
DTEND;TZID=America/Sao_Paulo:20260714T180000
DTSTAMP:20260421T200101
CREATED:20251005T200520Z
LAST-MODIFIED:20251005T200520Z
UID:10001048-1784045700-1784052000@guiafriburgo.com.br
SUMMARY:Ne Zha 2
DESCRIPTION:
URL:https://guiafriburgo.com.br/evento/ne-zha-2/2026-07-14/
CATEGORIES:Cinema
ATTACH;FMTTYPE=image/png:https://guiafriburgo.com.br/wp-content/uploads/2025/10/Ne-Zha-blog-header-image-1024x576-1.png
END:VEVENT
BEGIN:VEVENT
DTSTART;TZID=America/Sao_Paulo:20260715T161500
DTEND;TZID=America/Sao_Paulo:20260715T180000
DTSTAMP:20260421T200101
CREATED:20251005T200520Z
LAST-MODIFIED:20251005T200520Z
UID:10001049-1784132100-1784138400@guiafriburgo.com.br
SUMMARY:Ne Zha 2
DESCRIPTION:
URL:https://guiafriburgo.com.br/evento/ne-zha-2/2026-07-15/
CATEGORIES:Cinema
ATTACH;FMTTYPE=image/png:https://guiafriburgo.com.br/wp-content/uploads/2025/10/Ne-Zha-blog-header-image-1024x576-1.png
END:VEVENT
BEGIN:VEVENT
DTSTART;TZID=America/Sao_Paulo:20260716T161500
DTEND;TZID=America/Sao_Paulo:20260716T180000
DTSTAMP:20260421T200101
CREATED:20251005T200520Z
LAST-MODIFIED:20251005T200520Z
UID:10001050-1784218500-1784224800@guiafriburgo.com.br
SUMMARY:Ne Zha 2
DESCRIPTION:
URL:https://guiafriburgo.com.br/evento/ne-zha-2/2026-07-16/
CATEGORIES:Cinema
ATTACH;FMTTYPE=image/png:https://guiafriburgo.com.br/wp-content/uploads/2025/10/Ne-Zha-blog-header-image-1024x576-1.png
END:VEVENT
BEGIN:VEVENT
DTSTART;TZID=America/Sao_Paulo:20260717T161500
DTEND;TZID=America/Sao_Paulo:20260717T180000
DTSTAMP:20260421T200101
CREATED:20251005T200520Z
LAST-MODIFIED:20251005T200520Z
UID:10001051-1784304900-1784311200@guiafriburgo.com.br
SUMMARY:Ne Zha 2
DESCRIPTION:
URL:https://guiafriburgo.com.br/evento/ne-zha-2/2026-07-17/
CATEGORIES:Cinema
ATTACH;FMTTYPE=image/png:https://guiafriburgo.com.br/wp-content/uploads/2025/10/Ne-Zha-blog-header-image-1024x576-1.png
END:VEVENT
BEGIN:VEVENT
DTSTART;TZID=America/Sao_Paulo:20260718T161500
DTEND;TZID=America/Sao_Paulo:20260718T180000
DTSTAMP:20260421T200101
CREATED:20251005T200520Z
LAST-MODIFIED:20251005T200520Z
UID:10001052-1784391300-1784397600@guiafriburgo.com.br
SUMMARY:Ne Zha 2
DESCRIPTION:
URL:https://guiafriburgo.com.br/evento/ne-zha-2/2026-07-18/
CATEGORIES:Cinema
ATTACH;FMTTYPE=image/png:https://guiafriburgo.com.br/wp-content/uploads/2025/10/Ne-Zha-blog-header-image-1024x576-1.png
END:VEVENT
BEGIN:VEVENT
DTSTART;TZID=America/Sao_Paulo:20260719T161500
DTEND;TZID=America/Sao_Paulo:20260719T180000
DTSTAMP:20260421T200101
CREATED:20251005T200520Z
LAST-MODIFIED:20251005T200520Z
UID:10001053-1784477700-1784484000@guiafriburgo.com.br
SUMMARY:Ne Zha 2
DESCRIPTION:
URL:https://guiafriburgo.com.br/evento/ne-zha-2/2026-07-19/
CATEGORIES:Cinema
ATTACH;FMTTYPE=image/png:https://guiafriburgo.com.br/wp-content/uploads/2025/10/Ne-Zha-blog-header-image-1024x576-1.png
END:VEVENT
BEGIN:VEVENT
DTSTART;TZID=America/Sao_Paulo:20260720T161500
DTEND;TZID=America/Sao_Paulo:20260720T180000
DTSTAMP:20260421T200101
CREATED:20251005T200520Z
LAST-MODIFIED:20251005T200520Z
UID:10001054-1784564100-1784570400@guiafriburgo.com.br
SUMMARY:Ne Zha 2
DESCRIPTION:
URL:https://guiafriburgo.com.br/evento/ne-zha-2/2026-07-20/
CATEGORIES:Cinema
ATTACH;FMTTYPE=image/png:https://guiafriburgo.com.br/wp-content/uploads/2025/10/Ne-Zha-blog-header-image-1024x576-1.png
END:VEVENT
END:VCALENDAR