BEGIN:VCALENDAR
VERSION:2.0
PRODID:-//Guia Friburgo - ECPv6.15.11//NONSGML v1.0//EN
CALSCALE:GREGORIAN
METHOD:PUBLISH
X-WR-CALNAME:Guia Friburgo
X-ORIGINAL-URL:https://guiafriburgo.com.br
X-WR-CALDESC:Eventos para Guia Friburgo
REFRESH-INTERVAL;VALUE=DURATION:PT1H
X-Robots-Tag:noindex
X-PUBLISHED-TTL:PT1H
BEGIN:VTIMEZONE
TZID:America/Sao_Paulo
BEGIN:STANDARD
TZOFFSETFROM:-0300
TZOFFSETTO:-0300
TZNAME:-03
DTSTART:20250101T000000
END:STANDARD
END:VTIMEZONE
BEGIN:VEVENT
DTSTART;TZID=America/Sao_Paulo:20260608T080000
DTEND;TZID=America/Sao_Paulo:20260609T170000
DTSTAMP:20260421T200040
CREATED:20251005T193416Z
LAST-MODIFIED:20251005T193416Z
UID:10000642-1780905600-1781024400@guiafriburgo.com.br
SUMMARY:22ª Semana Nacional de Ciência e Tecnologia
DESCRIPTION:
URL:https://guiafriburgo.com.br/evento/22a-semana-nacional-de-ciencia-e-tecnologia/2026-06-08/
ATTACH;FMTTYPE=image/jpeg:https://guiafriburgo.com.br/wp-content/uploads/2025/10/events-bg-1.jpg
END:VEVENT
BEGIN:VEVENT
DTSTART;TZID=America/Sao_Paulo:20260609T080000
DTEND;TZID=America/Sao_Paulo:20260610T170000
DTSTAMP:20260421T200040
CREATED:20251005T193416Z
LAST-MODIFIED:20251005T193416Z
UID:10000643-1780992000-1781110800@guiafriburgo.com.br
SUMMARY:22ª Semana Nacional de Ciência e Tecnologia
DESCRIPTION:
URL:https://guiafriburgo.com.br/evento/22a-semana-nacional-de-ciencia-e-tecnologia/2026-06-09/
ATTACH;FMTTYPE=image/jpeg:https://guiafriburgo.com.br/wp-content/uploads/2025/10/events-bg-1.jpg
END:VEVENT
BEGIN:VEVENT
DTSTART;TZID=America/Sao_Paulo:20260610T080000
DTEND;TZID=America/Sao_Paulo:20260611T170000
DTSTAMP:20260421T200040
CREATED:20251005T193416Z
LAST-MODIFIED:20251005T193416Z
UID:10000644-1781078400-1781197200@guiafriburgo.com.br
SUMMARY:22ª Semana Nacional de Ciência e Tecnologia
DESCRIPTION:
URL:https://guiafriburgo.com.br/evento/22a-semana-nacional-de-ciencia-e-tecnologia/2026-06-10/
ATTACH;FMTTYPE=image/jpeg:https://guiafriburgo.com.br/wp-content/uploads/2025/10/events-bg-1.jpg
END:VEVENT
BEGIN:VEVENT
DTSTART;TZID=America/Sao_Paulo:20260611T080000
DTEND;TZID=America/Sao_Paulo:20260612T170000
DTSTAMP:20260421T200040
CREATED:20251005T193416Z
LAST-MODIFIED:20251005T193416Z
UID:10000645-1781164800-1781283600@guiafriburgo.com.br
SUMMARY:22ª Semana Nacional de Ciência e Tecnologia
DESCRIPTION:
URL:https://guiafriburgo.com.br/evento/22a-semana-nacional-de-ciencia-e-tecnologia/2026-06-11/
ATTACH;FMTTYPE=image/jpeg:https://guiafriburgo.com.br/wp-content/uploads/2025/10/events-bg-1.jpg
END:VEVENT
BEGIN:VEVENT
DTSTART;TZID=America/Sao_Paulo:20260612T080000
DTEND;TZID=America/Sao_Paulo:20260613T170000
DTSTAMP:20260421T200040
CREATED:20251005T193416Z
LAST-MODIFIED:20251005T193416Z
UID:10000646-1781251200-1781370000@guiafriburgo.com.br
SUMMARY:22ª Semana Nacional de Ciência e Tecnologia
DESCRIPTION:
URL:https://guiafriburgo.com.br/evento/22a-semana-nacional-de-ciencia-e-tecnologia/2026-06-12/
ATTACH;FMTTYPE=image/jpeg:https://guiafriburgo.com.br/wp-content/uploads/2025/10/events-bg-1.jpg
END:VEVENT
BEGIN:VEVENT
DTSTART;TZID=America/Sao_Paulo:20260613T080000
DTEND;TZID=America/Sao_Paulo:20260614T170000
DTSTAMP:20260421T200040
CREATED:20251005T193416Z
LAST-MODIFIED:20251005T193416Z
UID:10000647-1781337600-1781456400@guiafriburgo.com.br
SUMMARY:22ª Semana Nacional de Ciência e Tecnologia
DESCRIPTION:
URL:https://guiafriburgo.com.br/evento/22a-semana-nacional-de-ciencia-e-tecnologia/2026-06-13/
ATTACH;FMTTYPE=image/jpeg:https://guiafriburgo.com.br/wp-content/uploads/2025/10/events-bg-1.jpg
END:VEVENT
BEGIN:VEVENT
DTSTART;TZID=America/Sao_Paulo:20260614T080000
DTEND;TZID=America/Sao_Paulo:20260615T170000
DTSTAMP:20260421T200040
CREATED:20251005T193416Z
LAST-MODIFIED:20251005T193416Z
UID:10000648-1781424000-1781542800@guiafriburgo.com.br
SUMMARY:22ª Semana Nacional de Ciência e Tecnologia
DESCRIPTION:
URL:https://guiafriburgo.com.br/evento/22a-semana-nacional-de-ciencia-e-tecnologia/2026-06-14/
ATTACH;FMTTYPE=image/jpeg:https://guiafriburgo.com.br/wp-content/uploads/2025/10/events-bg-1.jpg
END:VEVENT
BEGIN:VEVENT
DTSTART;TZID=America/Sao_Paulo:20260615T080000
DTEND;TZID=America/Sao_Paulo:20260616T170000
DTSTAMP:20260421T200040
CREATED:20251005T193416Z
LAST-MODIFIED:20251005T193416Z
UID:10000649-1781510400-1781629200@guiafriburgo.com.br
SUMMARY:22ª Semana Nacional de Ciência e Tecnologia
DESCRIPTION:
URL:https://guiafriburgo.com.br/evento/22a-semana-nacional-de-ciencia-e-tecnologia/2026-06-15/
ATTACH;FMTTYPE=image/jpeg:https://guiafriburgo.com.br/wp-content/uploads/2025/10/events-bg-1.jpg
END:VEVENT
BEGIN:VEVENT
DTSTART;TZID=America/Sao_Paulo:20260616T080000
DTEND;TZID=America/Sao_Paulo:20260617T170000
DTSTAMP:20260421T200040
CREATED:20251005T193416Z
LAST-MODIFIED:20251005T193416Z
UID:10000650-1781596800-1781715600@guiafriburgo.com.br
SUMMARY:22ª Semana Nacional de Ciência e Tecnologia
DESCRIPTION:
URL:https://guiafriburgo.com.br/evento/22a-semana-nacional-de-ciencia-e-tecnologia/2026-06-16/
ATTACH;FMTTYPE=image/jpeg:https://guiafriburgo.com.br/wp-content/uploads/2025/10/events-bg-1.jpg
END:VEVENT
BEGIN:VEVENT
DTSTART;TZID=America/Sao_Paulo:20260617T080000
DTEND;TZID=America/Sao_Paulo:20260618T170000
DTSTAMP:20260421T200040
CREATED:20251005T193416Z
LAST-MODIFIED:20251005T193416Z
UID:10000651-1781683200-1781802000@guiafriburgo.com.br
SUMMARY:22ª Semana Nacional de Ciência e Tecnologia
DESCRIPTION:
URL:https://guiafriburgo.com.br/evento/22a-semana-nacional-de-ciencia-e-tecnologia/2026-06-17/
ATTACH;FMTTYPE=image/jpeg:https://guiafriburgo.com.br/wp-content/uploads/2025/10/events-bg-1.jpg
END:VEVENT
BEGIN:VEVENT
DTSTART;TZID=America/Sao_Paulo:20260618T080000
DTEND;TZID=America/Sao_Paulo:20260619T170000
DTSTAMP:20260421T200040
CREATED:20251005T193416Z
LAST-MODIFIED:20251005T193416Z
UID:10000652-1781769600-1781888400@guiafriburgo.com.br
SUMMARY:22ª Semana Nacional de Ciência e Tecnologia
DESCRIPTION:
URL:https://guiafriburgo.com.br/evento/22a-semana-nacional-de-ciencia-e-tecnologia/2026-06-18/
ATTACH;FMTTYPE=image/jpeg:https://guiafriburgo.com.br/wp-content/uploads/2025/10/events-bg-1.jpg
END:VEVENT
BEGIN:VEVENT
DTSTART;TZID=America/Sao_Paulo:20260619T080000
DTEND;TZID=America/Sao_Paulo:20260620T170000
DTSTAMP:20260421T200040
CREATED:20251005T193416Z
LAST-MODIFIED:20251005T193416Z
UID:10000653-1781856000-1781974800@guiafriburgo.com.br
SUMMARY:22ª Semana Nacional de Ciência e Tecnologia
DESCRIPTION:
URL:https://guiafriburgo.com.br/evento/22a-semana-nacional-de-ciencia-e-tecnologia/2026-06-19/
ATTACH;FMTTYPE=image/jpeg:https://guiafriburgo.com.br/wp-content/uploads/2025/10/events-bg-1.jpg
END:VEVENT
BEGIN:VEVENT
DTSTART;TZID=America/Sao_Paulo:20260620T080000
DTEND;TZID=America/Sao_Paulo:20260621T170000
DTSTAMP:20260421T200040
CREATED:20251005T193416Z
LAST-MODIFIED:20251005T193416Z
UID:10000654-1781942400-1782061200@guiafriburgo.com.br
SUMMARY:22ª Semana Nacional de Ciência e Tecnologia
DESCRIPTION:
URL:https://guiafriburgo.com.br/evento/22a-semana-nacional-de-ciencia-e-tecnologia/2026-06-20/
ATTACH;FMTTYPE=image/jpeg:https://guiafriburgo.com.br/wp-content/uploads/2025/10/events-bg-1.jpg
END:VEVENT
BEGIN:VEVENT
DTSTART;TZID=America/Sao_Paulo:20260621T080000
DTEND;TZID=America/Sao_Paulo:20260622T170000
DTSTAMP:20260421T200040
CREATED:20251005T193416Z
LAST-MODIFIED:20251005T193416Z
UID:10000655-1782028800-1782147600@guiafriburgo.com.br
SUMMARY:22ª Semana Nacional de Ciência e Tecnologia
DESCRIPTION:
URL:https://guiafriburgo.com.br/evento/22a-semana-nacional-de-ciencia-e-tecnologia/2026-06-21/
ATTACH;FMTTYPE=image/jpeg:https://guiafriburgo.com.br/wp-content/uploads/2025/10/events-bg-1.jpg
END:VEVENT
BEGIN:VEVENT
DTSTART;TZID=America/Sao_Paulo:20260622T080000
DTEND;TZID=America/Sao_Paulo:20260623T170000
DTSTAMP:20260421T200040
CREATED:20251005T193416Z
LAST-MODIFIED:20251005T193416Z
UID:10000656-1782115200-1782234000@guiafriburgo.com.br
SUMMARY:22ª Semana Nacional de Ciência e Tecnologia
DESCRIPTION:
URL:https://guiafriburgo.com.br/evento/22a-semana-nacional-de-ciencia-e-tecnologia/2026-06-22/
ATTACH;FMTTYPE=image/jpeg:https://guiafriburgo.com.br/wp-content/uploads/2025/10/events-bg-1.jpg
END:VEVENT
BEGIN:VEVENT
DTSTART;TZID=America/Sao_Paulo:20260623T080000
DTEND;TZID=America/Sao_Paulo:20260624T170000
DTSTAMP:20260421T200040
CREATED:20251005T193416Z
LAST-MODIFIED:20251005T193416Z
UID:10000657-1782201600-1782320400@guiafriburgo.com.br
SUMMARY:22ª Semana Nacional de Ciência e Tecnologia
DESCRIPTION:
URL:https://guiafriburgo.com.br/evento/22a-semana-nacional-de-ciencia-e-tecnologia/2026-06-23/
ATTACH;FMTTYPE=image/jpeg:https://guiafriburgo.com.br/wp-content/uploads/2025/10/events-bg-1.jpg
END:VEVENT
BEGIN:VEVENT
DTSTART;TZID=America/Sao_Paulo:20260624T080000
DTEND;TZID=America/Sao_Paulo:20260625T170000
DTSTAMP:20260421T200040
CREATED:20251005T193416Z
LAST-MODIFIED:20251005T193416Z
UID:10000658-1782288000-1782406800@guiafriburgo.com.br
SUMMARY:22ª Semana Nacional de Ciência e Tecnologia
DESCRIPTION:
URL:https://guiafriburgo.com.br/evento/22a-semana-nacional-de-ciencia-e-tecnologia/2026-06-24/
ATTACH;FMTTYPE=image/jpeg:https://guiafriburgo.com.br/wp-content/uploads/2025/10/events-bg-1.jpg
END:VEVENT
BEGIN:VEVENT
DTSTART;TZID=America/Sao_Paulo:20260625T080000
DTEND;TZID=America/Sao_Paulo:20260626T170000
DTSTAMP:20260421T200040
CREATED:20251005T193416Z
LAST-MODIFIED:20251005T193416Z
UID:10000659-1782374400-1782493200@guiafriburgo.com.br
SUMMARY:22ª Semana Nacional de Ciência e Tecnologia
DESCRIPTION:
URL:https://guiafriburgo.com.br/evento/22a-semana-nacional-de-ciencia-e-tecnologia/2026-06-25/
ATTACH;FMTTYPE=image/jpeg:https://guiafriburgo.com.br/wp-content/uploads/2025/10/events-bg-1.jpg
END:VEVENT
BEGIN:VEVENT
DTSTART;TZID=America/Sao_Paulo:20260626T080000
DTEND;TZID=America/Sao_Paulo:20260627T170000
DTSTAMP:20260421T200040
CREATED:20251005T193416Z
LAST-MODIFIED:20251005T193416Z
UID:10000660-1782460800-1782579600@guiafriburgo.com.br
SUMMARY:22ª Semana Nacional de Ciência e Tecnologia
DESCRIPTION:
URL:https://guiafriburgo.com.br/evento/22a-semana-nacional-de-ciencia-e-tecnologia/2026-06-26/
ATTACH;FMTTYPE=image/jpeg:https://guiafriburgo.com.br/wp-content/uploads/2025/10/events-bg-1.jpg
END:VEVENT
BEGIN:VEVENT
DTSTART;TZID=America/Sao_Paulo:20260627T080000
DTEND;TZID=America/Sao_Paulo:20260628T170000
DTSTAMP:20260421T200040
CREATED:20251005T193416Z
LAST-MODIFIED:20251005T193416Z
UID:10000661-1782547200-1782666000@guiafriburgo.com.br
SUMMARY:22ª Semana Nacional de Ciência e Tecnologia
DESCRIPTION:
URL:https://guiafriburgo.com.br/evento/22a-semana-nacional-de-ciencia-e-tecnologia/2026-06-27/
ATTACH;FMTTYPE=image/jpeg:https://guiafriburgo.com.br/wp-content/uploads/2025/10/events-bg-1.jpg
END:VEVENT
BEGIN:VEVENT
DTSTART;TZID=America/Sao_Paulo:20260628T080000
DTEND;TZID=America/Sao_Paulo:20260629T170000
DTSTAMP:20260421T200040
CREATED:20251005T193416Z
LAST-MODIFIED:20251005T193416Z
UID:10000662-1782633600-1782752400@guiafriburgo.com.br
SUMMARY:22ª Semana Nacional de Ciência e Tecnologia
DESCRIPTION:
URL:https://guiafriburgo.com.br/evento/22a-semana-nacional-de-ciencia-e-tecnologia/2026-06-28/
ATTACH;FMTTYPE=image/jpeg:https://guiafriburgo.com.br/wp-content/uploads/2025/10/events-bg-1.jpg
END:VEVENT
BEGIN:VEVENT
DTSTART;TZID=America/Sao_Paulo:20260629T080000
DTEND;TZID=America/Sao_Paulo:20260630T170000
DTSTAMP:20260421T200040
CREATED:20251005T193416Z
LAST-MODIFIED:20251005T193416Z
UID:10000663-1782720000-1782838800@guiafriburgo.com.br
SUMMARY:22ª Semana Nacional de Ciência e Tecnologia
DESCRIPTION:
URL:https://guiafriburgo.com.br/evento/22a-semana-nacional-de-ciencia-e-tecnologia/2026-06-29/
ATTACH;FMTTYPE=image/jpeg:https://guiafriburgo.com.br/wp-content/uploads/2025/10/events-bg-1.jpg
END:VEVENT
BEGIN:VEVENT
DTSTART;TZID=America/Sao_Paulo:20260630T080000
DTEND;TZID=America/Sao_Paulo:20260701T170000
DTSTAMP:20260421T200040
CREATED:20251005T193416Z
LAST-MODIFIED:20251005T193416Z
UID:10000664-1782806400-1782925200@guiafriburgo.com.br
SUMMARY:22ª Semana Nacional de Ciência e Tecnologia
DESCRIPTION:
URL:https://guiafriburgo.com.br/evento/22a-semana-nacional-de-ciencia-e-tecnologia/2026-06-30/
ATTACH;FMTTYPE=image/jpeg:https://guiafriburgo.com.br/wp-content/uploads/2025/10/events-bg-1.jpg
END:VEVENT
BEGIN:VEVENT
DTSTART;TZID=America/Sao_Paulo:20260701T080000
DTEND;TZID=America/Sao_Paulo:20260702T170000
DTSTAMP:20260421T200040
CREATED:20251005T193416Z
LAST-MODIFIED:20251005T193416Z
UID:10000665-1782892800-1783011600@guiafriburgo.com.br
SUMMARY:22ª Semana Nacional de Ciência e Tecnologia
DESCRIPTION:
URL:https://guiafriburgo.com.br/evento/22a-semana-nacional-de-ciencia-e-tecnologia/2026-07-01/
ATTACH;FMTTYPE=image/jpeg:https://guiafriburgo.com.br/wp-content/uploads/2025/10/events-bg-1.jpg
END:VEVENT
BEGIN:VEVENT
DTSTART;TZID=America/Sao_Paulo:20260702T080000
DTEND;TZID=America/Sao_Paulo:20260703T170000
DTSTAMP:20260421T200040
CREATED:20251005T193416Z
LAST-MODIFIED:20251005T193416Z
UID:10000666-1782979200-1783098000@guiafriburgo.com.br
SUMMARY:22ª Semana Nacional de Ciência e Tecnologia
DESCRIPTION:
URL:https://guiafriburgo.com.br/evento/22a-semana-nacional-de-ciencia-e-tecnologia/2026-07-02/
ATTACH;FMTTYPE=image/jpeg:https://guiafriburgo.com.br/wp-content/uploads/2025/10/events-bg-1.jpg
END:VEVENT
BEGIN:VEVENT
DTSTART;TZID=America/Sao_Paulo:20260703T080000
DTEND;TZID=America/Sao_Paulo:20260704T170000
DTSTAMP:20260421T200040
CREATED:20251005T193416Z
LAST-MODIFIED:20251005T193416Z
UID:10000667-1783065600-1783184400@guiafriburgo.com.br
SUMMARY:22ª Semana Nacional de Ciência e Tecnologia
DESCRIPTION:
URL:https://guiafriburgo.com.br/evento/22a-semana-nacional-de-ciencia-e-tecnologia/2026-07-03/
ATTACH;FMTTYPE=image/jpeg:https://guiafriburgo.com.br/wp-content/uploads/2025/10/events-bg-1.jpg
END:VEVENT
BEGIN:VEVENT
DTSTART;TZID=America/Sao_Paulo:20260704T080000
DTEND;TZID=America/Sao_Paulo:20260705T170000
DTSTAMP:20260421T200040
CREATED:20251005T193416Z
LAST-MODIFIED:20251005T193416Z
UID:10000668-1783152000-1783270800@guiafriburgo.com.br
SUMMARY:22ª Semana Nacional de Ciência e Tecnologia
DESCRIPTION:
URL:https://guiafriburgo.com.br/evento/22a-semana-nacional-de-ciencia-e-tecnologia/2026-07-04/
ATTACH;FMTTYPE=image/jpeg:https://guiafriburgo.com.br/wp-content/uploads/2025/10/events-bg-1.jpg
END:VEVENT
BEGIN:VEVENT
DTSTART;TZID=America/Sao_Paulo:20260705T080000
DTEND;TZID=America/Sao_Paulo:20260706T170000
DTSTAMP:20260421T200040
CREATED:20251005T193416Z
LAST-MODIFIED:20251005T193416Z
UID:10000669-1783238400-1783357200@guiafriburgo.com.br
SUMMARY:22ª Semana Nacional de Ciência e Tecnologia
DESCRIPTION:
URL:https://guiafriburgo.com.br/evento/22a-semana-nacional-de-ciencia-e-tecnologia/2026-07-05/
ATTACH;FMTTYPE=image/jpeg:https://guiafriburgo.com.br/wp-content/uploads/2025/10/events-bg-1.jpg
END:VEVENT
BEGIN:VEVENT
DTSTART;TZID=America/Sao_Paulo:20260706T080000
DTEND;TZID=America/Sao_Paulo:20260707T170000
DTSTAMP:20260421T200040
CREATED:20251005T193416Z
LAST-MODIFIED:20251005T193416Z
UID:10000670-1783324800-1783443600@guiafriburgo.com.br
SUMMARY:22ª Semana Nacional de Ciência e Tecnologia
DESCRIPTION:
URL:https://guiafriburgo.com.br/evento/22a-semana-nacional-de-ciencia-e-tecnologia/2026-07-06/
ATTACH;FMTTYPE=image/jpeg:https://guiafriburgo.com.br/wp-content/uploads/2025/10/events-bg-1.jpg
END:VEVENT
BEGIN:VEVENT
DTSTART;TZID=America/Sao_Paulo:20260707T080000
DTEND;TZID=America/Sao_Paulo:20260708T170000
DTSTAMP:20260421T200040
CREATED:20251005T193416Z
LAST-MODIFIED:20251005T193416Z
UID:10000671-1783411200-1783530000@guiafriburgo.com.br
SUMMARY:22ª Semana Nacional de Ciência e Tecnologia
DESCRIPTION:
URL:https://guiafriburgo.com.br/evento/22a-semana-nacional-de-ciencia-e-tecnologia/2026-07-07/
ATTACH;FMTTYPE=image/jpeg:https://guiafriburgo.com.br/wp-content/uploads/2025/10/events-bg-1.jpg
END:VEVENT
END:VCALENDAR