BEGIN:VCALENDAR
VERSION:2.0
PRODID:-//Guia Friburgo - ECPv6.15.11//NONSGML v1.0//EN
CALSCALE:GREGORIAN
METHOD:PUBLISH
X-WR-CALNAME:Guia Friburgo
X-ORIGINAL-URL:https://guiafriburgo.com.br
X-WR-CALDESC:Eventos para Guia Friburgo
REFRESH-INTERVAL;VALUE=DURATION:PT1H
X-Robots-Tag:noindex
X-PUBLISHED-TTL:PT1H
BEGIN:VTIMEZONE
TZID:America/Sao_Paulo
BEGIN:STANDARD
TZOFFSETFROM:-0300
TZOFFSETTO:-0300
TZNAME:-03
DTSTART:20250101T000000
END:STANDARD
END:VTIMEZONE
BEGIN:VEVENT
DTSTART;TZID=America/Sao_Paulo:20260502T080000
DTEND;TZID=America/Sao_Paulo:20260503T170000
DTSTAMP:20260421T144414
CREATED:20251005T193416Z
LAST-MODIFIED:20251005T193416Z
UID:10000605-1777708800-1777827600@guiafriburgo.com.br
SUMMARY:22ª Semana Nacional de Ciência e Tecnologia
DESCRIPTION:
URL:https://guiafriburgo.com.br/evento/22a-semana-nacional-de-ciencia-e-tecnologia/2026-05-02/
ATTACH;FMTTYPE=image/jpeg:https://guiafriburgo.com.br/wp-content/uploads/2025/10/events-bg-1.jpg
END:VEVENT
BEGIN:VEVENT
DTSTART;TZID=America/Sao_Paulo:20260503T080000
DTEND;TZID=America/Sao_Paulo:20260504T170000
DTSTAMP:20260421T144414
CREATED:20251005T193416Z
LAST-MODIFIED:20251005T193416Z
UID:10000606-1777795200-1777914000@guiafriburgo.com.br
SUMMARY:22ª Semana Nacional de Ciência e Tecnologia
DESCRIPTION:
URL:https://guiafriburgo.com.br/evento/22a-semana-nacional-de-ciencia-e-tecnologia/2026-05-03/
ATTACH;FMTTYPE=image/jpeg:https://guiafriburgo.com.br/wp-content/uploads/2025/10/events-bg-1.jpg
END:VEVENT
BEGIN:VEVENT
DTSTART;TZID=America/Sao_Paulo:20260504T080000
DTEND;TZID=America/Sao_Paulo:20260505T170000
DTSTAMP:20260421T144414
CREATED:20251005T193416Z
LAST-MODIFIED:20251005T193416Z
UID:10000607-1777881600-1778000400@guiafriburgo.com.br
SUMMARY:22ª Semana Nacional de Ciência e Tecnologia
DESCRIPTION:
URL:https://guiafriburgo.com.br/evento/22a-semana-nacional-de-ciencia-e-tecnologia/2026-05-04/
ATTACH;FMTTYPE=image/jpeg:https://guiafriburgo.com.br/wp-content/uploads/2025/10/events-bg-1.jpg
END:VEVENT
BEGIN:VEVENT
DTSTART;TZID=America/Sao_Paulo:20260505T080000
DTEND;TZID=America/Sao_Paulo:20260506T170000
DTSTAMP:20260421T144414
CREATED:20251005T193416Z
LAST-MODIFIED:20251005T193416Z
UID:10000608-1777968000-1778086800@guiafriburgo.com.br
SUMMARY:22ª Semana Nacional de Ciência e Tecnologia
DESCRIPTION:
URL:https://guiafriburgo.com.br/evento/22a-semana-nacional-de-ciencia-e-tecnologia/2026-05-05/
ATTACH;FMTTYPE=image/jpeg:https://guiafriburgo.com.br/wp-content/uploads/2025/10/events-bg-1.jpg
END:VEVENT
BEGIN:VEVENT
DTSTART;TZID=America/Sao_Paulo:20260506T080000
DTEND;TZID=America/Sao_Paulo:20260507T170000
DTSTAMP:20260421T144414
CREATED:20251005T193416Z
LAST-MODIFIED:20251005T193416Z
UID:10000609-1778054400-1778173200@guiafriburgo.com.br
SUMMARY:22ª Semana Nacional de Ciência e Tecnologia
DESCRIPTION:
URL:https://guiafriburgo.com.br/evento/22a-semana-nacional-de-ciencia-e-tecnologia/2026-05-06/
ATTACH;FMTTYPE=image/jpeg:https://guiafriburgo.com.br/wp-content/uploads/2025/10/events-bg-1.jpg
END:VEVENT
BEGIN:VEVENT
DTSTART;TZID=America/Sao_Paulo:20260507T080000
DTEND;TZID=America/Sao_Paulo:20260508T170000
DTSTAMP:20260421T144414
CREATED:20251005T193416Z
LAST-MODIFIED:20251005T193416Z
UID:10000610-1778140800-1778259600@guiafriburgo.com.br
SUMMARY:22ª Semana Nacional de Ciência e Tecnologia
DESCRIPTION:
URL:https://guiafriburgo.com.br/evento/22a-semana-nacional-de-ciencia-e-tecnologia/2026-05-07/
ATTACH;FMTTYPE=image/jpeg:https://guiafriburgo.com.br/wp-content/uploads/2025/10/events-bg-1.jpg
END:VEVENT
BEGIN:VEVENT
DTSTART;TZID=America/Sao_Paulo:20260508T080000
DTEND;TZID=America/Sao_Paulo:20260509T170000
DTSTAMP:20260421T144414
CREATED:20251005T193416Z
LAST-MODIFIED:20251005T193416Z
UID:10000611-1778227200-1778346000@guiafriburgo.com.br
SUMMARY:22ª Semana Nacional de Ciência e Tecnologia
DESCRIPTION:
URL:https://guiafriburgo.com.br/evento/22a-semana-nacional-de-ciencia-e-tecnologia/2026-05-08/
ATTACH;FMTTYPE=image/jpeg:https://guiafriburgo.com.br/wp-content/uploads/2025/10/events-bg-1.jpg
END:VEVENT
BEGIN:VEVENT
DTSTART;TZID=America/Sao_Paulo:20260509T080000
DTEND;TZID=America/Sao_Paulo:20260510T170000
DTSTAMP:20260421T144414
CREATED:20251005T193416Z
LAST-MODIFIED:20251005T193416Z
UID:10000612-1778313600-1778432400@guiafriburgo.com.br
SUMMARY:22ª Semana Nacional de Ciência e Tecnologia
DESCRIPTION:
URL:https://guiafriburgo.com.br/evento/22a-semana-nacional-de-ciencia-e-tecnologia/2026-05-09/
ATTACH;FMTTYPE=image/jpeg:https://guiafriburgo.com.br/wp-content/uploads/2025/10/events-bg-1.jpg
END:VEVENT
BEGIN:VEVENT
DTSTART;TZID=America/Sao_Paulo:20260510T080000
DTEND;TZID=America/Sao_Paulo:20260511T170000
DTSTAMP:20260421T144414
CREATED:20251005T193416Z
LAST-MODIFIED:20251005T193416Z
UID:10000613-1778400000-1778518800@guiafriburgo.com.br
SUMMARY:22ª Semana Nacional de Ciência e Tecnologia
DESCRIPTION:
URL:https://guiafriburgo.com.br/evento/22a-semana-nacional-de-ciencia-e-tecnologia/2026-05-10/
ATTACH;FMTTYPE=image/jpeg:https://guiafriburgo.com.br/wp-content/uploads/2025/10/events-bg-1.jpg
END:VEVENT
BEGIN:VEVENT
DTSTART;TZID=America/Sao_Paulo:20260511T080000
DTEND;TZID=America/Sao_Paulo:20260512T170000
DTSTAMP:20260421T144414
CREATED:20251005T193416Z
LAST-MODIFIED:20251005T193416Z
UID:10000614-1778486400-1778605200@guiafriburgo.com.br
SUMMARY:22ª Semana Nacional de Ciência e Tecnologia
DESCRIPTION:
URL:https://guiafriburgo.com.br/evento/22a-semana-nacional-de-ciencia-e-tecnologia/2026-05-11/
ATTACH;FMTTYPE=image/jpeg:https://guiafriburgo.com.br/wp-content/uploads/2025/10/events-bg-1.jpg
END:VEVENT
BEGIN:VEVENT
DTSTART;TZID=America/Sao_Paulo:20260512T080000
DTEND;TZID=America/Sao_Paulo:20260513T170000
DTSTAMP:20260421T144414
CREATED:20251005T193416Z
LAST-MODIFIED:20251005T193416Z
UID:10000615-1778572800-1778691600@guiafriburgo.com.br
SUMMARY:22ª Semana Nacional de Ciência e Tecnologia
DESCRIPTION:
URL:https://guiafriburgo.com.br/evento/22a-semana-nacional-de-ciencia-e-tecnologia/2026-05-12/
ATTACH;FMTTYPE=image/jpeg:https://guiafriburgo.com.br/wp-content/uploads/2025/10/events-bg-1.jpg
END:VEVENT
BEGIN:VEVENT
DTSTART;TZID=America/Sao_Paulo:20260513T080000
DTEND;TZID=America/Sao_Paulo:20260514T170000
DTSTAMP:20260421T144414
CREATED:20251005T193416Z
LAST-MODIFIED:20251005T193416Z
UID:10000616-1778659200-1778778000@guiafriburgo.com.br
SUMMARY:22ª Semana Nacional de Ciência e Tecnologia
DESCRIPTION:
URL:https://guiafriburgo.com.br/evento/22a-semana-nacional-de-ciencia-e-tecnologia/2026-05-13/
ATTACH;FMTTYPE=image/jpeg:https://guiafriburgo.com.br/wp-content/uploads/2025/10/events-bg-1.jpg
END:VEVENT
BEGIN:VEVENT
DTSTART;TZID=America/Sao_Paulo:20260514T080000
DTEND;TZID=America/Sao_Paulo:20260515T170000
DTSTAMP:20260421T144414
CREATED:20251005T193416Z
LAST-MODIFIED:20251005T193416Z
UID:10000617-1778745600-1778864400@guiafriburgo.com.br
SUMMARY:22ª Semana Nacional de Ciência e Tecnologia
DESCRIPTION:
URL:https://guiafriburgo.com.br/evento/22a-semana-nacional-de-ciencia-e-tecnologia/2026-05-14/
ATTACH;FMTTYPE=image/jpeg:https://guiafriburgo.com.br/wp-content/uploads/2025/10/events-bg-1.jpg
END:VEVENT
BEGIN:VEVENT
DTSTART;TZID=America/Sao_Paulo:20260515T080000
DTEND;TZID=America/Sao_Paulo:20260516T170000
DTSTAMP:20260421T144414
CREATED:20251005T193416Z
LAST-MODIFIED:20251005T193416Z
UID:10000618-1778832000-1778950800@guiafriburgo.com.br
SUMMARY:22ª Semana Nacional de Ciência e Tecnologia
DESCRIPTION:
URL:https://guiafriburgo.com.br/evento/22a-semana-nacional-de-ciencia-e-tecnologia/2026-05-15/
ATTACH;FMTTYPE=image/jpeg:https://guiafriburgo.com.br/wp-content/uploads/2025/10/events-bg-1.jpg
END:VEVENT
BEGIN:VEVENT
DTSTART;TZID=America/Sao_Paulo:20260516T080000
DTEND;TZID=America/Sao_Paulo:20260517T170000
DTSTAMP:20260421T144414
CREATED:20251005T193416Z
LAST-MODIFIED:20251005T193416Z
UID:10000619-1778918400-1779037200@guiafriburgo.com.br
SUMMARY:22ª Semana Nacional de Ciência e Tecnologia
DESCRIPTION:
URL:https://guiafriburgo.com.br/evento/22a-semana-nacional-de-ciencia-e-tecnologia/2026-05-16/
ATTACH;FMTTYPE=image/jpeg:https://guiafriburgo.com.br/wp-content/uploads/2025/10/events-bg-1.jpg
END:VEVENT
BEGIN:VEVENT
DTSTART;TZID=America/Sao_Paulo:20260517T080000
DTEND;TZID=America/Sao_Paulo:20260518T170000
DTSTAMP:20260421T144414
CREATED:20251005T193416Z
LAST-MODIFIED:20251005T193416Z
UID:10000620-1779004800-1779123600@guiafriburgo.com.br
SUMMARY:22ª Semana Nacional de Ciência e Tecnologia
DESCRIPTION:
URL:https://guiafriburgo.com.br/evento/22a-semana-nacional-de-ciencia-e-tecnologia/2026-05-17/
ATTACH;FMTTYPE=image/jpeg:https://guiafriburgo.com.br/wp-content/uploads/2025/10/events-bg-1.jpg
END:VEVENT
BEGIN:VEVENT
DTSTART;TZID=America/Sao_Paulo:20260518T080000
DTEND;TZID=America/Sao_Paulo:20260519T170000
DTSTAMP:20260421T144414
CREATED:20251005T193416Z
LAST-MODIFIED:20251005T193416Z
UID:10000621-1779091200-1779210000@guiafriburgo.com.br
SUMMARY:22ª Semana Nacional de Ciência e Tecnologia
DESCRIPTION:
URL:https://guiafriburgo.com.br/evento/22a-semana-nacional-de-ciencia-e-tecnologia/2026-05-18/
ATTACH;FMTTYPE=image/jpeg:https://guiafriburgo.com.br/wp-content/uploads/2025/10/events-bg-1.jpg
END:VEVENT
BEGIN:VEVENT
DTSTART;TZID=America/Sao_Paulo:20260519T080000
DTEND;TZID=America/Sao_Paulo:20260520T170000
DTSTAMP:20260421T144414
CREATED:20251005T193416Z
LAST-MODIFIED:20251005T193416Z
UID:10000622-1779177600-1779296400@guiafriburgo.com.br
SUMMARY:22ª Semana Nacional de Ciência e Tecnologia
DESCRIPTION:
URL:https://guiafriburgo.com.br/evento/22a-semana-nacional-de-ciencia-e-tecnologia/2026-05-19/
ATTACH;FMTTYPE=image/jpeg:https://guiafriburgo.com.br/wp-content/uploads/2025/10/events-bg-1.jpg
END:VEVENT
BEGIN:VEVENT
DTSTART;TZID=America/Sao_Paulo:20260520T080000
DTEND;TZID=America/Sao_Paulo:20260521T170000
DTSTAMP:20260421T144414
CREATED:20251005T193416Z
LAST-MODIFIED:20251005T193416Z
UID:10000623-1779264000-1779382800@guiafriburgo.com.br
SUMMARY:22ª Semana Nacional de Ciência e Tecnologia
DESCRIPTION:
URL:https://guiafriburgo.com.br/evento/22a-semana-nacional-de-ciencia-e-tecnologia/2026-05-20/
ATTACH;FMTTYPE=image/jpeg:https://guiafriburgo.com.br/wp-content/uploads/2025/10/events-bg-1.jpg
END:VEVENT
BEGIN:VEVENT
DTSTART;TZID=America/Sao_Paulo:20260521T080000
DTEND;TZID=America/Sao_Paulo:20260522T170000
DTSTAMP:20260421T144414
CREATED:20251005T193416Z
LAST-MODIFIED:20251005T193416Z
UID:10000624-1779350400-1779469200@guiafriburgo.com.br
SUMMARY:22ª Semana Nacional de Ciência e Tecnologia
DESCRIPTION:
URL:https://guiafriburgo.com.br/evento/22a-semana-nacional-de-ciencia-e-tecnologia/2026-05-21/
ATTACH;FMTTYPE=image/jpeg:https://guiafriburgo.com.br/wp-content/uploads/2025/10/events-bg-1.jpg
END:VEVENT
BEGIN:VEVENT
DTSTART;TZID=America/Sao_Paulo:20260522T080000
DTEND;TZID=America/Sao_Paulo:20260523T170000
DTSTAMP:20260421T144414
CREATED:20251005T193416Z
LAST-MODIFIED:20251005T193416Z
UID:10000625-1779436800-1779555600@guiafriburgo.com.br
SUMMARY:22ª Semana Nacional de Ciência e Tecnologia
DESCRIPTION:
URL:https://guiafriburgo.com.br/evento/22a-semana-nacional-de-ciencia-e-tecnologia/2026-05-22/
ATTACH;FMTTYPE=image/jpeg:https://guiafriburgo.com.br/wp-content/uploads/2025/10/events-bg-1.jpg
END:VEVENT
BEGIN:VEVENT
DTSTART;TZID=America/Sao_Paulo:20260523T080000
DTEND;TZID=America/Sao_Paulo:20260524T170000
DTSTAMP:20260421T144414
CREATED:20251005T193416Z
LAST-MODIFIED:20251005T193416Z
UID:10000626-1779523200-1779642000@guiafriburgo.com.br
SUMMARY:22ª Semana Nacional de Ciência e Tecnologia
DESCRIPTION:
URL:https://guiafriburgo.com.br/evento/22a-semana-nacional-de-ciencia-e-tecnologia/2026-05-23/
ATTACH;FMTTYPE=image/jpeg:https://guiafriburgo.com.br/wp-content/uploads/2025/10/events-bg-1.jpg
END:VEVENT
BEGIN:VEVENT
DTSTART;TZID=America/Sao_Paulo:20260524T080000
DTEND;TZID=America/Sao_Paulo:20260525T170000
DTSTAMP:20260421T144414
CREATED:20251005T193416Z
LAST-MODIFIED:20251005T193416Z
UID:10000627-1779609600-1779728400@guiafriburgo.com.br
SUMMARY:22ª Semana Nacional de Ciência e Tecnologia
DESCRIPTION:
URL:https://guiafriburgo.com.br/evento/22a-semana-nacional-de-ciencia-e-tecnologia/2026-05-24/
ATTACH;FMTTYPE=image/jpeg:https://guiafriburgo.com.br/wp-content/uploads/2025/10/events-bg-1.jpg
END:VEVENT
BEGIN:VEVENT
DTSTART;TZID=America/Sao_Paulo:20260525T080000
DTEND;TZID=America/Sao_Paulo:20260526T170000
DTSTAMP:20260421T144414
CREATED:20251005T193416Z
LAST-MODIFIED:20251005T193416Z
UID:10000628-1779696000-1779814800@guiafriburgo.com.br
SUMMARY:22ª Semana Nacional de Ciência e Tecnologia
DESCRIPTION:
URL:https://guiafriburgo.com.br/evento/22a-semana-nacional-de-ciencia-e-tecnologia/2026-05-25/
ATTACH;FMTTYPE=image/jpeg:https://guiafriburgo.com.br/wp-content/uploads/2025/10/events-bg-1.jpg
END:VEVENT
BEGIN:VEVENT
DTSTART;TZID=America/Sao_Paulo:20260526T080000
DTEND;TZID=America/Sao_Paulo:20260527T170000
DTSTAMP:20260421T144414
CREATED:20251005T193416Z
LAST-MODIFIED:20251005T193416Z
UID:10000629-1779782400-1779901200@guiafriburgo.com.br
SUMMARY:22ª Semana Nacional de Ciência e Tecnologia
DESCRIPTION:
URL:https://guiafriburgo.com.br/evento/22a-semana-nacional-de-ciencia-e-tecnologia/2026-05-26/
ATTACH;FMTTYPE=image/jpeg:https://guiafriburgo.com.br/wp-content/uploads/2025/10/events-bg-1.jpg
END:VEVENT
BEGIN:VEVENT
DTSTART;TZID=America/Sao_Paulo:20260527T080000
DTEND;TZID=America/Sao_Paulo:20260528T170000
DTSTAMP:20260421T144414
CREATED:20251005T193416Z
LAST-MODIFIED:20251005T193416Z
UID:10000630-1779868800-1779987600@guiafriburgo.com.br
SUMMARY:22ª Semana Nacional de Ciência e Tecnologia
DESCRIPTION:
URL:https://guiafriburgo.com.br/evento/22a-semana-nacional-de-ciencia-e-tecnologia/2026-05-27/
ATTACH;FMTTYPE=image/jpeg:https://guiafriburgo.com.br/wp-content/uploads/2025/10/events-bg-1.jpg
END:VEVENT
BEGIN:VEVENT
DTSTART;TZID=America/Sao_Paulo:20260528T080000
DTEND;TZID=America/Sao_Paulo:20260529T170000
DTSTAMP:20260421T144414
CREATED:20251005T193416Z
LAST-MODIFIED:20251005T193416Z
UID:10000631-1779955200-1780074000@guiafriburgo.com.br
SUMMARY:22ª Semana Nacional de Ciência e Tecnologia
DESCRIPTION:
URL:https://guiafriburgo.com.br/evento/22a-semana-nacional-de-ciencia-e-tecnologia/2026-05-28/
ATTACH;FMTTYPE=image/jpeg:https://guiafriburgo.com.br/wp-content/uploads/2025/10/events-bg-1.jpg
END:VEVENT
BEGIN:VEVENT
DTSTART;TZID=America/Sao_Paulo:20260529T080000
DTEND;TZID=America/Sao_Paulo:20260530T170000
DTSTAMP:20260421T144414
CREATED:20251005T193416Z
LAST-MODIFIED:20251005T193416Z
UID:10000632-1780041600-1780160400@guiafriburgo.com.br
SUMMARY:22ª Semana Nacional de Ciência e Tecnologia
DESCRIPTION:
URL:https://guiafriburgo.com.br/evento/22a-semana-nacional-de-ciencia-e-tecnologia/2026-05-29/
ATTACH;FMTTYPE=image/jpeg:https://guiafriburgo.com.br/wp-content/uploads/2025/10/events-bg-1.jpg
END:VEVENT
BEGIN:VEVENT
DTSTART;TZID=America/Sao_Paulo:20260530T080000
DTEND;TZID=America/Sao_Paulo:20260531T170000
DTSTAMP:20260421T144414
CREATED:20251005T193416Z
LAST-MODIFIED:20251005T193416Z
UID:10000633-1780128000-1780246800@guiafriburgo.com.br
SUMMARY:22ª Semana Nacional de Ciência e Tecnologia
DESCRIPTION:
URL:https://guiafriburgo.com.br/evento/22a-semana-nacional-de-ciencia-e-tecnologia/2026-05-30/
ATTACH;FMTTYPE=image/jpeg:https://guiafriburgo.com.br/wp-content/uploads/2025/10/events-bg-1.jpg
END:VEVENT
BEGIN:VEVENT
DTSTART;TZID=America/Sao_Paulo:20260531T080000
DTEND;TZID=America/Sao_Paulo:20260601T170000
DTSTAMP:20260421T144414
CREATED:20251005T193416Z
LAST-MODIFIED:20251005T193416Z
UID:10000634-1780214400-1780333200@guiafriburgo.com.br
SUMMARY:22ª Semana Nacional de Ciência e Tecnologia
DESCRIPTION:
URL:https://guiafriburgo.com.br/evento/22a-semana-nacional-de-ciencia-e-tecnologia/2026-05-31/
ATTACH;FMTTYPE=image/jpeg:https://guiafriburgo.com.br/wp-content/uploads/2025/10/events-bg-1.jpg
END:VEVENT
END:VCALENDAR