BEGIN:VCALENDAR
VERSION:2.0
PRODID:-//Guia Friburgo - ECPv6.15.11//NONSGML v1.0//EN
CALSCALE:GREGORIAN
METHOD:PUBLISH
X-ORIGINAL-URL:https://guiafriburgo.com.br
X-WR-CALDESC:Eventos para Guia Friburgo
REFRESH-INTERVAL;VALUE=DURATION:PT1H
X-Robots-Tag:noindex
X-PUBLISHED-TTL:PT1H
BEGIN:VTIMEZONE
TZID:America/Sao_Paulo
BEGIN:STANDARD
TZOFFSETFROM:-0300
TZOFFSETTO:-0300
TZNAME:-03
DTSTART:20250101T000000
END:STANDARD
END:VTIMEZONE
BEGIN:VEVENT
DTSTART;TZID=America/Sao_Paulo:20261006T080000
DTEND;TZID=America/Sao_Paulo:20261007T170000
DTSTAMP:20260422T135117
CREATED:20251005T193416Z
LAST-MODIFIED:20251005T193416Z
UID:10000762-1791273600-1791392400@guiafriburgo.com.br
SUMMARY:22ª Semana Nacional de Ciência e Tecnologia
DESCRIPTION:
URL:https://guiafriburgo.com.br/evento/22a-semana-nacional-de-ciencia-e-tecnologia/2026-10-06/
ATTACH;FMTTYPE=image/jpeg:https://guiafriburgo.com.br/wp-content/uploads/2025/10/events-bg-1.jpg
END:VEVENT
END:VCALENDAR