BEGIN:VCALENDAR
VERSION:2.0
PRODID:-//Guia Friburgo - ECPv6.15.11//NONSGML v1.0//EN
CALSCALE:GREGORIAN
METHOD:PUBLISH
X-ORIGINAL-URL:https://guiafriburgo.com.br
X-WR-CALDESC:Eventos para Guia Friburgo
REFRESH-INTERVAL;VALUE=DURATION:PT1H
X-Robots-Tag:noindex
X-PUBLISHED-TTL:PT1H
BEGIN:VTIMEZONE
TZID:America/Sao_Paulo
BEGIN:STANDARD
TZOFFSETFROM:-0300
TZOFFSETTO:-0300
TZNAME:-03
DTSTART:20250101T000000
END:STANDARD
END:VTIMEZONE
BEGIN:VEVENT
DTSTART;TZID=America/Sao_Paulo:20260925T161500
DTEND;TZID=America/Sao_Paulo:20260925T180000
DTSTAMP:20260422T100309
CREATED:20251005T200520Z
LAST-MODIFIED:20251005T200520Z
UID:10001121-1790352900-1790359200@guiafriburgo.com.br
SUMMARY:Ne Zha 2
DESCRIPTION:
URL:https://guiafriburgo.com.br/evento/ne-zha-2/2026-09-25/
CATEGORIES:Cinema
ATTACH;FMTTYPE=image/png:https://guiafriburgo.com.br/wp-content/uploads/2025/10/Ne-Zha-blog-header-image-1024x576-1.png
END:VEVENT
BEGIN:VEVENT
DTSTART;TZID=America/Sao_Paulo:20260926T161500
DTEND;TZID=America/Sao_Paulo:20260926T180000
DTSTAMP:20260422T100309
CREATED:20251005T200520Z
LAST-MODIFIED:20251005T200520Z
UID:10001122-1790439300-1790445600@guiafriburgo.com.br
SUMMARY:Ne Zha 2
DESCRIPTION:
URL:https://guiafriburgo.com.br/evento/ne-zha-2/2026-09-26/
CATEGORIES:Cinema
ATTACH;FMTTYPE=image/png:https://guiafriburgo.com.br/wp-content/uploads/2025/10/Ne-Zha-blog-header-image-1024x576-1.png
END:VEVENT
BEGIN:VEVENT
DTSTART;TZID=America/Sao_Paulo:20260927T161500
DTEND;TZID=America/Sao_Paulo:20260927T180000
DTSTAMP:20260422T100309
CREATED:20251005T200520Z
LAST-MODIFIED:20251005T200520Z
UID:10001123-1790525700-1790532000@guiafriburgo.com.br
SUMMARY:Ne Zha 2
DESCRIPTION:
URL:https://guiafriburgo.com.br/evento/ne-zha-2/2026-09-27/
CATEGORIES:Cinema
ATTACH;FMTTYPE=image/png:https://guiafriburgo.com.br/wp-content/uploads/2025/10/Ne-Zha-blog-header-image-1024x576-1.png
END:VEVENT
BEGIN:VEVENT
DTSTART;TZID=America/Sao_Paulo:20260928T161500
DTEND;TZID=America/Sao_Paulo:20260928T180000
DTSTAMP:20260422T100309
CREATED:20251005T200520Z
LAST-MODIFIED:20251005T200520Z
UID:10001124-1790612100-1790618400@guiafriburgo.com.br
SUMMARY:Ne Zha 2
DESCRIPTION:
URL:https://guiafriburgo.com.br/evento/ne-zha-2/2026-09-28/
CATEGORIES:Cinema
ATTACH;FMTTYPE=image/png:https://guiafriburgo.com.br/wp-content/uploads/2025/10/Ne-Zha-blog-header-image-1024x576-1.png
END:VEVENT
BEGIN:VEVENT
DTSTART;TZID=America/Sao_Paulo:20260929T161500
DTEND;TZID=America/Sao_Paulo:20260929T180000
DTSTAMP:20260422T100309
CREATED:20251005T200520Z
LAST-MODIFIED:20251005T200520Z
UID:10001125-1790698500-1790704800@guiafriburgo.com.br
SUMMARY:Ne Zha 2
DESCRIPTION:
URL:https://guiafriburgo.com.br/evento/ne-zha-2/2026-09-29/
CATEGORIES:Cinema
ATTACH;FMTTYPE=image/png:https://guiafriburgo.com.br/wp-content/uploads/2025/10/Ne-Zha-blog-header-image-1024x576-1.png
END:VEVENT
BEGIN:VEVENT
DTSTART;TZID=America/Sao_Paulo:20260930T161500
DTEND;TZID=America/Sao_Paulo:20260930T180000
DTSTAMP:20260422T100309
CREATED:20251005T200520Z
LAST-MODIFIED:20251005T200520Z
UID:10001126-1790784900-1790791200@guiafriburgo.com.br
SUMMARY:Ne Zha 2
DESCRIPTION:
URL:https://guiafriburgo.com.br/evento/ne-zha-2/2026-09-30/
CATEGORIES:Cinema
ATTACH;FMTTYPE=image/png:https://guiafriburgo.com.br/wp-content/uploads/2025/10/Ne-Zha-blog-header-image-1024x576-1.png
END:VEVENT
BEGIN:VEVENT
DTSTART;TZID=America/Sao_Paulo:20261001T161500
DTEND;TZID=America/Sao_Paulo:20261001T180000
DTSTAMP:20260422T100309
CREATED:20251005T200520Z
LAST-MODIFIED:20251005T200520Z
UID:10001127-1790871300-1790877600@guiafriburgo.com.br
SUMMARY:Ne Zha 2
DESCRIPTION:
URL:https://guiafriburgo.com.br/evento/ne-zha-2/2026-10-01/
CATEGORIES:Cinema
ATTACH;FMTTYPE=image/png:https://guiafriburgo.com.br/wp-content/uploads/2025/10/Ne-Zha-blog-header-image-1024x576-1.png
END:VEVENT
BEGIN:VEVENT
DTSTART;TZID=America/Sao_Paulo:20261002T161500
DTEND;TZID=America/Sao_Paulo:20261002T180000
DTSTAMP:20260422T100309
CREATED:20251005T200520Z
LAST-MODIFIED:20251005T200520Z
UID:10001128-1790957700-1790964000@guiafriburgo.com.br
SUMMARY:Ne Zha 2
DESCRIPTION:
URL:https://guiafriburgo.com.br/evento/ne-zha-2/2026-10-02/
CATEGORIES:Cinema
ATTACH;FMTTYPE=image/png:https://guiafriburgo.com.br/wp-content/uploads/2025/10/Ne-Zha-blog-header-image-1024x576-1.png
END:VEVENT
BEGIN:VEVENT
DTSTART;TZID=America/Sao_Paulo:20261003T161500
DTEND;TZID=America/Sao_Paulo:20261003T180000
DTSTAMP:20260422T100309
CREATED:20251005T200520Z
LAST-MODIFIED:20251005T200520Z
UID:10001129-1791044100-1791050400@guiafriburgo.com.br
SUMMARY:Ne Zha 2
DESCRIPTION:
URL:https://guiafriburgo.com.br/evento/ne-zha-2/2026-10-03/
CATEGORIES:Cinema
ATTACH;FMTTYPE=image/png:https://guiafriburgo.com.br/wp-content/uploads/2025/10/Ne-Zha-blog-header-image-1024x576-1.png
END:VEVENT
BEGIN:VEVENT
DTSTART;TZID=America/Sao_Paulo:20261004T161500
DTEND;TZID=America/Sao_Paulo:20261004T180000
DTSTAMP:20260422T100309
CREATED:20251005T200520Z
LAST-MODIFIED:20251005T200520Z
UID:10001130-1791130500-1791136800@guiafriburgo.com.br
SUMMARY:Ne Zha 2
DESCRIPTION:
URL:https://guiafriburgo.com.br/evento/ne-zha-2/2026-10-04/
CATEGORIES:Cinema
ATTACH;FMTTYPE=image/png:https://guiafriburgo.com.br/wp-content/uploads/2025/10/Ne-Zha-blog-header-image-1024x576-1.png
END:VEVENT
BEGIN:VEVENT
DTSTART;TZID=America/Sao_Paulo:20261005T161500
DTEND;TZID=America/Sao_Paulo:20261005T180000
DTSTAMP:20260422T100309
CREATED:20251005T200520Z
LAST-MODIFIED:20251005T200520Z
UID:10001131-1791216900-1791223200@guiafriburgo.com.br
SUMMARY:Ne Zha 2
DESCRIPTION:
URL:https://guiafriburgo.com.br/evento/ne-zha-2/2026-10-05/
CATEGORIES:Cinema
ATTACH;FMTTYPE=image/png:https://guiafriburgo.com.br/wp-content/uploads/2025/10/Ne-Zha-blog-header-image-1024x576-1.png
END:VEVENT
BEGIN:VEVENT
DTSTART;TZID=America/Sao_Paulo:20261006T161500
DTEND;TZID=America/Sao_Paulo:20261006T180000
DTSTAMP:20260422T100309
CREATED:20251005T200520Z
LAST-MODIFIED:20251005T200520Z
UID:10001132-1791303300-1791309600@guiafriburgo.com.br
SUMMARY:Ne Zha 2
DESCRIPTION:
URL:https://guiafriburgo.com.br/evento/ne-zha-2/2026-10-06/
CATEGORIES:Cinema
ATTACH;FMTTYPE=image/png:https://guiafriburgo.com.br/wp-content/uploads/2025/10/Ne-Zha-blog-header-image-1024x576-1.png
END:VEVENT
BEGIN:VEVENT
DTSTART;TZID=America/Sao_Paulo:20261007T161500
DTEND;TZID=America/Sao_Paulo:20261007T180000
DTSTAMP:20260422T100309
CREATED:20251005T200520Z
LAST-MODIFIED:20251005T200520Z
UID:10001133-1791389700-1791396000@guiafriburgo.com.br
SUMMARY:Ne Zha 2
DESCRIPTION:
URL:https://guiafriburgo.com.br/evento/ne-zha-2/2026-10-07/
CATEGORIES:Cinema
ATTACH;FMTTYPE=image/png:https://guiafriburgo.com.br/wp-content/uploads/2025/10/Ne-Zha-blog-header-image-1024x576-1.png
END:VEVENT
BEGIN:VEVENT
DTSTART;TZID=America/Sao_Paulo:20261008T161500
DTEND;TZID=America/Sao_Paulo:20261008T180000
DTSTAMP:20260422T100309
CREATED:20251005T200520Z
LAST-MODIFIED:20251005T200520Z
UID:10001134-1791476100-1791482400@guiafriburgo.com.br
SUMMARY:Ne Zha 2
DESCRIPTION:
URL:https://guiafriburgo.com.br/evento/ne-zha-2/2026-10-08/
CATEGORIES:Cinema
ATTACH;FMTTYPE=image/png:https://guiafriburgo.com.br/wp-content/uploads/2025/10/Ne-Zha-blog-header-image-1024x576-1.png
END:VEVENT
END:VCALENDAR