BEGIN:VCALENDAR
VERSION:2.0
PRODID:-//Guia Friburgo - ECPv6.15.11//NONSGML v1.0//EN
CALSCALE:GREGORIAN
METHOD:PUBLISH
X-ORIGINAL-URL:https://guiafriburgo.com.br
X-WR-CALDESC:Eventos para Guia Friburgo
REFRESH-INTERVAL;VALUE=DURATION:PT1H
X-Robots-Tag:noindex
X-PUBLISHED-TTL:PT1H
BEGIN:VTIMEZONE
TZID:America/Sao_Paulo
BEGIN:STANDARD
TZOFFSETFROM:-0300
TZOFFSETTO:-0300
TZNAME:-03
DTSTART:20250101T000000
END:STANDARD
END:VTIMEZONE
BEGIN:VEVENT
DTSTART;TZID=America/Sao_Paulo:20260912T080000
DTEND;TZID=America/Sao_Paulo:20260913T170000
DTSTAMP:20260422T103911
CREATED:20251005T193416Z
LAST-MODIFIED:20251005T193416Z
UID:10000738-1789200000-1789318800@guiafriburgo.com.br
SUMMARY:22ª Semana Nacional de Ciência e Tecnologia
DESCRIPTION:
URL:https://guiafriburgo.com.br/evento/22a-semana-nacional-de-ciencia-e-tecnologia/2026-09-12/
ATTACH;FMTTYPE=image/jpeg:https://guiafriburgo.com.br/wp-content/uploads/2025/10/events-bg-1.jpg
END:VEVENT
BEGIN:VEVENT
DTSTART;TZID=America/Sao_Paulo:20260913T080000
DTEND;TZID=America/Sao_Paulo:20260914T170000
DTSTAMP:20260422T103911
CREATED:20251005T193416Z
LAST-MODIFIED:20251005T193416Z
UID:10000739-1789286400-1789405200@guiafriburgo.com.br
SUMMARY:22ª Semana Nacional de Ciência e Tecnologia
DESCRIPTION:
URL:https://guiafriburgo.com.br/evento/22a-semana-nacional-de-ciencia-e-tecnologia/2026-09-13/
ATTACH;FMTTYPE=image/jpeg:https://guiafriburgo.com.br/wp-content/uploads/2025/10/events-bg-1.jpg
END:VEVENT
BEGIN:VEVENT
DTSTART;TZID=America/Sao_Paulo:20260914T080000
DTEND;TZID=America/Sao_Paulo:20260915T170000
DTSTAMP:20260422T103911
CREATED:20251005T193416Z
LAST-MODIFIED:20251005T193416Z
UID:10000740-1789372800-1789491600@guiafriburgo.com.br
SUMMARY:22ª Semana Nacional de Ciência e Tecnologia
DESCRIPTION:
URL:https://guiafriburgo.com.br/evento/22a-semana-nacional-de-ciencia-e-tecnologia/2026-09-14/
ATTACH;FMTTYPE=image/jpeg:https://guiafriburgo.com.br/wp-content/uploads/2025/10/events-bg-1.jpg
END:VEVENT
BEGIN:VEVENT
DTSTART;TZID=America/Sao_Paulo:20260915T080000
DTEND;TZID=America/Sao_Paulo:20260916T170000
DTSTAMP:20260422T103911
CREATED:20251005T193416Z
LAST-MODIFIED:20251005T193416Z
UID:10000741-1789459200-1789578000@guiafriburgo.com.br
SUMMARY:22ª Semana Nacional de Ciência e Tecnologia
DESCRIPTION:
URL:https://guiafriburgo.com.br/evento/22a-semana-nacional-de-ciencia-e-tecnologia/2026-09-15/
ATTACH;FMTTYPE=image/jpeg:https://guiafriburgo.com.br/wp-content/uploads/2025/10/events-bg-1.jpg
END:VEVENT
BEGIN:VEVENT
DTSTART;TZID=America/Sao_Paulo:20260916T080000
DTEND;TZID=America/Sao_Paulo:20260917T170000
DTSTAMP:20260422T103911
CREATED:20251005T193416Z
LAST-MODIFIED:20251005T193416Z
UID:10000742-1789545600-1789664400@guiafriburgo.com.br
SUMMARY:22ª Semana Nacional de Ciência e Tecnologia
DESCRIPTION:
URL:https://guiafriburgo.com.br/evento/22a-semana-nacional-de-ciencia-e-tecnologia/2026-09-16/
ATTACH;FMTTYPE=image/jpeg:https://guiafriburgo.com.br/wp-content/uploads/2025/10/events-bg-1.jpg
END:VEVENT
BEGIN:VEVENT
DTSTART;TZID=America/Sao_Paulo:20260917T080000
DTEND;TZID=America/Sao_Paulo:20260918T170000
DTSTAMP:20260422T103911
CREATED:20251005T193416Z
LAST-MODIFIED:20251005T193416Z
UID:10000743-1789632000-1789750800@guiafriburgo.com.br
SUMMARY:22ª Semana Nacional de Ciência e Tecnologia
DESCRIPTION:
URL:https://guiafriburgo.com.br/evento/22a-semana-nacional-de-ciencia-e-tecnologia/2026-09-17/
ATTACH;FMTTYPE=image/jpeg:https://guiafriburgo.com.br/wp-content/uploads/2025/10/events-bg-1.jpg
END:VEVENT
BEGIN:VEVENT
DTSTART;TZID=America/Sao_Paulo:20260918T080000
DTEND;TZID=America/Sao_Paulo:20260919T170000
DTSTAMP:20260422T103911
CREATED:20251005T193416Z
LAST-MODIFIED:20251005T193416Z
UID:10000744-1789718400-1789837200@guiafriburgo.com.br
SUMMARY:22ª Semana Nacional de Ciência e Tecnologia
DESCRIPTION:
URL:https://guiafriburgo.com.br/evento/22a-semana-nacional-de-ciencia-e-tecnologia/2026-09-18/
ATTACH;FMTTYPE=image/jpeg:https://guiafriburgo.com.br/wp-content/uploads/2025/10/events-bg-1.jpg
END:VEVENT
BEGIN:VEVENT
DTSTART;TZID=America/Sao_Paulo:20260919T080000
DTEND;TZID=America/Sao_Paulo:20260920T170000
DTSTAMP:20260422T103911
CREATED:20251005T193416Z
LAST-MODIFIED:20251005T193416Z
UID:10000745-1789804800-1789923600@guiafriburgo.com.br
SUMMARY:22ª Semana Nacional de Ciência e Tecnologia
DESCRIPTION:
URL:https://guiafriburgo.com.br/evento/22a-semana-nacional-de-ciencia-e-tecnologia/2026-09-19/
ATTACH;FMTTYPE=image/jpeg:https://guiafriburgo.com.br/wp-content/uploads/2025/10/events-bg-1.jpg
END:VEVENT
BEGIN:VEVENT
DTSTART;TZID=America/Sao_Paulo:20260920T080000
DTEND;TZID=America/Sao_Paulo:20260921T170000
DTSTAMP:20260422T103911
CREATED:20251005T193416Z
LAST-MODIFIED:20251005T193416Z
UID:10000746-1789891200-1790010000@guiafriburgo.com.br
SUMMARY:22ª Semana Nacional de Ciência e Tecnologia
DESCRIPTION:
URL:https://guiafriburgo.com.br/evento/22a-semana-nacional-de-ciencia-e-tecnologia/2026-09-20/
ATTACH;FMTTYPE=image/jpeg:https://guiafriburgo.com.br/wp-content/uploads/2025/10/events-bg-1.jpg
END:VEVENT
BEGIN:VEVENT
DTSTART;TZID=America/Sao_Paulo:20260921T080000
DTEND;TZID=America/Sao_Paulo:20260922T170000
DTSTAMP:20260422T103911
CREATED:20251005T193416Z
LAST-MODIFIED:20251005T193416Z
UID:10000747-1789977600-1790096400@guiafriburgo.com.br
SUMMARY:22ª Semana Nacional de Ciência e Tecnologia
DESCRIPTION:
URL:https://guiafriburgo.com.br/evento/22a-semana-nacional-de-ciencia-e-tecnologia/2026-09-21/
ATTACH;FMTTYPE=image/jpeg:https://guiafriburgo.com.br/wp-content/uploads/2025/10/events-bg-1.jpg
END:VEVENT
BEGIN:VEVENT
DTSTART;TZID=America/Sao_Paulo:20260922T080000
DTEND;TZID=America/Sao_Paulo:20260923T170000
DTSTAMP:20260422T103911
CREATED:20251005T193416Z
LAST-MODIFIED:20251005T193416Z
UID:10000748-1790064000-1790182800@guiafriburgo.com.br
SUMMARY:22ª Semana Nacional de Ciência e Tecnologia
DESCRIPTION:
URL:https://guiafriburgo.com.br/evento/22a-semana-nacional-de-ciencia-e-tecnologia/2026-09-22/
ATTACH;FMTTYPE=image/jpeg:https://guiafriburgo.com.br/wp-content/uploads/2025/10/events-bg-1.jpg
END:VEVENT
BEGIN:VEVENT
DTSTART;TZID=America/Sao_Paulo:20260923T080000
DTEND;TZID=America/Sao_Paulo:20260924T170000
DTSTAMP:20260422T103911
CREATED:20251005T193416Z
LAST-MODIFIED:20251005T193416Z
UID:10000749-1790150400-1790269200@guiafriburgo.com.br
SUMMARY:22ª Semana Nacional de Ciência e Tecnologia
DESCRIPTION:
URL:https://guiafriburgo.com.br/evento/22a-semana-nacional-de-ciencia-e-tecnologia/2026-09-23/
ATTACH;FMTTYPE=image/jpeg:https://guiafriburgo.com.br/wp-content/uploads/2025/10/events-bg-1.jpg
END:VEVENT
BEGIN:VEVENT
DTSTART;TZID=America/Sao_Paulo:20260924T080000
DTEND;TZID=America/Sao_Paulo:20260925T170000
DTSTAMP:20260422T103911
CREATED:20251005T193416Z
LAST-MODIFIED:20251005T193416Z
UID:10000750-1790236800-1790355600@guiafriburgo.com.br
SUMMARY:22ª Semana Nacional de Ciência e Tecnologia
DESCRIPTION:
URL:https://guiafriburgo.com.br/evento/22a-semana-nacional-de-ciencia-e-tecnologia/2026-09-24/
ATTACH;FMTTYPE=image/jpeg:https://guiafriburgo.com.br/wp-content/uploads/2025/10/events-bg-1.jpg
END:VEVENT
BEGIN:VEVENT
DTSTART;TZID=America/Sao_Paulo:20260925T080000
DTEND;TZID=America/Sao_Paulo:20260926T170000
DTSTAMP:20260422T103911
CREATED:20251005T193416Z
LAST-MODIFIED:20251005T193416Z
UID:10000751-1790323200-1790442000@guiafriburgo.com.br
SUMMARY:22ª Semana Nacional de Ciência e Tecnologia
DESCRIPTION:
URL:https://guiafriburgo.com.br/evento/22a-semana-nacional-de-ciencia-e-tecnologia/2026-09-25/
ATTACH;FMTTYPE=image/jpeg:https://guiafriburgo.com.br/wp-content/uploads/2025/10/events-bg-1.jpg
END:VEVENT
BEGIN:VEVENT
DTSTART;TZID=America/Sao_Paulo:20260926T080000
DTEND;TZID=America/Sao_Paulo:20260927T170000
DTSTAMP:20260422T103911
CREATED:20251005T193416Z
LAST-MODIFIED:20251005T193416Z
UID:10000752-1790409600-1790528400@guiafriburgo.com.br
SUMMARY:22ª Semana Nacional de Ciência e Tecnologia
DESCRIPTION:
URL:https://guiafriburgo.com.br/evento/22a-semana-nacional-de-ciencia-e-tecnologia/2026-09-26/
ATTACH;FMTTYPE=image/jpeg:https://guiafriburgo.com.br/wp-content/uploads/2025/10/events-bg-1.jpg
END:VEVENT
BEGIN:VEVENT
DTSTART;TZID=America/Sao_Paulo:20260927T080000
DTEND;TZID=America/Sao_Paulo:20260928T170000
DTSTAMP:20260422T103911
CREATED:20251005T193416Z
LAST-MODIFIED:20251005T193416Z
UID:10000753-1790496000-1790614800@guiafriburgo.com.br
SUMMARY:22ª Semana Nacional de Ciência e Tecnologia
DESCRIPTION:
URL:https://guiafriburgo.com.br/evento/22a-semana-nacional-de-ciencia-e-tecnologia/2026-09-27/
ATTACH;FMTTYPE=image/jpeg:https://guiafriburgo.com.br/wp-content/uploads/2025/10/events-bg-1.jpg
END:VEVENT
BEGIN:VEVENT
DTSTART;TZID=America/Sao_Paulo:20260928T080000
DTEND;TZID=America/Sao_Paulo:20260929T170000
DTSTAMP:20260422T103911
CREATED:20251005T193416Z
LAST-MODIFIED:20251005T193416Z
UID:10000754-1790582400-1790701200@guiafriburgo.com.br
SUMMARY:22ª Semana Nacional de Ciência e Tecnologia
DESCRIPTION:
URL:https://guiafriburgo.com.br/evento/22a-semana-nacional-de-ciencia-e-tecnologia/2026-09-28/
ATTACH;FMTTYPE=image/jpeg:https://guiafriburgo.com.br/wp-content/uploads/2025/10/events-bg-1.jpg
END:VEVENT
BEGIN:VEVENT
DTSTART;TZID=America/Sao_Paulo:20260929T080000
DTEND;TZID=America/Sao_Paulo:20260930T170000
DTSTAMP:20260422T103911
CREATED:20251005T193416Z
LAST-MODIFIED:20251005T193416Z
UID:10000755-1790668800-1790787600@guiafriburgo.com.br
SUMMARY:22ª Semana Nacional de Ciência e Tecnologia
DESCRIPTION:
URL:https://guiafriburgo.com.br/evento/22a-semana-nacional-de-ciencia-e-tecnologia/2026-09-29/
ATTACH;FMTTYPE=image/jpeg:https://guiafriburgo.com.br/wp-content/uploads/2025/10/events-bg-1.jpg
END:VEVENT
BEGIN:VEVENT
DTSTART;TZID=America/Sao_Paulo:20260930T080000
DTEND;TZID=America/Sao_Paulo:20261001T170000
DTSTAMP:20260422T103911
CREATED:20251005T193416Z
LAST-MODIFIED:20251005T193416Z
UID:10000756-1790755200-1790874000@guiafriburgo.com.br
SUMMARY:22ª Semana Nacional de Ciência e Tecnologia
DESCRIPTION:
URL:https://guiafriburgo.com.br/evento/22a-semana-nacional-de-ciencia-e-tecnologia/2026-09-30/
ATTACH;FMTTYPE=image/jpeg:https://guiafriburgo.com.br/wp-content/uploads/2025/10/events-bg-1.jpg
END:VEVENT
BEGIN:VEVENT
DTSTART;TZID=America/Sao_Paulo:20261001T080000
DTEND;TZID=America/Sao_Paulo:20261002T170000
DTSTAMP:20260422T103912
CREATED:20251005T193416Z
LAST-MODIFIED:20251005T193416Z
UID:10000757-1790841600-1790960400@guiafriburgo.com.br
SUMMARY:22ª Semana Nacional de Ciência e Tecnologia
DESCRIPTION:
URL:https://guiafriburgo.com.br/evento/22a-semana-nacional-de-ciencia-e-tecnologia/2026-10-01/
ATTACH;FMTTYPE=image/jpeg:https://guiafriburgo.com.br/wp-content/uploads/2025/10/events-bg-1.jpg
END:VEVENT
BEGIN:VEVENT
DTSTART;TZID=America/Sao_Paulo:20261002T080000
DTEND;TZID=America/Sao_Paulo:20261003T170000
DTSTAMP:20260422T103912
CREATED:20251005T193416Z
LAST-MODIFIED:20251005T193416Z
UID:10000758-1790928000-1791046800@guiafriburgo.com.br
SUMMARY:22ª Semana Nacional de Ciência e Tecnologia
DESCRIPTION:
URL:https://guiafriburgo.com.br/evento/22a-semana-nacional-de-ciencia-e-tecnologia/2026-10-02/
ATTACH;FMTTYPE=image/jpeg:https://guiafriburgo.com.br/wp-content/uploads/2025/10/events-bg-1.jpg
END:VEVENT
BEGIN:VEVENT
DTSTART;TZID=America/Sao_Paulo:20261003T080000
DTEND;TZID=America/Sao_Paulo:20261004T170000
DTSTAMP:20260422T103912
CREATED:20251005T193416Z
LAST-MODIFIED:20251005T193416Z
UID:10000759-1791014400-1791133200@guiafriburgo.com.br
SUMMARY:22ª Semana Nacional de Ciência e Tecnologia
DESCRIPTION:
URL:https://guiafriburgo.com.br/evento/22a-semana-nacional-de-ciencia-e-tecnologia/2026-10-03/
ATTACH;FMTTYPE=image/jpeg:https://guiafriburgo.com.br/wp-content/uploads/2025/10/events-bg-1.jpg
END:VEVENT
BEGIN:VEVENT
DTSTART;TZID=America/Sao_Paulo:20261004T080000
DTEND;TZID=America/Sao_Paulo:20261005T170000
DTSTAMP:20260422T103912
CREATED:20251005T193416Z
LAST-MODIFIED:20251005T193416Z
UID:10000760-1791100800-1791219600@guiafriburgo.com.br
SUMMARY:22ª Semana Nacional de Ciência e Tecnologia
DESCRIPTION:
URL:https://guiafriburgo.com.br/evento/22a-semana-nacional-de-ciencia-e-tecnologia/2026-10-04/
ATTACH;FMTTYPE=image/jpeg:https://guiafriburgo.com.br/wp-content/uploads/2025/10/events-bg-1.jpg
END:VEVENT
BEGIN:VEVENT
DTSTART;TZID=America/Sao_Paulo:20261005T080000
DTEND;TZID=America/Sao_Paulo:20261006T170000
DTSTAMP:20260422T103912
CREATED:20251005T193416Z
LAST-MODIFIED:20251005T193416Z
UID:10000761-1791187200-1791306000@guiafriburgo.com.br
SUMMARY:22ª Semana Nacional de Ciência e Tecnologia
DESCRIPTION:
URL:https://guiafriburgo.com.br/evento/22a-semana-nacional-de-ciencia-e-tecnologia/2026-10-05/
ATTACH;FMTTYPE=image/jpeg:https://guiafriburgo.com.br/wp-content/uploads/2025/10/events-bg-1.jpg
END:VEVENT
BEGIN:VEVENT
DTSTART;TZID=America/Sao_Paulo:20261006T080000
DTEND;TZID=America/Sao_Paulo:20261007T170000
DTSTAMP:20260422T103912
CREATED:20251005T193416Z
LAST-MODIFIED:20251005T193416Z
UID:10000762-1791273600-1791392400@guiafriburgo.com.br
SUMMARY:22ª Semana Nacional de Ciência e Tecnologia
DESCRIPTION:
URL:https://guiafriburgo.com.br/evento/22a-semana-nacional-de-ciencia-e-tecnologia/2026-10-06/
ATTACH;FMTTYPE=image/jpeg:https://guiafriburgo.com.br/wp-content/uploads/2025/10/events-bg-1.jpg
END:VEVENT
END:VCALENDAR