BEGIN:VCALENDAR
VERSION:2.0
PRODID:-//Guia Friburgo - ECPv6.15.11//NONSGML v1.0//EN
CALSCALE:GREGORIAN
METHOD:PUBLISH
X-WR-CALNAME:Guia Friburgo
X-ORIGINAL-URL:https://guiafriburgo.com.br
X-WR-CALDESC:Eventos para Guia Friburgo
REFRESH-INTERVAL;VALUE=DURATION:PT1H
X-Robots-Tag:noindex
X-PUBLISHED-TTL:PT1H
BEGIN:VTIMEZONE
TZID:America/Sao_Paulo
BEGIN:STANDARD
TZOFFSETFROM:-0300
TZOFFSETTO:-0300
TZNAME:-03
DTSTART:20250101T000000
END:STANDARD
END:VTIMEZONE
BEGIN:VEVENT
DTSTART;TZID=America/Sao_Paulo:20260820T161500
DTEND;TZID=America/Sao_Paulo:20260820T180000
DTSTAMP:20260422T050616
CREATED:20251005T200520Z
LAST-MODIFIED:20251005T200520Z
UID:10001085-1787242500-1787248800@guiafriburgo.com.br
SUMMARY:Ne Zha 2
DESCRIPTION:
URL:https://guiafriburgo.com.br/evento/ne-zha-2/2026-08-20/
CATEGORIES:Cinema
ATTACH;FMTTYPE=image/png:https://guiafriburgo.com.br/wp-content/uploads/2025/10/Ne-Zha-blog-header-image-1024x576-1.png
END:VEVENT
BEGIN:VEVENT
DTSTART;TZID=America/Sao_Paulo:20260821T161500
DTEND;TZID=America/Sao_Paulo:20260821T180000
DTSTAMP:20260422T050616
CREATED:20251005T200520Z
LAST-MODIFIED:20251005T200520Z
UID:10001086-1787328900-1787335200@guiafriburgo.com.br
SUMMARY:Ne Zha 2
DESCRIPTION:
URL:https://guiafriburgo.com.br/evento/ne-zha-2/2026-08-21/
CATEGORIES:Cinema
ATTACH;FMTTYPE=image/png:https://guiafriburgo.com.br/wp-content/uploads/2025/10/Ne-Zha-blog-header-image-1024x576-1.png
END:VEVENT
BEGIN:VEVENT
DTSTART;TZID=America/Sao_Paulo:20260822T161500
DTEND;TZID=America/Sao_Paulo:20260822T180000
DTSTAMP:20260422T050616
CREATED:20251005T200520Z
LAST-MODIFIED:20251005T200520Z
UID:10001087-1787415300-1787421600@guiafriburgo.com.br
SUMMARY:Ne Zha 2
DESCRIPTION:
URL:https://guiafriburgo.com.br/evento/ne-zha-2/2026-08-22/
CATEGORIES:Cinema
ATTACH;FMTTYPE=image/png:https://guiafriburgo.com.br/wp-content/uploads/2025/10/Ne-Zha-blog-header-image-1024x576-1.png
END:VEVENT
BEGIN:VEVENT
DTSTART;TZID=America/Sao_Paulo:20260823T161500
DTEND;TZID=America/Sao_Paulo:20260823T180000
DTSTAMP:20260422T050616
CREATED:20251005T200520Z
LAST-MODIFIED:20251005T200520Z
UID:10001088-1787501700-1787508000@guiafriburgo.com.br
SUMMARY:Ne Zha 2
DESCRIPTION:
URL:https://guiafriburgo.com.br/evento/ne-zha-2/2026-08-23/
CATEGORIES:Cinema
ATTACH;FMTTYPE=image/png:https://guiafriburgo.com.br/wp-content/uploads/2025/10/Ne-Zha-blog-header-image-1024x576-1.png
END:VEVENT
BEGIN:VEVENT
DTSTART;TZID=America/Sao_Paulo:20260824T161500
DTEND;TZID=America/Sao_Paulo:20260824T180000
DTSTAMP:20260422T050616
CREATED:20251005T200520Z
LAST-MODIFIED:20251005T200520Z
UID:10001089-1787588100-1787594400@guiafriburgo.com.br
SUMMARY:Ne Zha 2
DESCRIPTION:
URL:https://guiafriburgo.com.br/evento/ne-zha-2/2026-08-24/
CATEGORIES:Cinema
ATTACH;FMTTYPE=image/png:https://guiafriburgo.com.br/wp-content/uploads/2025/10/Ne-Zha-blog-header-image-1024x576-1.png
END:VEVENT
BEGIN:VEVENT
DTSTART;TZID=America/Sao_Paulo:20260825T161500
DTEND;TZID=America/Sao_Paulo:20260825T180000
DTSTAMP:20260422T050616
CREATED:20251005T200520Z
LAST-MODIFIED:20251005T200520Z
UID:10001090-1787674500-1787680800@guiafriburgo.com.br
SUMMARY:Ne Zha 2
DESCRIPTION:
URL:https://guiafriburgo.com.br/evento/ne-zha-2/2026-08-25/
CATEGORIES:Cinema
ATTACH;FMTTYPE=image/png:https://guiafriburgo.com.br/wp-content/uploads/2025/10/Ne-Zha-blog-header-image-1024x576-1.png
END:VEVENT
BEGIN:VEVENT
DTSTART;TZID=America/Sao_Paulo:20260826T161500
DTEND;TZID=America/Sao_Paulo:20260826T180000
DTSTAMP:20260422T050616
CREATED:20251005T200520Z
LAST-MODIFIED:20251005T200520Z
UID:10001091-1787760900-1787767200@guiafriburgo.com.br
SUMMARY:Ne Zha 2
DESCRIPTION:
URL:https://guiafriburgo.com.br/evento/ne-zha-2/2026-08-26/
CATEGORIES:Cinema
ATTACH;FMTTYPE=image/png:https://guiafriburgo.com.br/wp-content/uploads/2025/10/Ne-Zha-blog-header-image-1024x576-1.png
END:VEVENT
BEGIN:VEVENT
DTSTART;TZID=America/Sao_Paulo:20260827T161500
DTEND;TZID=America/Sao_Paulo:20260827T180000
DTSTAMP:20260422T050616
CREATED:20251005T200520Z
LAST-MODIFIED:20251005T200520Z
UID:10001092-1787847300-1787853600@guiafriburgo.com.br
SUMMARY:Ne Zha 2
DESCRIPTION:
URL:https://guiafriburgo.com.br/evento/ne-zha-2/2026-08-27/
CATEGORIES:Cinema
ATTACH;FMTTYPE=image/png:https://guiafriburgo.com.br/wp-content/uploads/2025/10/Ne-Zha-blog-header-image-1024x576-1.png
END:VEVENT
BEGIN:VEVENT
DTSTART;TZID=America/Sao_Paulo:20260828T161500
DTEND;TZID=America/Sao_Paulo:20260828T180000
DTSTAMP:20260422T050616
CREATED:20251005T200520Z
LAST-MODIFIED:20251005T200520Z
UID:10001093-1787933700-1787940000@guiafriburgo.com.br
SUMMARY:Ne Zha 2
DESCRIPTION:
URL:https://guiafriburgo.com.br/evento/ne-zha-2/2026-08-28/
CATEGORIES:Cinema
ATTACH;FMTTYPE=image/png:https://guiafriburgo.com.br/wp-content/uploads/2025/10/Ne-Zha-blog-header-image-1024x576-1.png
END:VEVENT
BEGIN:VEVENT
DTSTART;TZID=America/Sao_Paulo:20260829T161500
DTEND;TZID=America/Sao_Paulo:20260829T180000
DTSTAMP:20260422T050616
CREATED:20251005T200520Z
LAST-MODIFIED:20251005T200520Z
UID:10001094-1788020100-1788026400@guiafriburgo.com.br
SUMMARY:Ne Zha 2
DESCRIPTION:
URL:https://guiafriburgo.com.br/evento/ne-zha-2/2026-08-29/
CATEGORIES:Cinema
ATTACH;FMTTYPE=image/png:https://guiafriburgo.com.br/wp-content/uploads/2025/10/Ne-Zha-blog-header-image-1024x576-1.png
END:VEVENT
BEGIN:VEVENT
DTSTART;TZID=America/Sao_Paulo:20260830T161500
DTEND;TZID=America/Sao_Paulo:20260830T180000
DTSTAMP:20260422T050616
CREATED:20251005T200520Z
LAST-MODIFIED:20251005T200520Z
UID:10001095-1788106500-1788112800@guiafriburgo.com.br
SUMMARY:Ne Zha 2
DESCRIPTION:
URL:https://guiafriburgo.com.br/evento/ne-zha-2/2026-08-30/
CATEGORIES:Cinema
ATTACH;FMTTYPE=image/png:https://guiafriburgo.com.br/wp-content/uploads/2025/10/Ne-Zha-blog-header-image-1024x576-1.png
END:VEVENT
BEGIN:VEVENT
DTSTART;TZID=America/Sao_Paulo:20260831T161500
DTEND;TZID=America/Sao_Paulo:20260831T180000
DTSTAMP:20260422T050616
CREATED:20251005T200520Z
LAST-MODIFIED:20251005T200520Z
UID:10001096-1788192900-1788199200@guiafriburgo.com.br
SUMMARY:Ne Zha 2
DESCRIPTION:
URL:https://guiafriburgo.com.br/evento/ne-zha-2/2026-08-31/
CATEGORIES:Cinema
ATTACH;FMTTYPE=image/png:https://guiafriburgo.com.br/wp-content/uploads/2025/10/Ne-Zha-blog-header-image-1024x576-1.png
END:VEVENT
BEGIN:VEVENT
DTSTART;TZID=America/Sao_Paulo:20260901T161500
DTEND;TZID=America/Sao_Paulo:20260901T180000
DTSTAMP:20260422T050616
CREATED:20251005T200520Z
LAST-MODIFIED:20251005T200520Z
UID:10001097-1788279300-1788285600@guiafriburgo.com.br
SUMMARY:Ne Zha 2
DESCRIPTION:
URL:https://guiafriburgo.com.br/evento/ne-zha-2/2026-09-01/
CATEGORIES:Cinema
ATTACH;FMTTYPE=image/png:https://guiafriburgo.com.br/wp-content/uploads/2025/10/Ne-Zha-blog-header-image-1024x576-1.png
END:VEVENT
BEGIN:VEVENT
DTSTART;TZID=America/Sao_Paulo:20260902T161500
DTEND;TZID=America/Sao_Paulo:20260902T180000
DTSTAMP:20260422T050616
CREATED:20251005T200520Z
LAST-MODIFIED:20251005T200520Z
UID:10001098-1788365700-1788372000@guiafriburgo.com.br
SUMMARY:Ne Zha 2
DESCRIPTION:
URL:https://guiafriburgo.com.br/evento/ne-zha-2/2026-09-02/
CATEGORIES:Cinema
ATTACH;FMTTYPE=image/png:https://guiafriburgo.com.br/wp-content/uploads/2025/10/Ne-Zha-blog-header-image-1024x576-1.png
END:VEVENT
BEGIN:VEVENT
DTSTART;TZID=America/Sao_Paulo:20260903T161500
DTEND;TZID=America/Sao_Paulo:20260903T180000
DTSTAMP:20260422T050616
CREATED:20251005T200520Z
LAST-MODIFIED:20251005T200520Z
UID:10001099-1788452100-1788458400@guiafriburgo.com.br
SUMMARY:Ne Zha 2
DESCRIPTION:
URL:https://guiafriburgo.com.br/evento/ne-zha-2/2026-09-03/
CATEGORIES:Cinema
ATTACH;FMTTYPE=image/png:https://guiafriburgo.com.br/wp-content/uploads/2025/10/Ne-Zha-blog-header-image-1024x576-1.png
END:VEVENT
BEGIN:VEVENT
DTSTART;TZID=America/Sao_Paulo:20260904T161500
DTEND;TZID=America/Sao_Paulo:20260904T180000
DTSTAMP:20260422T050616
CREATED:20251005T200520Z
LAST-MODIFIED:20251005T200520Z
UID:10001100-1788538500-1788544800@guiafriburgo.com.br
SUMMARY:Ne Zha 2
DESCRIPTION:
URL:https://guiafriburgo.com.br/evento/ne-zha-2/2026-09-04/
CATEGORIES:Cinema
ATTACH;FMTTYPE=image/png:https://guiafriburgo.com.br/wp-content/uploads/2025/10/Ne-Zha-blog-header-image-1024x576-1.png
END:VEVENT
BEGIN:VEVENT
DTSTART;TZID=America/Sao_Paulo:20260905T161500
DTEND;TZID=America/Sao_Paulo:20260905T180000
DTSTAMP:20260422T050616
CREATED:20251005T200520Z
LAST-MODIFIED:20251005T200520Z
UID:10001101-1788624900-1788631200@guiafriburgo.com.br
SUMMARY:Ne Zha 2
DESCRIPTION:
URL:https://guiafriburgo.com.br/evento/ne-zha-2/2026-09-05/
CATEGORIES:Cinema
ATTACH;FMTTYPE=image/png:https://guiafriburgo.com.br/wp-content/uploads/2025/10/Ne-Zha-blog-header-image-1024x576-1.png
END:VEVENT
BEGIN:VEVENT
DTSTART;TZID=America/Sao_Paulo:20260906T161500
DTEND;TZID=America/Sao_Paulo:20260906T180000
DTSTAMP:20260422T050616
CREATED:20251005T200520Z
LAST-MODIFIED:20251005T200520Z
UID:10001102-1788711300-1788717600@guiafriburgo.com.br
SUMMARY:Ne Zha 2
DESCRIPTION:
URL:https://guiafriburgo.com.br/evento/ne-zha-2/2026-09-06/
CATEGORIES:Cinema
ATTACH;FMTTYPE=image/png:https://guiafriburgo.com.br/wp-content/uploads/2025/10/Ne-Zha-blog-header-image-1024x576-1.png
END:VEVENT
BEGIN:VEVENT
DTSTART;TZID=America/Sao_Paulo:20260907T161500
DTEND;TZID=America/Sao_Paulo:20260907T180000
DTSTAMP:20260422T050616
CREATED:20251005T200520Z
LAST-MODIFIED:20251005T200520Z
UID:10001103-1788797700-1788804000@guiafriburgo.com.br
SUMMARY:Ne Zha 2
DESCRIPTION:
URL:https://guiafriburgo.com.br/evento/ne-zha-2/2026-09-07/
CATEGORIES:Cinema
ATTACH;FMTTYPE=image/png:https://guiafriburgo.com.br/wp-content/uploads/2025/10/Ne-Zha-blog-header-image-1024x576-1.png
END:VEVENT
BEGIN:VEVENT
DTSTART;TZID=America/Sao_Paulo:20260908T161500
DTEND;TZID=America/Sao_Paulo:20260908T180000
DTSTAMP:20260422T050616
CREATED:20251005T200520Z
LAST-MODIFIED:20251005T200520Z
UID:10001104-1788884100-1788890400@guiafriburgo.com.br
SUMMARY:Ne Zha 2
DESCRIPTION:
URL:https://guiafriburgo.com.br/evento/ne-zha-2/2026-09-08/
CATEGORIES:Cinema
ATTACH;FMTTYPE=image/png:https://guiafriburgo.com.br/wp-content/uploads/2025/10/Ne-Zha-blog-header-image-1024x576-1.png
END:VEVENT
BEGIN:VEVENT
DTSTART;TZID=America/Sao_Paulo:20260909T161500
DTEND;TZID=America/Sao_Paulo:20260909T180000
DTSTAMP:20260422T050616
CREATED:20251005T200520Z
LAST-MODIFIED:20251005T200520Z
UID:10001105-1788970500-1788976800@guiafriburgo.com.br
SUMMARY:Ne Zha 2
DESCRIPTION:
URL:https://guiafriburgo.com.br/evento/ne-zha-2/2026-09-09/
CATEGORIES:Cinema
ATTACH;FMTTYPE=image/png:https://guiafriburgo.com.br/wp-content/uploads/2025/10/Ne-Zha-blog-header-image-1024x576-1.png
END:VEVENT
BEGIN:VEVENT
DTSTART;TZID=America/Sao_Paulo:20260910T161500
DTEND;TZID=America/Sao_Paulo:20260910T180000
DTSTAMP:20260422T050616
CREATED:20251005T200520Z
LAST-MODIFIED:20251005T200520Z
UID:10001106-1789056900-1789063200@guiafriburgo.com.br
SUMMARY:Ne Zha 2
DESCRIPTION:
URL:https://guiafriburgo.com.br/evento/ne-zha-2/2026-09-10/
CATEGORIES:Cinema
ATTACH;FMTTYPE=image/png:https://guiafriburgo.com.br/wp-content/uploads/2025/10/Ne-Zha-blog-header-image-1024x576-1.png
END:VEVENT
BEGIN:VEVENT
DTSTART;TZID=America/Sao_Paulo:20260911T161500
DTEND;TZID=America/Sao_Paulo:20260911T180000
DTSTAMP:20260422T050616
CREATED:20251005T200520Z
LAST-MODIFIED:20251005T200520Z
UID:10001107-1789143300-1789149600@guiafriburgo.com.br
SUMMARY:Ne Zha 2
DESCRIPTION:
URL:https://guiafriburgo.com.br/evento/ne-zha-2/2026-09-11/
CATEGORIES:Cinema
ATTACH;FMTTYPE=image/png:https://guiafriburgo.com.br/wp-content/uploads/2025/10/Ne-Zha-blog-header-image-1024x576-1.png
END:VEVENT
BEGIN:VEVENT
DTSTART;TZID=America/Sao_Paulo:20260912T161500
DTEND;TZID=America/Sao_Paulo:20260912T180000
DTSTAMP:20260422T050616
CREATED:20251005T200520Z
LAST-MODIFIED:20251005T200520Z
UID:10001108-1789229700-1789236000@guiafriburgo.com.br
SUMMARY:Ne Zha 2
DESCRIPTION:
URL:https://guiafriburgo.com.br/evento/ne-zha-2/2026-09-12/
CATEGORIES:Cinema
ATTACH;FMTTYPE=image/png:https://guiafriburgo.com.br/wp-content/uploads/2025/10/Ne-Zha-blog-header-image-1024x576-1.png
END:VEVENT
BEGIN:VEVENT
DTSTART;TZID=America/Sao_Paulo:20260913T161500
DTEND;TZID=America/Sao_Paulo:20260913T180000
DTSTAMP:20260422T050616
CREATED:20251005T200520Z
LAST-MODIFIED:20251005T200520Z
UID:10001109-1789316100-1789322400@guiafriburgo.com.br
SUMMARY:Ne Zha 2
DESCRIPTION:
URL:https://guiafriburgo.com.br/evento/ne-zha-2/2026-09-13/
CATEGORIES:Cinema
ATTACH;FMTTYPE=image/png:https://guiafriburgo.com.br/wp-content/uploads/2025/10/Ne-Zha-blog-header-image-1024x576-1.png
END:VEVENT
BEGIN:VEVENT
DTSTART;TZID=America/Sao_Paulo:20260914T161500
DTEND;TZID=America/Sao_Paulo:20260914T180000
DTSTAMP:20260422T050616
CREATED:20251005T200520Z
LAST-MODIFIED:20251005T200520Z
UID:10001110-1789402500-1789408800@guiafriburgo.com.br
SUMMARY:Ne Zha 2
DESCRIPTION:
URL:https://guiafriburgo.com.br/evento/ne-zha-2/2026-09-14/
CATEGORIES:Cinema
ATTACH;FMTTYPE=image/png:https://guiafriburgo.com.br/wp-content/uploads/2025/10/Ne-Zha-blog-header-image-1024x576-1.png
END:VEVENT
BEGIN:VEVENT
DTSTART;TZID=America/Sao_Paulo:20260915T161500
DTEND;TZID=America/Sao_Paulo:20260915T180000
DTSTAMP:20260422T050616
CREATED:20251005T200520Z
LAST-MODIFIED:20251005T200520Z
UID:10001111-1789488900-1789495200@guiafriburgo.com.br
SUMMARY:Ne Zha 2
DESCRIPTION:
URL:https://guiafriburgo.com.br/evento/ne-zha-2/2026-09-15/
CATEGORIES:Cinema
ATTACH;FMTTYPE=image/png:https://guiafriburgo.com.br/wp-content/uploads/2025/10/Ne-Zha-blog-header-image-1024x576-1.png
END:VEVENT
BEGIN:VEVENT
DTSTART;TZID=America/Sao_Paulo:20260916T161500
DTEND;TZID=America/Sao_Paulo:20260916T180000
DTSTAMP:20260422T050616
CREATED:20251005T200520Z
LAST-MODIFIED:20251005T200520Z
UID:10001112-1789575300-1789581600@guiafriburgo.com.br
SUMMARY:Ne Zha 2
DESCRIPTION:
URL:https://guiafriburgo.com.br/evento/ne-zha-2/2026-09-16/
CATEGORIES:Cinema
ATTACH;FMTTYPE=image/png:https://guiafriburgo.com.br/wp-content/uploads/2025/10/Ne-Zha-blog-header-image-1024x576-1.png
END:VEVENT
BEGIN:VEVENT
DTSTART;TZID=America/Sao_Paulo:20260917T161500
DTEND;TZID=America/Sao_Paulo:20260917T180000
DTSTAMP:20260422T050616
CREATED:20251005T200520Z
LAST-MODIFIED:20251005T200520Z
UID:10001113-1789661700-1789668000@guiafriburgo.com.br
SUMMARY:Ne Zha 2
DESCRIPTION:
URL:https://guiafriburgo.com.br/evento/ne-zha-2/2026-09-17/
CATEGORIES:Cinema
ATTACH;FMTTYPE=image/png:https://guiafriburgo.com.br/wp-content/uploads/2025/10/Ne-Zha-blog-header-image-1024x576-1.png
END:VEVENT
BEGIN:VEVENT
DTSTART;TZID=America/Sao_Paulo:20260918T161500
DTEND;TZID=America/Sao_Paulo:20260918T180000
DTSTAMP:20260422T050616
CREATED:20251005T200520Z
LAST-MODIFIED:20251005T200520Z
UID:10001114-1789748100-1789754400@guiafriburgo.com.br
SUMMARY:Ne Zha 2
DESCRIPTION:
URL:https://guiafriburgo.com.br/evento/ne-zha-2/2026-09-18/
CATEGORIES:Cinema
ATTACH;FMTTYPE=image/png:https://guiafriburgo.com.br/wp-content/uploads/2025/10/Ne-Zha-blog-header-image-1024x576-1.png
END:VEVENT
END:VCALENDAR