BEGIN:VCALENDAR
VERSION:2.0
PRODID:-//Guia Friburgo - ECPv6.15.11//NONSGML v1.0//EN
CALSCALE:GREGORIAN
METHOD:PUBLISH
X-ORIGINAL-URL:https://guiafriburgo.com.br
X-WR-CALDESC:Eventos para Guia Friburgo
REFRESH-INTERVAL;VALUE=DURATION:PT1H
X-Robots-Tag:noindex
X-PUBLISHED-TTL:PT1H
BEGIN:VTIMEZONE
TZID:America/Sao_Paulo
BEGIN:STANDARD
TZOFFSETFROM:-0300
TZOFFSETTO:-0300
TZNAME:-03
DTSTART:20250101T000000
END:STANDARD
END:VTIMEZONE
BEGIN:VEVENT
DTSTART;TZID=America/Sao_Paulo:20260421T161500
DTEND;TZID=America/Sao_Paulo:20260421T180000
DTSTAMP:20260421T104117
CREATED:20251005T200520Z
LAST-MODIFIED:20251005T200520Z
UID:10000964-1776788100-1776794400@guiafriburgo.com.br
SUMMARY:Ne Zha 2
DESCRIPTION:
URL:https://guiafriburgo.com.br/evento/ne-zha-2/2026-04-21/
CATEGORIES:Cinema
ATTACH;FMTTYPE=image/png:https://guiafriburgo.com.br/wp-content/uploads/2025/10/Ne-Zha-blog-header-image-1024x576-1.png
END:VEVENT
BEGIN:VEVENT
DTSTART;TZID=America/Sao_Paulo:20260422T161500
DTEND;TZID=America/Sao_Paulo:20260422T180000
DTSTAMP:20260421T104117
CREATED:20251005T200520Z
LAST-MODIFIED:20251005T200520Z
UID:10000965-1776874500-1776880800@guiafriburgo.com.br
SUMMARY:Ne Zha 2
DESCRIPTION:
URL:https://guiafriburgo.com.br/evento/ne-zha-2/2026-04-22/
CATEGORIES:Cinema
ATTACH;FMTTYPE=image/png:https://guiafriburgo.com.br/wp-content/uploads/2025/10/Ne-Zha-blog-header-image-1024x576-1.png
END:VEVENT
BEGIN:VEVENT
DTSTART;TZID=America/Sao_Paulo:20260423T161500
DTEND;TZID=America/Sao_Paulo:20260423T180000
DTSTAMP:20260421T104117
CREATED:20251005T200520Z
LAST-MODIFIED:20251005T200520Z
UID:10000966-1776960900-1776967200@guiafriburgo.com.br
SUMMARY:Ne Zha 2
DESCRIPTION:
URL:https://guiafriburgo.com.br/evento/ne-zha-2/2026-04-23/
CATEGORIES:Cinema
ATTACH;FMTTYPE=image/png:https://guiafriburgo.com.br/wp-content/uploads/2025/10/Ne-Zha-blog-header-image-1024x576-1.png
END:VEVENT
BEGIN:VEVENT
DTSTART;TZID=America/Sao_Paulo:20260424T161500
DTEND;TZID=America/Sao_Paulo:20260424T180000
DTSTAMP:20260421T104117
CREATED:20251005T200520Z
LAST-MODIFIED:20251005T200520Z
UID:10000967-1777047300-1777053600@guiafriburgo.com.br
SUMMARY:Ne Zha 2
DESCRIPTION:
URL:https://guiafriburgo.com.br/evento/ne-zha-2/2026-04-24/
CATEGORIES:Cinema
ATTACH;FMTTYPE=image/png:https://guiafriburgo.com.br/wp-content/uploads/2025/10/Ne-Zha-blog-header-image-1024x576-1.png
END:VEVENT
BEGIN:VEVENT
DTSTART;TZID=America/Sao_Paulo:20260425T161500
DTEND;TZID=America/Sao_Paulo:20260425T180000
DTSTAMP:20260421T104117
CREATED:20251005T200520Z
LAST-MODIFIED:20251005T200520Z
UID:10000968-1777133700-1777140000@guiafriburgo.com.br
SUMMARY:Ne Zha 2
DESCRIPTION:
URL:https://guiafriburgo.com.br/evento/ne-zha-2/2026-04-25/
CATEGORIES:Cinema
ATTACH;FMTTYPE=image/png:https://guiafriburgo.com.br/wp-content/uploads/2025/10/Ne-Zha-blog-header-image-1024x576-1.png
END:VEVENT
BEGIN:VEVENT
DTSTART;TZID=America/Sao_Paulo:20260426T161500
DTEND;TZID=America/Sao_Paulo:20260426T180000
DTSTAMP:20260421T104117
CREATED:20251005T200520Z
LAST-MODIFIED:20251005T200520Z
UID:10000969-1777220100-1777226400@guiafriburgo.com.br
SUMMARY:Ne Zha 2
DESCRIPTION:
URL:https://guiafriburgo.com.br/evento/ne-zha-2/2026-04-26/
CATEGORIES:Cinema
ATTACH;FMTTYPE=image/png:https://guiafriburgo.com.br/wp-content/uploads/2025/10/Ne-Zha-blog-header-image-1024x576-1.png
END:VEVENT
BEGIN:VEVENT
DTSTART;TZID=America/Sao_Paulo:20260427T161500
DTEND;TZID=America/Sao_Paulo:20260427T180000
DTSTAMP:20260421T104117
CREATED:20251005T200520Z
LAST-MODIFIED:20251005T200520Z
UID:10000970-1777306500-1777312800@guiafriburgo.com.br
SUMMARY:Ne Zha 2
DESCRIPTION:
URL:https://guiafriburgo.com.br/evento/ne-zha-2/2026-04-27/
CATEGORIES:Cinema
ATTACH;FMTTYPE=image/png:https://guiafriburgo.com.br/wp-content/uploads/2025/10/Ne-Zha-blog-header-image-1024x576-1.png
END:VEVENT
BEGIN:VEVENT
DTSTART;TZID=America/Sao_Paulo:20260428T161500
DTEND;TZID=America/Sao_Paulo:20260428T180000
DTSTAMP:20260421T104117
CREATED:20251005T200520Z
LAST-MODIFIED:20251005T200520Z
UID:10000971-1777392900-1777399200@guiafriburgo.com.br
SUMMARY:Ne Zha 2
DESCRIPTION:
URL:https://guiafriburgo.com.br/evento/ne-zha-2/2026-04-28/
CATEGORIES:Cinema
ATTACH;FMTTYPE=image/png:https://guiafriburgo.com.br/wp-content/uploads/2025/10/Ne-Zha-blog-header-image-1024x576-1.png
END:VEVENT
BEGIN:VEVENT
DTSTART;TZID=America/Sao_Paulo:20260429T161500
DTEND;TZID=America/Sao_Paulo:20260429T180000
DTSTAMP:20260421T104117
CREATED:20251005T200520Z
LAST-MODIFIED:20251005T200520Z
UID:10000972-1777479300-1777485600@guiafriburgo.com.br
SUMMARY:Ne Zha 2
DESCRIPTION:
URL:https://guiafriburgo.com.br/evento/ne-zha-2/2026-04-29/
CATEGORIES:Cinema
ATTACH;FMTTYPE=image/png:https://guiafriburgo.com.br/wp-content/uploads/2025/10/Ne-Zha-blog-header-image-1024x576-1.png
END:VEVENT
BEGIN:VEVENT
DTSTART;TZID=America/Sao_Paulo:20260430T161500
DTEND;TZID=America/Sao_Paulo:20260430T180000
DTSTAMP:20260421T104117
CREATED:20251005T200520Z
LAST-MODIFIED:20251005T200520Z
UID:10000973-1777565700-1777572000@guiafriburgo.com.br
SUMMARY:Ne Zha 2
DESCRIPTION:
URL:https://guiafriburgo.com.br/evento/ne-zha-2/2026-04-30/
CATEGORIES:Cinema
ATTACH;FMTTYPE=image/png:https://guiafriburgo.com.br/wp-content/uploads/2025/10/Ne-Zha-blog-header-image-1024x576-1.png
END:VEVENT
BEGIN:VEVENT
DTSTART;TZID=America/Sao_Paulo:20260501T161500
DTEND;TZID=America/Sao_Paulo:20260501T180000
DTSTAMP:20260421T104117
CREATED:20251005T200520Z
LAST-MODIFIED:20251005T200520Z
UID:10000974-1777652100-1777658400@guiafriburgo.com.br
SUMMARY:Ne Zha 2
DESCRIPTION:
URL:https://guiafriburgo.com.br/evento/ne-zha-2/2026-05-01/
CATEGORIES:Cinema
ATTACH;FMTTYPE=image/png:https://guiafriburgo.com.br/wp-content/uploads/2025/10/Ne-Zha-blog-header-image-1024x576-1.png
END:VEVENT
BEGIN:VEVENT
DTSTART;TZID=America/Sao_Paulo:20260502T161500
DTEND;TZID=America/Sao_Paulo:20260502T180000
DTSTAMP:20260421T104117
CREATED:20251005T200520Z
LAST-MODIFIED:20251005T200520Z
UID:10000975-1777738500-1777744800@guiafriburgo.com.br
SUMMARY:Ne Zha 2
DESCRIPTION:
URL:https://guiafriburgo.com.br/evento/ne-zha-2/2026-05-02/
CATEGORIES:Cinema
ATTACH;FMTTYPE=image/png:https://guiafriburgo.com.br/wp-content/uploads/2025/10/Ne-Zha-blog-header-image-1024x576-1.png
END:VEVENT
BEGIN:VEVENT
DTSTART;TZID=America/Sao_Paulo:20260503T161500
DTEND;TZID=America/Sao_Paulo:20260503T180000
DTSTAMP:20260421T104117
CREATED:20251005T200520Z
LAST-MODIFIED:20251005T200520Z
UID:10000976-1777824900-1777831200@guiafriburgo.com.br
SUMMARY:Ne Zha 2
DESCRIPTION:
URL:https://guiafriburgo.com.br/evento/ne-zha-2/2026-05-03/
CATEGORIES:Cinema
ATTACH;FMTTYPE=image/png:https://guiafriburgo.com.br/wp-content/uploads/2025/10/Ne-Zha-blog-header-image-1024x576-1.png
END:VEVENT
BEGIN:VEVENT
DTSTART;TZID=America/Sao_Paulo:20260504T161500
DTEND;TZID=America/Sao_Paulo:20260504T180000
DTSTAMP:20260421T104117
CREATED:20251005T200520Z
LAST-MODIFIED:20251005T200520Z
UID:10000977-1777911300-1777917600@guiafriburgo.com.br
SUMMARY:Ne Zha 2
DESCRIPTION:
URL:https://guiafriburgo.com.br/evento/ne-zha-2/2026-05-04/
CATEGORIES:Cinema
ATTACH;FMTTYPE=image/png:https://guiafriburgo.com.br/wp-content/uploads/2025/10/Ne-Zha-blog-header-image-1024x576-1.png
END:VEVENT
BEGIN:VEVENT
DTSTART;TZID=America/Sao_Paulo:20260505T161500
DTEND;TZID=America/Sao_Paulo:20260505T180000
DTSTAMP:20260421T104117
CREATED:20251005T200520Z
LAST-MODIFIED:20251005T200520Z
UID:10000978-1777997700-1778004000@guiafriburgo.com.br
SUMMARY:Ne Zha 2
DESCRIPTION:
URL:https://guiafriburgo.com.br/evento/ne-zha-2/2026-05-05/
CATEGORIES:Cinema
ATTACH;FMTTYPE=image/png:https://guiafriburgo.com.br/wp-content/uploads/2025/10/Ne-Zha-blog-header-image-1024x576-1.png
END:VEVENT
BEGIN:VEVENT
DTSTART;TZID=America/Sao_Paulo:20260506T161500
DTEND;TZID=America/Sao_Paulo:20260506T180000
DTSTAMP:20260421T104117
CREATED:20251005T200520Z
LAST-MODIFIED:20251005T200520Z
UID:10000979-1778084100-1778090400@guiafriburgo.com.br
SUMMARY:Ne Zha 2
DESCRIPTION:
URL:https://guiafriburgo.com.br/evento/ne-zha-2/2026-05-06/
CATEGORIES:Cinema
ATTACH;FMTTYPE=image/png:https://guiafriburgo.com.br/wp-content/uploads/2025/10/Ne-Zha-blog-header-image-1024x576-1.png
END:VEVENT
BEGIN:VEVENT
DTSTART;TZID=America/Sao_Paulo:20260507T161500
DTEND;TZID=America/Sao_Paulo:20260507T180000
DTSTAMP:20260421T104117
CREATED:20251005T200520Z
LAST-MODIFIED:20251005T200520Z
UID:10000980-1778170500-1778176800@guiafriburgo.com.br
SUMMARY:Ne Zha 2
DESCRIPTION:
URL:https://guiafriburgo.com.br/evento/ne-zha-2/2026-05-07/
CATEGORIES:Cinema
ATTACH;FMTTYPE=image/png:https://guiafriburgo.com.br/wp-content/uploads/2025/10/Ne-Zha-blog-header-image-1024x576-1.png
END:VEVENT
BEGIN:VEVENT
DTSTART;TZID=America/Sao_Paulo:20260508T161500
DTEND;TZID=America/Sao_Paulo:20260508T180000
DTSTAMP:20260421T104117
CREATED:20251005T200520Z
LAST-MODIFIED:20251005T200520Z
UID:10000981-1778256900-1778263200@guiafriburgo.com.br
SUMMARY:Ne Zha 2
DESCRIPTION:
URL:https://guiafriburgo.com.br/evento/ne-zha-2/2026-05-08/
CATEGORIES:Cinema
ATTACH;FMTTYPE=image/png:https://guiafriburgo.com.br/wp-content/uploads/2025/10/Ne-Zha-blog-header-image-1024x576-1.png
END:VEVENT
BEGIN:VEVENT
DTSTART;TZID=America/Sao_Paulo:20260509T161500
DTEND;TZID=America/Sao_Paulo:20260509T180000
DTSTAMP:20260421T104117
CREATED:20251005T200520Z
LAST-MODIFIED:20251005T200520Z
UID:10000982-1778343300-1778349600@guiafriburgo.com.br
SUMMARY:Ne Zha 2
DESCRIPTION:
URL:https://guiafriburgo.com.br/evento/ne-zha-2/2026-05-09/
CATEGORIES:Cinema
ATTACH;FMTTYPE=image/png:https://guiafriburgo.com.br/wp-content/uploads/2025/10/Ne-Zha-blog-header-image-1024x576-1.png
END:VEVENT
BEGIN:VEVENT
DTSTART;TZID=America/Sao_Paulo:20260510T161500
DTEND;TZID=America/Sao_Paulo:20260510T180000
DTSTAMP:20260421T104117
CREATED:20251005T200520Z
LAST-MODIFIED:20251005T200520Z
UID:10000983-1778429700-1778436000@guiafriburgo.com.br
SUMMARY:Ne Zha 2
DESCRIPTION:
URL:https://guiafriburgo.com.br/evento/ne-zha-2/2026-05-10/
CATEGORIES:Cinema
ATTACH;FMTTYPE=image/png:https://guiafriburgo.com.br/wp-content/uploads/2025/10/Ne-Zha-blog-header-image-1024x576-1.png
END:VEVENT
BEGIN:VEVENT
DTSTART;TZID=America/Sao_Paulo:20260511T161500
DTEND;TZID=America/Sao_Paulo:20260511T180000
DTSTAMP:20260421T104117
CREATED:20251005T200520Z
LAST-MODIFIED:20251005T200520Z
UID:10000984-1778516100-1778522400@guiafriburgo.com.br
SUMMARY:Ne Zha 2
DESCRIPTION:
URL:https://guiafriburgo.com.br/evento/ne-zha-2/2026-05-11/
CATEGORIES:Cinema
ATTACH;FMTTYPE=image/png:https://guiafriburgo.com.br/wp-content/uploads/2025/10/Ne-Zha-blog-header-image-1024x576-1.png
END:VEVENT
BEGIN:VEVENT
DTSTART;TZID=America/Sao_Paulo:20260512T161500
DTEND;TZID=America/Sao_Paulo:20260512T180000
DTSTAMP:20260421T104117
CREATED:20251005T200520Z
LAST-MODIFIED:20251005T200520Z
UID:10000985-1778602500-1778608800@guiafriburgo.com.br
SUMMARY:Ne Zha 2
DESCRIPTION:
URL:https://guiafriburgo.com.br/evento/ne-zha-2/2026-05-12/
CATEGORIES:Cinema
ATTACH;FMTTYPE=image/png:https://guiafriburgo.com.br/wp-content/uploads/2025/10/Ne-Zha-blog-header-image-1024x576-1.png
END:VEVENT
BEGIN:VEVENT
DTSTART;TZID=America/Sao_Paulo:20260513T161500
DTEND;TZID=America/Sao_Paulo:20260513T180000
DTSTAMP:20260421T104117
CREATED:20251005T200520Z
LAST-MODIFIED:20251005T200520Z
UID:10000986-1778688900-1778695200@guiafriburgo.com.br
SUMMARY:Ne Zha 2
DESCRIPTION:
URL:https://guiafriburgo.com.br/evento/ne-zha-2/2026-05-13/
CATEGORIES:Cinema
ATTACH;FMTTYPE=image/png:https://guiafriburgo.com.br/wp-content/uploads/2025/10/Ne-Zha-blog-header-image-1024x576-1.png
END:VEVENT
BEGIN:VEVENT
DTSTART;TZID=America/Sao_Paulo:20260514T161500
DTEND;TZID=America/Sao_Paulo:20260514T180000
DTSTAMP:20260421T104117
CREATED:20251005T200520Z
LAST-MODIFIED:20251005T200520Z
UID:10000987-1778775300-1778781600@guiafriburgo.com.br
SUMMARY:Ne Zha 2
DESCRIPTION:
URL:https://guiafriburgo.com.br/evento/ne-zha-2/2026-05-14/
CATEGORIES:Cinema
ATTACH;FMTTYPE=image/png:https://guiafriburgo.com.br/wp-content/uploads/2025/10/Ne-Zha-blog-header-image-1024x576-1.png
END:VEVENT
BEGIN:VEVENT
DTSTART;TZID=America/Sao_Paulo:20260515T161500
DTEND;TZID=America/Sao_Paulo:20260515T180000
DTSTAMP:20260421T104117
CREATED:20251005T200520Z
LAST-MODIFIED:20251005T200520Z
UID:10000988-1778861700-1778868000@guiafriburgo.com.br
SUMMARY:Ne Zha 2
DESCRIPTION:
URL:https://guiafriburgo.com.br/evento/ne-zha-2/2026-05-15/
CATEGORIES:Cinema
ATTACH;FMTTYPE=image/png:https://guiafriburgo.com.br/wp-content/uploads/2025/10/Ne-Zha-blog-header-image-1024x576-1.png
END:VEVENT
BEGIN:VEVENT
DTSTART;TZID=America/Sao_Paulo:20260516T161500
DTEND;TZID=America/Sao_Paulo:20260516T180000
DTSTAMP:20260421T104117
CREATED:20251005T200520Z
LAST-MODIFIED:20251005T200520Z
UID:10000989-1778948100-1778954400@guiafriburgo.com.br
SUMMARY:Ne Zha 2
DESCRIPTION:
URL:https://guiafriburgo.com.br/evento/ne-zha-2/2026-05-16/
CATEGORIES:Cinema
ATTACH;FMTTYPE=image/png:https://guiafriburgo.com.br/wp-content/uploads/2025/10/Ne-Zha-blog-header-image-1024x576-1.png
END:VEVENT
BEGIN:VEVENT
DTSTART;TZID=America/Sao_Paulo:20260517T161500
DTEND;TZID=America/Sao_Paulo:20260517T180000
DTSTAMP:20260421T104117
CREATED:20251005T200520Z
LAST-MODIFIED:20251005T200520Z
UID:10000990-1779034500-1779040800@guiafriburgo.com.br
SUMMARY:Ne Zha 2
DESCRIPTION:
URL:https://guiafriburgo.com.br/evento/ne-zha-2/2026-05-17/
CATEGORIES:Cinema
ATTACH;FMTTYPE=image/png:https://guiafriburgo.com.br/wp-content/uploads/2025/10/Ne-Zha-blog-header-image-1024x576-1.png
END:VEVENT
BEGIN:VEVENT
DTSTART;TZID=America/Sao_Paulo:20260518T161500
DTEND;TZID=America/Sao_Paulo:20260518T180000
DTSTAMP:20260421T104117
CREATED:20251005T200520Z
LAST-MODIFIED:20251005T200520Z
UID:10000991-1779120900-1779127200@guiafriburgo.com.br
SUMMARY:Ne Zha 2
DESCRIPTION:
URL:https://guiafriburgo.com.br/evento/ne-zha-2/2026-05-18/
CATEGORIES:Cinema
ATTACH;FMTTYPE=image/png:https://guiafriburgo.com.br/wp-content/uploads/2025/10/Ne-Zha-blog-header-image-1024x576-1.png
END:VEVENT
BEGIN:VEVENT
DTSTART;TZID=America/Sao_Paulo:20260519T161500
DTEND;TZID=America/Sao_Paulo:20260519T180000
DTSTAMP:20260421T104117
CREATED:20251005T200520Z
LAST-MODIFIED:20251005T200520Z
UID:10000992-1779207300-1779213600@guiafriburgo.com.br
SUMMARY:Ne Zha 2
DESCRIPTION:
URL:https://guiafriburgo.com.br/evento/ne-zha-2/2026-05-19/
CATEGORIES:Cinema
ATTACH;FMTTYPE=image/png:https://guiafriburgo.com.br/wp-content/uploads/2025/10/Ne-Zha-blog-header-image-1024x576-1.png
END:VEVENT
BEGIN:VEVENT
DTSTART;TZID=America/Sao_Paulo:20260520T161500
DTEND;TZID=America/Sao_Paulo:20260520T180000
DTSTAMP:20260421T104117
CREATED:20251005T200520Z
LAST-MODIFIED:20251005T200520Z
UID:10000993-1779293700-1779300000@guiafriburgo.com.br
SUMMARY:Ne Zha 2
DESCRIPTION:
URL:https://guiafriburgo.com.br/evento/ne-zha-2/2026-05-20/
CATEGORIES:Cinema
ATTACH;FMTTYPE=image/png:https://guiafriburgo.com.br/wp-content/uploads/2025/10/Ne-Zha-blog-header-image-1024x576-1.png
END:VEVENT
END:VCALENDAR